BEGIN:VCALENDAR
VERSION:2.0
PRODID:-//https://techplay.jp//JP
CALSCALE:GREGORIAN
METHOD:PUBLISH
X-WR-CALDESC:【満席】In-house SEO seminar 新任SEO担当者のため
 のやさしいSEO入門
X-WR-CALNAME:【満席】In-house SEO seminar 新任SEO担当者のため
 のやさしいSEO入門
X-WR-TIMEZONE:Asia/Tokyo
BEGIN:VTIMEZONE
TZID:Asia/Tokyo
BEGIN:STANDARD
DTSTART:19700101T000000
TZOFFSETFROM:+0900
TZOFFSETTO:+0900
TZNAME:JST
END:STANDARD
END:VTIMEZONE
BEGIN:VEVENT
UID:726403@techplay.jp
SUMMARY:【満席】In-house SEO seminar 新任SEO担当者のためのや
 さしいSEO入門
DTSTART;TZID=Asia/Tokyo:20190425T160000
DTEND;TZID=Asia/Tokyo:20190425T173000
DTSTAMP:20260421T015912Z
CREATED:20190403T132339Z
DESCRIPTION:イベント詳細はこちら\nhttps://techplay.jp/event/72640
 3?utm_medium=referral&utm_source=ics&utm_campaign=ics\n\n※恐れ入り
 ますが、当セミナーは満席のためキャンセル待ちの状
 況です。いよいよスタートする2019年度。\n\n世界中の
 大規模サイト500社以上に導入いただいているSEOツール
 『DemandMetrics（ディマンドメトリックス）』を提供して
 いる弊社ではSEOに関わるイベントをたびたび実施して
 いますが、\n\nきたる2019/4/25(木)、"この春はじめて自社
 のSEO担当者になった方" を対象とした「インハウスSEO
 入門セミナー」を開催することになりました！\n\n \n▼
 こんな方におすすめ\n自社のSEO担当になったばかりの
 みなさま\n・OJTスタイルなのでSEOを基礎から体系立て
 て学べる機会が少ない\n・SEO業務を引き継いだものの
 どの施策の優先順位が高いのかピンときていない\n・Go
 ogleAnalyticsなどの分析ツールやSEOツールをうまく使いこ
 なせていない etc.\n\n\n\n \n▼セミナー内容\nSEOの基礎か
 らトレンド、さらには現場ですぐに活用できるノウハ
 ウまで……\n弊社のトップコンサルタントが二部構成
 でお話しします！\n\n第一部：SEOの基礎知識とおさえる
 べきトレンド\n・SEOの基本\n・検索順位の決定要因「サ
 イト構造」「コンテンツ」「外部リンク」\n・Googleの
 進化とSEOの最新トレンド\n\n第二部：インハウスSEO業務
 を加速させるポイント\n・インハウスSEO担当者に求め
 られるスキルとは\n・まず取り組むべきSEOの基本セッ
 トアップ\n・キーワードマーケティングで組織を動か
 す方法\n\n \n▼講師紹介\n第一部：DemandMarkets株式会社　
 Platform Specialist 黒瀬 淳一\n筑波大学第三学群社会工学
 類卒業、神戸大学大学院経済学研究科を終了後、ラン
 ディングページ最適化、入力フォーム最適化ソリュー
 ションを提供する株式会社アクシイズで取締役を務め
 、その後、複数企業にて事業開発、営業マネージャー
 の経験を経て、DemandMarkets株式会社入社。\n\n第二部：De
 mandMarkets株式会社　Platform Growth Manager 室屋 武尊\nグロ
 ーバル企業を中心にデジタルマーケティングをリード
 。英国ユニコーン企業 Farfetchでは、シニアマーケター
 として日本におけるグロースに従事。2019年、LVMHグル
 ープを経てDemandMarkets株式会社に参画。DemandMetricsユー
 ザーとして豊富な経験を持ち、2018年にはSEO Driven Confere
 nceにて成功事例を発表した。\n\n \n▼セミナー概要\n日
 時　：2019/4/25(木)16:00-17:30（受付15:30-）\n会場　：Global 
 Business Hub Tokyo セントラルフィールド（下記詳細）参加
 費：無料\n定員　：60名\nイベント終了後には懇親会の
 時間もご用意いたします。軽食とドリンクをご提供し
 ますので、ぜひご参加ください。\n\n※インハウスSEOに
 関する勉強会のため、SEO同業社様ならびに個人事業主
 の方のご参加はご遠慮いただいております。予めご了
 承くださいませ。\n\n \n▼セミナー会場\n〒100-0004 東京
 都千代田区大手町1丁目9-2\n大手町フィナンシャルシテ
 ィグランキューブ3階Global Business Hub Tokyo（GoogleMapで表
 示） セントラルフィールド大手町駅・東京駅から地下
 通路よりダイレクトにアクセスいただけます。\n\n\n運
 営会社：DemandMarkets株式会社\nSEO・コンテンツマーケテ
 ィングで必要な全てのデータを集約し可視化する『Dema
 ndMetrics』を提供。リクルート・楽天・GREEをはじめ、世
 界各国500社以上に導入いただいています。
LOCATION:Global Business Hub Tokyo 〒100-0004 東京都千代田区大手
 町1丁目9-2 大手町フィナンシャルシティグランキュー
 ブ3階
URL:https://techplay.jp/event/726403?utm_medium=referral&utm_source=ics&utm
 _campaign=ics
END:VEVENT
END:VCALENDAR
