BEGIN:VCALENDAR
VERSION:2.0
PRODID:-//https://techplay.jp//JP
CALSCALE:GREGORIAN
METHOD:PUBLISH
X-WR-CALDESC:【E資格対応】日本ディープラーニング協会認
 定講座無料説明会
X-WR-CALNAME:【E資格対応】日本ディープラーニング協会認
 定講座無料説明会
X-WR-TIMEZONE:Asia/Tokyo
BEGIN:VTIMEZONE
TZID:Asia/Tokyo
BEGIN:STANDARD
DTSTART:19700101T000000
TZOFFSETFROM:+0900
TZOFFSETTO:+0900
TZNAME:JST
END:STANDARD
END:VTIMEZONE
BEGIN:VEVENT
UID:727109@techplay.jp
SUMMARY:【E資格対応】日本ディープラーニング協会認定講
 座無料説明会
DTSTART;TZID=Asia/Tokyo:20190428T170000
DTEND;TZID=Asia/Tokyo:20190428T180000
DTSTAMP:20260422T225958Z
CREATED:20190412T082359Z
DESCRIPTION:イベント詳細はこちら\nhttps://techplay.jp/event/72710
 9?utm_medium=referral&utm_source=ics&utm_campaign=ics\n\n概要\n\n本イ
 ベントは、日本ディープラーニング協会認定プログラ
 ムの「E資格対応 全人類がわかるディープラーニング
 体系講座」の説明会です。\n\nE資格試験の受験を考え
 ている方やディープラーニングを深いレベルで理解し
 て実務に活かしていきたいという方は、是非本説明会
 にご参加ください！講座受講の流れや、E資格合格に向
 けたサポートについてお話しさせていただきます。\n\n
 また、お申し込みをご希望の方はこちらのページ から
 していただくことが可能です。\n\n※第3回E資格試験は
 、2019年8月31日です。本プログラムは、こちらのE資格
 試験に対応しております。\n\nAVILENは、日本最大級の講
 座数を持ち、それらを体系化した講座を多数用意して
 おります。E資格取得を目標にしているが、まだ自信が
 ない方は、そのサポートから一緒にさせていただきま
 す。\n\n一部サポート内容についてお話させていただき
 ます。\n\n・統計学体系講座\n・機械学習のためのPython
 体系講座\n・データ分析・機械学習体系講座\n\n上記の
 ３講座が「E資格対応 全人類がわかるディープラーニ
 ング体系講座」を受講するに当たって、必要となる知
 識となります。こちらの基礎力に不安がある方も安心
 の基礎力確認テストを設けております。\nE資格対応講
 座にお申込みいただいた全ての皆様に基礎力確認テス
 トを受講していただき、足りていない知識を別途講座
 で補填してから、E資格対応講座に臨んでいただきます
 。\n\n詳しくは、当日の説明会にてお話させていただき
 ます。\nお気軽にご参加ください。\n\n日本最大級の講
 座フローチャートはこちら↓\n\n\nカリキュラム\n\n\nは
 じめに\n\nAVILENと全人類がわかる統計学の紹介\n日本デ
 ィープラーニング協会(JDLA)認定プログラムの紹介\n\n\n\
 n講座概要\n\n講座の目的\nE資格取得までの流れ\n基礎力
 確認テストについて\n講座カリキュラム\n卒業課題につ
 いて\n修了テストについて\n\n\n\n合格に向けたサポート
 \n\n基礎復習講座について\n教材や講師紹介\n受講期間
 の学習サポート\nオンラインの受講サポート\n修了テス
 トの再受験\n\n\n\n申し込み手順\n個別の質問対応\n\n\n※
 当日予告なく内容が変更になる可能性がございます。\
 n\nこんな人にオススメ\n\n・日本ディープラーニング協
 会(JDLA)のE資格試験の受験を検討している方\n・深いレ
 ベルでディープラーニングを理解したいと考えている
 方\n\n事前準備・持ち物\n\n特になし\n\nインストラクタ
 ー\n\n高橋香輝\n株式会社AVILENのAIコンサルタント兼UI・
 UXデザイナー。ユーザーが使いやすいAIプロダクトの開
 発に強いこだわりを持ち、様々なAI案件に携わる。講
 義に使用する資料のデザインも担当する。千葉大学大
 学院デザイン専攻修了。\n\n吉田拓真\n株式会社AVILENのC
 TO。アルゴリズム開発・深層学習・強化学習を得意と
 する。高難易度のAIプロジェクトの開発チームリーダ
 ーを務める。技術的な難題を複雑なAIアルゴリズムの
 組み合わせで解決しては、メンバーやクライアントを
 驚かす。東京大学工学部卒業。\n\n\n受付・入場時間\n\n
 開始の10分前から\n\n※途中参加も可能です。\n\nお問い
 合わせ\n\n・メールでのお問い合わせは、info@to-kei.net　
 までご連絡ください。\n・こちらで⇨LINE＠からもお問
 い合わせいただけます。（推奨）\n\n注意事項\n\n・リ
 クルーティング、勧誘、採用活動など、目的に沿わな
 い行為につきまして、主催者が相応しくないと判断し
 た場合は即刻退出処分とします。全員が気持ちよく過
 ごすことが出来るよう、ご協力をお願い致します。\n
 ・講座内で扱うコンテンツは全て「全人類がわかる統
 計学」に帰属しています。複製はご遠慮ください。\n
 ・個人ブログへの講義コンテンツの掲載はご遠慮くだ
 さい。\n・最小遂行人数は「3名」です。開催日の前日
 までにこの人数に達しない場合は中止となります。た
 だし、複数の媒体で募集を行っているので、本サイト
 の申込者数が最小遂行人数に達しない場合でも開催に
 なる場合がございます。もし、中止が決定した場合は
 その時点で「全額返金」し、登録しているメールアド
 レスにご連絡させていただきます。\n\n全人類がわかる
 統計学とは\n\n株式会社AVILENが運営するサービスです。
 統計学をはじめ、AI関連の講座に関して、日本最大級
 の講座数を開講しています。統計学・機械学習の学習
 用サイト全人類がわかる統計学を運営、管理するほか
 、社会人向けのAI人材やデータサイエンティスト育成
 のための教育事業を行なっております。\n統計学や機
 械学習を、出来るだけわかりやすく多くの人々に届け
 るということを目指して活動しています。\n
LOCATION:秋葉原駅徒歩5分 東京都台東区台東１丁目11番4号 
 誠心Oビル 3階
URL:https://techplay.jp/event/727109?utm_medium=referral&utm_source=ics&utm
 _campaign=ics
END:VEVENT
END:VCALENDAR
