BEGIN:VCALENDAR
VERSION:2.0
PRODID:-//https://techplay.jp//JP
CALSCALE:GREGORIAN
METHOD:PUBLISH
X-WR-CALDESC:【増枠！】Agile QA Night!! 2
X-WR-CALNAME:【増枠！】Agile QA Night!! 2
X-WR-TIMEZONE:Asia/Tokyo
BEGIN:VTIMEZONE
TZID:Asia/Tokyo
BEGIN:STANDARD
DTSTART:19700101T000000
TZOFFSETFROM:+0900
TZOFFSETTO:+0900
TZNAME:JST
END:STANDARD
END:VTIMEZONE
BEGIN:VEVENT
UID:728184@techplay.jp
SUMMARY:【増枠！】Agile QA Night!! 2
DTSTART;TZID=Asia/Tokyo:20190620T190000
DTEND;TZID=Asia/Tokyo:20190620T213000
DTSTAMP:20260424T025404Z
CREATED:20190417T013827Z
DESCRIPTION:イベント詳細はこちら\nhttps://techplay.jp/event/72818
 4?utm_medium=referral&utm_source=ics&utm_campaign=ics\n\nD3とは\n創業
 以来、高い技術力と戦略的なUI/UXを武器に、世の中に
 価値あるサービスを生み出しているビズリーチ。\nサ
 ービスの数が増えるにつれ、技術の幅が広がったため
 、そのスキルやノウハウを社内のみならず、\n世の中
 のエンジニアやデザイナーとも共有すべく、\n私たち
 は「D3（ディーキューブ）※」というプロジェクトチ
 ームを立ち上げました。\nD3では、たくさんのイベント
 や勉強会を開催し、\n世のエンジニア・デザイナーと
 共に、さらなる高みを目指します。\n※D3＝DESIGNER & DEVE
 LOPER DIVISION\n\nイベント説明\nAgileな組織が多くなってい
 る昨今、QAはどのようにAgileに入っていくべきなのでし
 ょうか。\n今回もAgile開発に取り組んでいるQAの方々を
 お招きし、\n\nどんなAgile開発をやっているの？\nQAはAgi
 le開発に対してどのように入り込んでいるの？\nAgile開
 発に対してどのように品質を担保しているの？\n\nなど
 を話します。\nその中でも今回は特に、「Agileとウォー
 ターフォールでの働き方の比較」「複数のAgile開発組
 織間の比較」といった内容を中心に発表・ディスカッ
 ションを行います。\n前回開催のイベントはこちら。\n
 https://d-cube.connpass.com/event/121450/\n対象\n\nAgile開発をして
 いるが、品質に対して困っている人\nAgile開発に対して
 、うまく入り込めていないテストエンジニア\nこれか
 らAgile開発に取り組もうとしている人\n「Agile QA」とい
 う言葉に興味がある人\n\n開催概要\n\n日時:2019/06/20（木
 ）19:00〜21:00（18:40開場）\n場所:株式会社ビズリーチ 東
 京都渋谷区渋谷2-15-1 渋谷クロスタワー 12F\n参加費:無
 料\n\n登壇予定者\nえっちゅー\n株式会社ユーザベース
 所属。2018年4月にJoin。\n自社のWebサービスの開発チー
 ムの中のテストエンジニアというポジション。\n過去
 には携帯電話、PC周辺機器、複合機などの組み込み系
 のシステムテストの範囲での手動テストを担当してい
 た。\n社外活動として、JaSST Tokyo実行委員、WACATE実行委
 員、Web Service QA Meeting運営。\nブロッコリー\n株式会社
 ビズリーチ所属。 2018年10月に転職し、QAチームに参画
 。\n前職からテストやQAに関わってきた経験を活かし、
 現在は如何に有効なテストを開発者に書いてもらうか
 指導・啓蒙している。\n認定スクラムデベロッパー。\n
 社外活動として、ソフトウェアレビューシンポジウム(
 JaSST Review) 実行委員長、WACATE（若手テストエンジニア
 向けワークショップ）実行委員など。\nコヤマン\nfreee
 株式会社所属。2017年12月よりJoin。今のロールは「皆の
 QAアニキ」。\nJ隊上がりのテストするおっさん。何も
 ないところからテストのやり方構築するマンを15年ほ
 どしている。\n組み込みソフト⇨医療機器⇨クラサバ
 システム⇨セキュリティ製品⇨Webなど色々なものをテ
 ストをしてました。\nASTER正会員\,JSTQB公認トレーニン
 グコース講師など。むかーしテストの同人誌作ってま
 した。\nまつ\n株式会社LIFULL所属。2018年10月よりJoinしQA
 グループでテスト計画やテストツール開発を行ってい
 る。\n新人さんからわかるソフトウェアテスト解説マ
 ンガ「テスターちゃん」作者。\n社外活動として、ソ
 フトウェアテストシンポジウム九州(JaSST Kyushu)共同実
 行委員長、AI プロダクト品質保証コンソーシアム(QA4AI)
 メンバー、大学非常勤講師、イラストレーターなど。\
 nアジェンダ（仮）\n\n\n\n時間\n発表内容\n発表・登壇者
 \n\n\n\n\n18:40~19:00\n受付\n\n\n\n19:00~19:10\nD3QA概要\nブロッ
 コリー\n\n\n19:10~19:40\n発表1:【WACATE再演】組み込みマニ
 ュアルテスターだった私が、Web系自動テストエンジニ
 アに！？テストエンジニアに求められるスキルと今後
 のキャリア\nえっちゅー\n\n\n19:40~19:50\n発表2:転職して
 も変わらなかった動きと転職して変わった意識\nブロ
 ッコリー\n\n\n19:50~20:10\n発表3:WFとAgileで変わったこと変
 わらなかったこと\nコヤマン\n\n\n20:10~20:30\n発表4: アジ
 ャイル開発でのテストのやり方〜私の場合〜\nまつ\n\n\
 n20:30~21:30\nパネルディスカッション\n登壇者全員\n\n\n\n
 ※アジェンダは予告なく変更される場合がございます
 。\n\n注意\n\nイベント参加者によるスカウト等勧誘行
 為は禁止です。\nイベントの写真を撮らせて頂く場合
 がございます。\nイベントキャンセルが多い方はこち
 らで参加をお断りさせていただく場合がございます。\
 n参加登録時に入力していただいた名前・メールアドレ
 スは今後ビズリーチのイベント開催等おしらせに利用
 させていただきます。\nアンケート内容が適切ではな
 い場合、キャンセルさせて頂く場合がございます。\n
 ご理解ご協力のほど、よろしくお願い致します。\n
LOCATION:株式会社ビズリーチ 東京都渋谷区渋谷2-15-1 渋谷
 クロスタワー 12F
URL:https://techplay.jp/event/728184?utm_medium=referral&utm_source=ics&utm
 _campaign=ics
END:VEVENT
END:VCALENDAR
