BEGIN:VCALENDAR
VERSION:2.0
PRODID:-//https://techplay.jp//JP
CALSCALE:GREGORIAN
METHOD:PUBLISH
X-WR-CALDESC:【オンライン配信】金融リスク計算とアドテ
 クと量子コンピュータ
X-WR-CALNAME:【オンライン配信】金融リスク計算とアドテ
 クと量子コンピュータ
X-WR-TIMEZONE:Asia/Tokyo
BEGIN:VTIMEZONE
TZID:Asia/Tokyo
BEGIN:STANDARD
DTSTART:19700101T000000
TZOFFSETFROM:+0900
TZOFFSETTO:+0900
TZNAME:JST
END:STANDARD
END:VTIMEZONE
BEGIN:VEVENT
UID:728185@techplay.jp
SUMMARY:【オンライン配信】金融リスク計算とアドテクと
 量子コンピュータ
DTSTART;TZID=Asia/Tokyo:20190620T183000
DTEND;TZID=Asia/Tokyo:20190620T200000
DTSTAMP:20260424T212859Z
CREATED:20190417T013829Z
DESCRIPTION:イベント詳細はこちら\nhttps://techplay.jp/event/72818
 5?utm_medium=referral&utm_source=ics&utm_campaign=ics\n\nはじめに\n
 量子計算をベースに、量子コンピュータでしかできな
 いこと、量子コンピュータで期待される収益の取れる
 テーマを中心に世の中の基盤を量子計算で支えるため
 の勉強会。\n**今回オンライン配信を試してみます。\ny
 outube限定配信にしますので、こちらで登録が必要です
 。\n直前に配信URLをお送りします。\n検索・リコメンド
 \n検索、リコメンドへの応用。\nリスク計算・リスク管
 理\nリスク計算関連の計算量や利用方法\n量子コンピュ
 ータツールのblueqat\nhttps://github.com/Blueqat/Blueqat\n勉強会
 オンラインコミュニティ\n随時情報の更新や勉強会の
 資料が手に入ります。わからないところを質問したり
 、ニュースの交換があります。\n下記招待コードより
 ぜひご参加ください。\n日本語版\nhttps://join.slack.com/t/bl
 ueqat/shared_invite/enQtNDA3NjU0MjM2NjEyLWU1MjJlNTM5NGNkNjk1NmYzYjU5NDliO
 Tc5M2QwNDc1YmMyNzYzYjY3YmE2NGUxMTI1OTEyYTUwOWEyNmY4MWY
LOCATION:株式会社ナビタイムジャパン 東京都港区南青山3-
 8-38 南青山東急ビル 1F
URL:https://techplay.jp/event/728185?utm_medium=referral&utm_source=ics&utm
 _campaign=ics
END:VEVENT
END:VCALENDAR
