BEGIN:VCALENDAR
VERSION:2.0
PRODID:-//https://techplay.jp//JP
CALSCALE:GREGORIAN
METHOD:PUBLISH
X-WR-CALDESC:Pythonによる勾配ブースティング【入門編】
X-WR-CALNAME:Pythonによる勾配ブースティング【入門編】
X-WR-TIMEZONE:Asia/Tokyo
BEGIN:VTIMEZONE
TZID:Asia/Tokyo
BEGIN:STANDARD
DTSTART:19700101T000000
TZOFFSETFROM:+0900
TZOFFSETTO:+0900
TZNAME:JST
END:STANDARD
END:VTIMEZONE
BEGIN:VEVENT
UID:728515@techplay.jp
SUMMARY:Pythonによる勾配ブースティング【入門編】
DTSTART;TZID=Asia/Tokyo:20190502T190000
DTEND;TZID=Asia/Tokyo:20190502T220000
DTSTAMP:20260422T063434Z
CREATED:20190419T071031Z
DESCRIPTION:イベント詳細はこちら\nhttps://techplay.jp/event/72851
 5?utm_medium=referral&utm_source=ics&utm_campaign=ics\n\nPythonによる
 勾配ブースティング【入門編】\n\n概要\n\n本講座では
 、勾配ブースティングの理論入門、Pythonによる実践を
 行います。\n対象者は「データ分析において、最新の
 アルゴリズムを使いたい。より強力なモデルを理解、
 活用したい」方です。\n\n勾配ブースティングは、現在
 データ分析コンペなどでも非常に多用される、最新の
 モデルです。講座内では他の決定木系アルゴリズムで
 ある、ランダムフォレストやアダブーストと比較しな
 がら、その利点を解説します。\n\nPythonによるコード実
 践もすることで、実際のデータ分析で活きるスキルを
 身につけることができます。\n\n【本講座の内容をしっ
 かり理解するための条件】\n必須条件\n・Pythonの基本文
 法への理解（if文，for文，関数など）\n\n推奨条件\n・
 機械学習をPythonで行なった経験がある．\n\n※当日はハ
 ンズオン形式で進めていきますので，Python3をインスト
 ールしたPCをご持参ください．また講座はJupyter notebook
 を用いて進行しますのでこちらもインストールを推奨
 いたします．\n\nこの講座で得られること\n\n・決定木
 系モデルの概要把握\n・アンサンブル学習、勾配ブー
 スティングの理解\n・実践的なデータ分析スキル\n\nカ
 リキュラム\n\n・決定木とは\n・アンサンブル学習\n・
 ランダムフォレスト\n・アダブースト\n・勾配ブーステ
 ィング\n・他モデルとの比較\n\n※当日予告なく内容が
 変更になる可能性がございます。\n\n講座一覧のフロー
 チャート\n\nどの講座から受講したら良いのかわからな
 いというような方は、下記のフローチャートを参考に
 していただければと思います。\n\n\n\nこんな人にオス
 スメ\n\n・アンサンブル学習・勾配ブースティングを理
 解，実装できるようになりたい方\n・実践的なデータ
 分析スキルを身に付けたい方\n\n事前準備・持ち物\n\nPy
 thon3をインストールしたPCの持参をお願いいたします．
 \n\nまた以下のライブラリをインストールするようにお
 願いいたします。\n・numpy\n・pandas\n・matplotlib\n・sklearn\
 n\nまた，講義はJupyter Notebookを用いて行いますので，イ
 ンストール頂いたほうがスムーズに講座を受けること
 が可能です．\n\n講師\n\n渡邉雅也\n東京理科大学経営工
 学科にて経済ファイナンス時系列データに関する研究
 に従事。統計学、情報工学、最適化の理論などに精通
 。大手証券会社にて機械学習に関する技術を用いた分
 析を行った経験を活かし、kaggleなどのコンペティショ
 ンにも参加。\n\n\n領収書について\n\n【Stripeで事前決済
 の方】\nクレジットカード会社が発行する明細を領収
 書の代わりとしてご利用ください。\n\n【Paypalの方】\n
 決済処理後にPaypalから送付されるメール内容、またはP
 aypalの取引履歴から該当項目を確認の上、「詳細」を
 ご覧ください。それらが領収書の代わりとなります。
 また、クレジットカード会社発行の利用明細書も領収
 書としてご利用いただけます。\n\n【別途領収書発行が
 必要な方】\n別途発行手数料として1000円頂きます。必
 要な方は、以下のフォームよりご申請ください。領収
 書発行手数料と受講料金を合算した金額で発行いたし
 ます。\n全人類がわかる統計学 領収書発行フォーム\n\n
 受付・入場時間\n\n開始の15分前から\n\n※なるべく5分
 前までにお入りください。\n※途中参加も可能です。\n
 \nお問い合わせ\n\n・メールでのお問い合わせは、info@to
 -kei.net　までご連絡ください。\n・こちらで⇨LINE＠か
 らもお問い合わせいただけます。（推奨）\n\n注意事項
 \n\n・リクルーティング、勧誘、採用活動など、目的に
 沿わない行為につきまして、主催者が相応しくないと
 判断した場合は即刻退出処分とします。全員が気持ち
 よく過ごすことが出来るよう、ご協力をお願い致しま
 す。\n・講座内で扱うコンテンツは全て「全人類がわ
 かる統計学」に帰属しています。複製はご遠慮くださ
 い。\n・個人ブログへの講義コンテンツの掲載はご遠
 慮ください。\n・最小遂行人数は「3名」です。開催日
 の前日までにこの人数に達しない場合は中止となりま
 す。ただし、複数の媒体で募集を行っているので、本
 サイトの申込者数が最小遂行人数に達しない場合でも
 開催になる場合がございます。もし、中止が決定した
 場合はその時点で「全額返金」し、登録しているメー
 ルアドレスにご連絡させていただきます。\n\n全人類が
 わかる統計学とは\n\n株式会社AVILENが運営するサービス
 です。統計学・機械学習の学習用サイト全人類がわか
 る統計学を運営、管理するほか、社会人向けのAI人材
 やデータサイエンティスト育成のための教育事業を行
 なっております。\n統計学や機械学習を、出来るだけ
 わかりやすく多くの人々に届けるということを目指し
 て活動しています。\n
LOCATION:秋葉原駅徒歩5分 東京都台東区台東１丁目11番4号 
 誠心Oビル 3階
URL:https://techplay.jp/event/728515?utm_medium=referral&utm_source=ics&utm
 _campaign=ics
END:VEVENT
END:VCALENDAR
