BEGIN:VCALENDAR
VERSION:2.0
PRODID:-//https://techplay.jp//JP
CALSCALE:GREGORIAN
METHOD:PUBLISH
X-WR-CALDESC:第2回 Looking Glass勉強会
X-WR-CALNAME:第2回 Looking Glass勉強会
X-WR-TIMEZONE:Asia/Tokyo
BEGIN:VTIMEZONE
TZID:Asia/Tokyo
BEGIN:STANDARD
DTSTART:19700101T000000
TZOFFSETFROM:+0900
TZOFFSETTO:+0900
TZNAME:JST
END:STANDARD
END:VTIMEZONE
BEGIN:VEVENT
UID:728804@techplay.jp
SUMMARY:第2回 Looking Glass勉強会
DTSTART;TZID=Asia/Tokyo:20190521T190000
DTEND;TZID=Asia/Tokyo:20190521T220000
DTSTAMP:20260422T100520Z
CREATED:20190421T142006Z
DESCRIPTION:イベント詳細はこちら\nhttps://techplay.jp/event/72880
 4?utm_medium=referral&utm_source=ics&utm_campaign=ics\n\nイベント概
 要\n第1回 Looking Glass勉強会は皆様のおかげで大好評で
 したので、第2回目を開催致します。これも皆さんから
 の熱い声援があったおかげです。これからもよろしく
 お願いします。\n今回は立体視と言えばこの方という
 ことで、「むっちゃん( @spmaker )」さんにお願いいたし
 ました。\n\n昔から立体視映像を作成できる「ステレオ
 フォトメーカー」を開発されており、最近Looking Glassを
 入手されて積極的にそのツールにLooking Glass対応機能を
 取り入れています。またLooking Glass用のWebGL対応アプリ
 も多数公開されています。WebGL版は気軽に見えるのも
 よいですね。\nステレオフォトメーカー http://stereo.jpn.o
 rg/jpn/stphmkr/\nあとスペシャルゲストとして「ステレオ
 アイ」の関谷社長もご同行いたします。\nどんなお話
 が聞けるか今から楽しみです。\nご自分の目で見てみ
 よう\nLooking Glassは製品の性質上、動画 ではその良さを
 伝えることはできません。実際に目にして初めて良く
 分かる製品となっています。ということで、Looking Glass
 をいち早く手にして研究している人たちによるLT大会
 を開催し、体験会と情報交換をしたいと思いこのイベ
 ントを立ち上げました。\nLooking Glassを買ったけどうま
 く使いこなせていない方、またLooking Glassの動画を見て
 気になった方もぜひご参加ください。\n参加枠につい
 て\n\n参加者枠 一般的な参加者枠です。\nメイントーク
 枠 招待枠なので一般の方のお申し込みはできません。
 \nLT枠 Looking Glassに関することを10分間で登壇する枠で
 す。本編にも参加可能です。展示もできます。先着順
 です。\n展示枠 体験会時にコンテンツを出展する方の
 参加者枠です。本編にも参加可能です。\nお手伝い枠 
 受付や誘導を担う参加者枠です。一部の発表を見れな
 いこともあります。\n\n日時\n2019年5月21日(火) 19-22時（1
 8:30受付開始）\nタイムテーブル\nメイントークは30分、
 LTは一人10分です。\n敬称略\n\n\n\n時間\n内容\n登壇者\n\n
 \n\n\n18:30\n開場\n\n\n\n19:00\n開始\n\n\n\n19:00~19:10\n開会のあ
 いさつ\nザバイオーネ    ( @z_zabaglione ) & 事務局\n\n\n19:10
 ~19:40\nステレオフォトメーカーとLooking Glass\nむっちゃ
 ん( @spmaker )\n\n\n19:40~19:50\n休憩&展示会\n\n\n\n19:50~20:00\nLo
 okingGlass向けに ムービー書き出してみたアレコレ\n黒河
 優介 ( @wotakuro )\n\n\n20:00~20:10\nLooking Glass自由視点Viewer\ns
 atomi ( @gravitino )\n\n\n20:10~20:20\n多視点画像表示シェーダ
 ーを作ってLooking Glassで見てみた\nafjk ( @afjk01 )\n\n\n20:20~
 20:30\nLooking Glass Library に登録しようぜ\nえむにわ ( @m2was
 abi )\n\n\n20:30~20:40\n展示物のご紹介\n\n\n\n20:40~21:30\n交流
 ＆展示物鑑賞会&適宜解散\n\n\n\n21:30~22:00\n完全撤収!\n\n\
 n\n\n展示作品一覧\n敬称略\n\n\n\nNo.\n展示作品名\n展示者
 \n\n\n\n\nSP1\nWEBアプリ for Looking Glass\nむっちゃん( @spmaker 
 )\n\n\n---\n\n\n\n\nLT1\n自由視点Looking Glass\nsatomi ( @gravitino )
 \n\n\nLT2\nユニティちゃんCRS for LookingGlass\nwotakuro( @wotakuro
  )\n\n\nLT3\n多視点画像表示シェーダー with STYLY\nafjk( @afjk
 01 )\n\n\nLT4\nTurning VRM Girl\nえむにわ( @m2wasabi )\n\n\n---\n\n\n
 \n\n展示1\nアドバンスドフローティングたしてん\n_mer2( 
 @_mer2 )\n\n\n展示2\n箱庭グラス(β)\ndecchi ( @decchi )\n\n\n展
 示3\nWabisabi\nトドネロ ( @x282665 )\n\n\n展示4\n力覚付加 Look
 ing Glass 「リキグラス」\nキルロボ ( @kirurobo )\n\n\n展示5\
 nGirls in the box\nせぎゅ ( @segur_vita )Shunsuke Izumi ( @arayz4 )\n\
 n\n展示6\nAvoider (Looking Glass ver.)\nこりん ( @korinVR )\n\n\n\n
 作品紹介\n\n\nSP1\n名前： むっちゃん( @spmaker )    \n作品
 名：WEBアプリ for Looking Glass\n紹介文：Holoplay.jsを使って
 、色々なソース映像をリアルタイムにLooking Glassに表示
 するデモです。\n\n\n\n\nLT1\n名前： satomi (@gravitino)\n作品
 名：自由視点Looking Glass\n紹介文：Looking Glassを使って色
 々な方向から立体物を見る事が出来るデモです。\n\n\n\
 n\nLT2\n名前： wotakuro( @wotakuro )\n作品名：ユニティちゃ
 んCRS for LookingGlass\n紹介文：おなじみユニティちゃんCRS
 を持ってきました。一度動画に書き出す事で、手持ち
 のSurface Pro3で動かすことに成功しました。Surfaceで展示
 してます。\n\n\n\n\nLT3\n名前： afjk( @afjk01 )\n作品名：多
 視点画像表示シェーダー with STYLY\n紹介文：STYLYを使い
 多視点画像表示シェーダーをLooking Glass、VR、2Dディス
 プレイの3パターンで展示します。\n\n\n\n\nLT4\n名前： 
 えむにわ( @m2wasabi ) \n作品名：Turning VRM Girl\n紹介文：VRM
 を読み込んでぐるぐる回して見るためのアプリです。
 見るだけで癒されますしGPUで暖も取れます。このアプ
 リはLooking Glass Libraryで簡単に試すことができます。\n\n
 \n\n\n展示1\n名前： _mer2 ( @_mer2 ) \n作品名：アドバンス
 ドフローティングたしてん\n紹介文：そろそろみんな
 見飽きてきたかもしれない、ASKA3D+3Dディスプレイネタ
 です。\n実は二年前に作ったやつをLooking Glassでリベン
 ジバージョンです。\n( https://twitter.com/_mer2/status/923314475
 129638913 )\n常識を超えた空間結像(予定)をお楽しみくだ
 さい。\n\n\n\n\n展示2\n名前： decchi  ( @decchi  ) \n作品名：
 箱庭グラス(β)\n紹介文：Looking Glassの中の小さな世界を
 好きなように彩るアプリです。どんな世界ができるか
 はあなた次第！\n\n\n\n\n展示3\n名前： トドネロ ( @x282665
  )\n作品名：Wabisabi\n紹介文：日本の四季を触って体験
 できます！\n\n\n\n\n展示4\n名前：キルロボ ( @kirurobo )\n
 作品名：力覚付加 Looking Glass 「リキグラス」\n紹介文
 ：ペン型力覚デバイスで、立体的にツンツン触れるデ
 モです。\n\n\n\n\n展示5\n名前： せぎゅ ( @segur_vita ) & Shun
 suke Izumi ( @arayz4 )   \n作品名：Girls in the box \n紹介文：女
 の子に群がるオタク達を、手で払いのけてください！\
 n\n\n\n\n展示6\n名前： こりん ( @korinVR )\n作品名：Avoider (
 Looking Glass ver.)\n紹介文：落ちてくる障害物を避けなが
 ら宝石を集めよう！ 2011年にUnityで初めて作ったゲーム
 を Looking Glass 対応しました。\n\n\n\n不定期にアップデ
 ート予定\n会場\n株式会社メルカリ https://www.mercari.com/jp
 /\n東京都港区六本木6-10-1 六本木ヒルズ森タワー 18F\nhtt
 ps://about.mercari.com/about/#locations\n会場内にはゲスト用 Wi-F
 i が用意されています。\n会場および会議室の入退場に
 関する諸注意\n\n入場方法について\n\n参加者向けの開
 場は 18:30 です。受付は 19:15 で締め切ります。\n会場セ
 キュリティの都合上、遅刻されてもスタッフが迎えに
 行くことはありません。あらかじめご了承ください。\
 n\n\n注意事項\n\n未成年の方は飲酒厳禁です。周りの大
 人も勧めないようにしてください。\n館内は禁煙です
 。\n(最近無音化ができないような気もしますが）iPhone 
 で写真を撮りたい方は Microsoft Pix Camera をご利用くださ
 い。基本的に資料は公開しますので公演中は集中して
 もらえると助かります。\n\n展示について\n当日は自由
 に持ち込み展示をしていただいて大丈夫ですが、展示
 の際にスペースが必要な方向けに「展示枠」を設けま
 す。こちらの枠でご参加される方は優先的に机・電源
 などご用意する予定です。機材など持ち込む予定の方
 はこちらにお申し込みいただけますと幸いです。\nた
 だし、今回会場の大きさに限りがあることイベント参
 加人数が多いことから、野良展示はできない可能性が
 あります。その点のみはご了承ください。\nその他注
 意事項\n\nLTおよび展示の方は、お申し込み後に主催の
 ザバイオーネ ( @z_zabaglione )に何らかの方法で連絡して
 ください(Twitter\, FBメッセーンジャー、電話、矢文など
 )。数日経っても連絡がない場合はその後の打ち合わせ
 に支障が出るため管理者権限で削除します。ご了承く
 ださい。\nコンテンツは予告なく変更する可能性があ
 ります。\n当日はカメラ撮影が入るかもしれませんの
 で、ご了承ください。\n体調不良や緊急の業務等、や
 むを得ない場合をのぞき、当日キャンセルは控えてく
 ださい。\n都合が悪くなった場合は早めのキャンセル
 処理をお願いします。\n自立で動く車両や乗り物など
 の持ち込み及び試乗は自己責任でお願いいたします。\
 nゲスト用の Wi-Fi があります。\nゲスト用の電源はあり
 ません。\n入館・退館のやり方はよく目を通しておい
 てください。\nイベント終了後、速やかに撤収となり
 ますので、片付けにご協力ください。\nブログ・ツイ
 ッター等での発信は積極的にお願いします。\n\nスムー
 ズな運営・進行のため、以下に該当する方はご参加を
 お断りする場合がございます。\n\n本イベント内でのリ
 クルーティング活動が目的と見られる方\n都合が悪く
 なった場合は早めのキャンセル処理をお願いします。\
 n運営が相応しくないと判断した方の参加はご遠慮いた
 だくことがあります。\nその他、主催者判断で不適切
 だと判断した方\n\nまとめ\nhttps://togetter.com/li/1358099
LOCATION:株式会社メルカリ 東京都港区六本木6-10-1(六本木
 ヒルズ森タワー)
URL:https://techplay.jp/event/728804?utm_medium=referral&utm_source=ics&utm
 _campaign=ics
END:VEVENT
END:VCALENDAR
