BEGIN:VCALENDAR
VERSION:2.0
PRODID:-//https://techplay.jp//JP
CALSCALE:GREGORIAN
METHOD:PUBLISH
X-WR-CALDESC:【令和初！】IoT縛りの勉強会! IoTLT vol.51 @日本
 オラクル
X-WR-CALNAME:【令和初！】IoT縛りの勉強会! IoTLT vol.51 @日本
 オラクル
X-WR-TIMEZONE:Asia/Tokyo
BEGIN:VTIMEZONE
TZID:Asia/Tokyo
BEGIN:STANDARD
DTSTART:19700101T000000
TZOFFSETFROM:+0900
TZOFFSETTO:+0900
TZNAME:JST
END:STANDARD
END:VTIMEZONE
BEGIN:VEVENT
UID:728952@techplay.jp
SUMMARY:【令和初！】IoT縛りの勉強会! IoTLT vol.51 @日本オラ
 クル
DTSTART;TZID=Asia/Tokyo:20190524T190000
DTEND;TZID=Asia/Tokyo:20190524T220000
DTSTAMP:20260423T215522Z
CREATED:20190422T142209Z
DESCRIPTION:イベント詳細はこちら\nhttps://techplay.jp/event/72895
 2?utm_medium=referral&utm_source=ics&utm_campaign=ics\n\n業界初?! IoT
 縛りの勉強会/LT会です！ 大好評を受けての第51回開催
 ！\nIoT領域には関連する幅広い知識や技術があります
 。\nまた、アイディアやインスピレーションも重要で
 す。\nこの会は個々が持っている知識や開発している
 ことの情報共有や発信の場になります。 \nIoTに興味の
 ある、ハードウェア/Webエンジニアの方を中心にどなた
 でもご参加できます！\n開催前後の交流ためのFBグルー
 プもあります！\nhttps://www.facebook.com/groups/IoTLT \n情報は
 こちらで流れてるので是非ご参加下さい！\n登壇希望
 者は以下のFB投稿にコメントください！\nvol51の登壇者
 募集投稿\nhttps://www.facebook.com/groups/IoTLT/permalink/11808399987
 53779/\n会場 は 日本オラクルさん\n入場方法\nオラクル
 青山センター13階に直接お越しください。\nアクセス\n\
 n会場：日本オラクル株式会社（東京都港区北青山2-5-8
 　オラクル青山センター 13階）\n交通アクセス：地下
 鉄銀座線　外苑前駅　4B出口より接続\n\nタイムテーブ
 ル\nLTは一人5分 ~ 3分です。\n\n\n\n時間\n内容\n\n\n\n\n19:00
 \n受付開始\n\n\n19:30\nオープニング / 趣旨説明\n\n\n19:35\n
 LT開始 - 登壇者情報は↓\n\n\n21:00\n懇親会\n\n\n21:45\n中締
 め\n\n\n22:00\n撤収\n\n\n\n予定中LT\n\nLast Updated (2019年06月28
 日 19:10:24)\n参加費\n\n本編 無料\n懇親会 無料 (enebularさ
 んが懇親会スポンサーしてくれます！ありがとうござ
 います！)\n\n\n主催\nみらいマルシェ株式会社、リレー
 ションズ株式会社 土屋敬\n2018年11月にみらいマルシェ
 株式会社を立ち上げました。生鮮食品の企業間取引ア
 プリの開発・運営をしています。\nhttps://miraimarche.com/\n
 リレーションズ株式会社にてスマホで自転車レンタル
 が出来るサービス「COGOO」の開発・運営をしています
 。\nhttp://cogoo.jp/\ndotstudio株式会社 菅原のびすけ\n\n2019
 年4月からプロトタイピング専門スクール「ProtoOut Studio
 」スタートしました。\nプログラミング学習はもう古
 い。「令和」時代のイノベーションを担う日本初のプ
 ロトタイピング専門スクールを開校\n「プログラミン
 グ学習はもう古い」って言ってしまった件について\n\n
 諸注意\n\nイベント内容は一部変更になる可能性がござ
 います。\nイベント当日の様子は後日何らかの媒体に
 て公開させていただくことがございます。\nお申込後
 運営都合によりご参加をキャンセルさせて頂く場合が
 ございます。予めご了承頂けますようお願いいたしま
 す。\n
LOCATION:日本オラクル株式会社 本社 東京都港区北青山2-5-
 8 (オラクル青山センター 13F)
URL:https://techplay.jp/event/728952?utm_medium=referral&utm_source=ics&utm
 _campaign=ics
END:VEVENT
END:VCALENDAR
