BEGIN:VCALENDAR
VERSION:2.0
PRODID:-//https://techplay.jp//JP
CALSCALE:GREGORIAN
METHOD:PUBLISH
X-WR-CALDESC:Tokyo HoloLens ミートアップ vol.15
X-WR-CALNAME:Tokyo HoloLens ミートアップ vol.15
X-WR-TIMEZONE:Asia/Tokyo
BEGIN:VTIMEZONE
TZID:Asia/Tokyo
BEGIN:STANDARD
DTSTART:19700101T000000
TZOFFSETFROM:+0900
TZOFFSETTO:+0900
TZNAME:JST
END:STANDARD
END:VTIMEZONE
BEGIN:VEVENT
UID:729103@techplay.jp
SUMMARY:Tokyo HoloLens ミートアップ vol.15
DTSTART;TZID=Asia/Tokyo:20190615T130000
DTEND;TZID=Asia/Tokyo:20190615T190000
DTSTAMP:20260422T231202Z
CREATED:20190423T062718Z
DESCRIPTION:イベント詳細はこちら\nhttps://techplay.jp/event/72910
 3?utm_medium=referral&utm_source=ics&utm_campaign=ics\n\n開催概要\nHo
 loLens/MRアプリ開発秘話\nHoloLensアプリ開発で著名な方々
 に登壇いただき、HoloLensに向いたアプリ、VR/MRに向いた
 アプリの特長や、HoloLensアプリ開発の裏話をお話しい
 ただきます。\nHoloLensを持っていない方も参加可能です
 ！ご興味のある方は是非ともご参加頂き、HoloLensを含
 めたWindows MixedRealityの世界を覗いてみてください！\n■
 注意事項\n・HoloLens体験をご希望の方は、デモ展示にて
 お楽しみください。出展者の指示に従い安全にご体験
 頂くよう、よろしくお願いします。もちろん、参加者
 がその場でご自身のコンテンツを楽しんでもらうこと
 も構いませんが、デモ展示を含め、機材の破損などに
 ついて主催側でその責任は負えません。\n・HoloLens 2、A
 zure Kinect DKのセッションがありますが、実機デモ、体
 験会はありません！\n　次回に期待したいですね！！\n
 ・イベント中に取材が入る可能性があります。またイ
 ベントスタッフによる写真やビデオ撮影等を予定して
 おります。撮影されました内容は後日主催者や会場提
 供者によるイベントの開催レポート等に使わせていた
 だくことがありますので予めご了承ください。\n・原
 則として13時15分ごろに2Fロビーでの受付を終了致しま
 す。以降に来場される方は本ページ下部のコメントフ
 ィードから到着した旨の書き込みをお願いします。ス
 タッフが2Fロビーに伺います。\n■行動規範\n私たちの
 コミュニティは、性別、性的自認、外形的な性別、年
 齢、性的指向、障害、身体的特徴、身体のサイズ、\n
 人種、民族、宗教（あるいは無宗教）、技術の選択、
 を理由としたハラスメントの無い状態を維持すべく行
 動します。\n私たちは、コミュニティメンバーに対す
 る、いかなる種類のハラスメントも容認しません。\n
 性的な表現や画像は、トーク、ワークショップ、パー
 ティ、Twitterその他のオンラインメディアを含め、\nい
 かなるコミュニティイベントでも、不適切なものとし
 ます。\nこれらの規則を破った参加者は、オーガナイ
 ザーの決定のもと、制裁を受けるか、\n当該イベント
 および将来のあらゆるイベントあるいはコミュニティ
 から、\n払い戻し（もしある場合でも）無しで参加を
 拒絶されることがあります。\n詳細は下記をご確認く
 ださい。\nHoloLensミートアップ行動規範\nhttps://holomagicia
 nspolicy2019.azurewebsites.net/\n私たちのコミュニティは、Scal
 aMatsuri 2016にて上映された本動画に賛同いたします。\nh
 ttps://youtu.be/lIfOQNTWdxI \nお気づきのこと、お困りのこと
 があれば\n伊藤武仙(@takesenit)\nまたは\n森真吾(@morio36)\n
 へご連絡ください。\n■タイムテーブル\n\n\n\n開始時間
 \n内容\n\n\n\n\n12:30\n開場\n\n\n13:00\n前説、自己紹介Time(Hol
 oとわたし)\n\n\n13:15\n「元ゲーム、ロボットアプリ開発
 者が医療XRやってまーす」谷口直嗣さん\n\n\n14:00\n休憩
 （15分）\n\n\n14:15\n「HoloLens2 Development」加藤広務さん\n\n
 \n15:00\n休憩（15分）\n\n\n15:15\n「Azure Kinect DK Overview」中
 村薫さん\n\n\n16:00\n懇親会へ転換\n\n\n\n\n\n\n開始時間\n
 内容\n\n\n\n\n16:00\n懇親会(フリータイム)\n\n\n16:15\nHolo LT1
 部（4名×5分）\n\n\n16:45\nHolo LT2部（4名×5分）\n\n\n17:15\nH
 olo LT3部（4名×5分）\n\n\n18:00\n懇親会(フリータイム)\n\n\
 n18:30\nWrap up、記念撮影\n\n\n19:00\n撤収\n\n\n\n■登壇者／
 登壇内容のご紹介\nHoloeyes株式会社代表取締役CEO兼CTO谷
 口 直嗣さん (@tani_yang) 「元ゲーム、ロボットアプリ開
 発者が医療XRやってまーす」\n株式会社ホロラボ加藤 
 広務さん (@hi_rom_)「HoloLens2 Development」\n株式会社ホロラ
 ボ/Microsoft MVP for Windows Development中村 薫さん (@kaorun55)「A
 zure Kinect DK Overview」\n■開催概要\nイベント名：Tokyo Holo
 Lens Meetup vol.15\n日程：6月15日(土)\n時間：12:30 受付開始
 　13:00～19:00　\n会場：日本マイクロソフト株式会社(品
 川) 31F セミナールームA\n費用：1\,000円\n主催: HoloMagician
 s / TMCN \n協力：  日本マイクロソフト\nYoutubeチャンネル
 ：TMCN
LOCATION:日本マイクロソフト株式会社セミナールーム 東
 京都港区港南 2-16-3
URL:https://techplay.jp/event/729103?utm_medium=referral&utm_source=ics&utm
 _campaign=ics
END:VEVENT
END:VCALENDAR
