BEGIN:VCALENDAR
VERSION:2.0
PRODID:-//https://techplay.jp//JP
CALSCALE:GREGORIAN
METHOD:PUBLISH
X-WR-CALDESC:【新規開講！】現場で使える機械学習システ
 ム実践講座・DAY４
X-WR-CALNAME:【新規開講！】現場で使える機械学習システ
 ム実践講座・DAY４
X-WR-TIMEZONE:Asia/Tokyo
BEGIN:VTIMEZONE
TZID:Asia/Tokyo
BEGIN:STANDARD
DTSTART:19700101T000000
TZOFFSETFROM:+0900
TZOFFSETTO:+0900
TZNAME:JST
END:STANDARD
END:VTIMEZONE
BEGIN:VEVENT
UID:729466@techplay.jp
SUMMARY:【新規開講！】現場で使える機械学習システム実
 践講座・DAY４
DTSTART;TZID=Asia/Tokyo:20190623T133000
DTEND;TZID=Asia/Tokyo:20190623T173000
DTSTAMP:20260424T011314Z
CREATED:20190425T140535Z
DESCRIPTION:イベント詳細はこちら\nhttps://techplay.jp/event/72946
 6?utm_medium=referral&utm_source=ics&utm_campaign=ics\n\n新規開講！
 現場で使える機械学習システム実践講座\n\n4月から、
 新講座「現場で使える機械学習システム実践講座」を4
 回シリーズの講座として開講いたします。\n\n本講座は
 、スキルアップAI初の”実践講座”となります。これ
 までの”基礎講座”がモデルの理論理解や実装スキル
 のレベルアップを目的にしているのに対し、”実践講
 座”は、実務で遭遇する難局を想定し、ハンズオンベ
 ースで実務力を身に付けていく講座となります。\n\n\n\
 n回\n講座内容\n日時\n\n\n\nDAY１\n機械学習システム入門\
 n04/20（土）13:30~17:30\n\n\nDAY２\nKubernetes基礎講座\n05/12（
 日）13:30~17:30\n\n\nDAY３\nKubernetes応用講座\n06/01（土）13:3
 0~17:30\n\n\nDAY４\nKubeflow基礎講座\n06/23（日）13:30~17:30\n\n\
 n\n＊ 本ページではDAY４のみのお申し込みとなります。
 \n\n＊ お得な４講座セットでのお申し込みはホームペ
 ージよりお願いいたします。\n\n概要\n\n分析・学習・
 推論の３つの工程からなる機械学習システム。この3つ
 をシームレスにつなげる、Kubernetesの機能をフル活用し
 たKubeflowを取り上げ、分析から推論まで一気通貫した
 基盤を実際に構築します。\n\n受講後の姿\n\n\n自力で機
 械学習システムを構築できるAI時代のフルスタックエ
 ンジニア\n基本的な機械学習システムの枠組みが理解
 できており、データ基盤チーム内で指示された実装が
 できるジュニアレベルのデータエンジニア\n\n\nカリキ
 ュラム\n\n\nMLOpsの流れ\nKubeflowの構築\nTensorFlowの基礎\nKu
 beflowを使った分析、分散学習、API提供\n\n\n＊ カリキュ
 ラムは変更となる場合がございます。\n\n対象者\n\n\n機
 械学習を用いたサービスを作りたい方\nアプリエンジ
 ニアとして、データエンジニアと連携する必要がある
 方\nこれからデータエンジニアになりたい方\n\n\n前提
 知識\n\n\nKubernetesの基礎知識・使い方（DAY2修了レベル
 ）\nWebアプリケーションの基礎知識\nGoogle Cloud Platformの
 基礎知識\n\n\n講師\n\n\n\n会場へのアクセス\n\nスキルア
 ップAI 水道橋オフィス\n\n東京都千代田区神田三崎町3-3
 -20 VORT水道橋 Ⅱ 5階（旧スカイワードビル）\n\n\n直接
 会場にお越しください。 \n遅刻される場合も直接会場
 にお越しください。\n講義時間中に出席を取ります。\n
 \n\n受付・入場時間\n\n開場は開始時刻の10分前です。\n\
 n10分以上前にお越しになられますと、会場の準備のた
 めに外でお待ちいただく場合がございます。ご注意く
 ださい。\n\n当日のお持物\n\nハンズオンできる環境設
 定済みのノートPC。詳細は「講座までの準備」をご覧
 ください。\n\n【動作環境】\nMacOSX 10.9 以上 \nWindows 7 以
 上（64bit必須）\nメモリ4GB以上\n\n講座までの準備（必
 須）\n\n【ご自身のノートPC】\n\nGoogle Cloud Platformの登録
 と利用準備。gcloudコマンドとkubectlコマンドが利用でき
 る状態まで事前に準備お願い致します。\n\nその他準備
 は、お申し込み後にご案内いたします。\n\n＊ 準備が
 できていない場合、ハンズオン講座なのでついてこれ
 なくなってしまいます。この場合のタイムロスはカバ
 ーできません。事前準備を必ず行ってからお越しいた
 だけますようお願いいたします。\n\n通信環境に関して
 \n\nWi-Fi環境はございますが、繋がりにくい場合はご自
 身のテザリングをご利用ください。（ベストエフォー
 トとなります。）\n\n請求書・領収書・銀行振込\n\n＊ 
 請求書が必要な方、銀行振込をご希望の方はホームペ
 ージからお申し込みください。\n\n＊ 領収書\n\n【Paypal
 でお支払いの場合】\nPayPal発行の受領書が領収書とな
 ります。\n受領書ページは、PayPalの支払い完了ページ
 で「印刷用受領書を見る」をクリックすると表示され
 ます。当社よりの重複しての領収書発行は行えません
 。\n\n【Stripeでお支払いの場合】\nStripe発行の受領書が
 領収書となります。当社より重複しての領収書発行は
 行えません。\n\n備考\n\n\n最小遂行人数「4名」：開催
 日の2日前までに最小遂行人数に達しない場合は、中止
 となります。ただし、複数のチャンネルで募集を行っ
 ているため、本サイトでの申込者数が最小遂行人数に
 達しない場合でも開催になる場合がございます。\n環
 境設定などでつまった場合、可能な限りフォローさせ
 ていただきますが、講義の流れを優先させていただき
 ます。\n勉強会内容を撮影もしくは録音することは、
 ご遠慮ください。\n個人ブログへの記述については、
 良識の範囲内でお願いいたします。\n講義コンテンツ
 は全てスキルアップAIに帰属していますので、複製は
 ご遠慮ください。\n\n\n運営団体\n\nスキルアップAI\nhttps
 ://www.skillupai.com/\n\n講座に関するお問い合わせは、info@s
 killupai.comまでお願いいたします。
LOCATION:スキルアップAI 水道橋オフィス／VORT水道橋 Ⅱ 5
 階 東京都千代田区神田三崎町3-3-20
URL:https://techplay.jp/event/729466?utm_medium=referral&utm_source=ics&utm
 _campaign=ics
END:VEVENT
END:VCALENDAR
