BEGIN:VCALENDAR
VERSION:2.0
PRODID:-//https://techplay.jp//JP
CALSCALE:GREGORIAN
METHOD:PUBLISH
X-WR-CALDESC:【増席】RPA勉強＆LT会！特別編 RPALT ～WinActorト
 ーク～
X-WR-CALNAME:【増席】RPA勉強＆LT会！特別編 RPALT ～WinActorト
 ーク～
X-WR-TIMEZONE:Asia/Tokyo
BEGIN:VTIMEZONE
TZID:Asia/Tokyo
BEGIN:STANDARD
DTSTART:19700101T000000
TZOFFSETFROM:+0900
TZOFFSETTO:+0900
TZNAME:JST
END:STANDARD
END:VTIMEZONE
BEGIN:VEVENT
UID:729988@techplay.jp
SUMMARY:【増席】RPA勉強＆LT会！特別編 RPALT ～WinActorトー
 ク～
DTSTART;TZID=Asia/Tokyo:20190529T190000
DTEND;TZID=Asia/Tokyo:20190529T220000
DTSTAMP:20260423T071337Z
CREATED:20190429T142535Z
DESCRIPTION:イベント詳細はこちら\nhttps://techplay.jp/event/72998
 8?utm_medium=referral&utm_source=ics&utm_campaign=ics\n\n完全なユー
 ザー主体のRPAコミュニティ「RPA Community」が主催するRPA
 勉強会＆LT会！今回初の試み、WinActorについて語り合う
 「WinActorトーク」！\nWinActorの中の人にもセミナー登壇
 いただく予定です！！\nまずは一言\n\nWinActorユーザー
 やWinActorに興味のある人同士で情報や悩みを共有しな
 がらWinActorについて学びましょう！\n\n\nすでにWinActorに
 取り組んでいる方、これから学ぼうとしている方、ち
 ょっと興味がある方、どんな方でも大歓迎です。\n\nWin
 Actorに関するネタ、悩みや、言いたい事をLT(※)を楽し
 みましょう！\n\n※ LTとは「Lightning Talk(s)」の頭文字を
 取ったもので5分間程度の短い時間で行われる発表を連
 続して続けていく形式のプレゼンテーション。\n参加
 メリット\n\nユーザー主体イベントならでは。営業トー
 クも宣伝トークもありません。WinActorに関する情報を
 得ながら参加者同士で楽しく交換し合えるイベントで
 す。\n\n参加特典 WinActor本が貰えちゃう\n当日参加者に
 は記念品としてWinActor本をプレゼントさせていただき
 ます。\n書籍：https://amzn.to/2W546bV\n\n＜プレゼント条件
 ＞\n(i) 当日参加する\nhttps://rpacommunity.connpass.com/event/1298
 63/\n\n(ii) TwitterのRPABANKアカウントをフォロー\nhttps://twit
 ter.com/rpabank\n\n(iii) TwitterのSBモバイルサービスアカウン
 トをフォロー\nhttps://twitter.com/sbms_rpa\n\n\n以上。当日会
 場でフォロー画面を見せていただければ書籍プレゼン
 トいたします。\n\nあ、ついでにもしよければMitz氏の
 アカウントフォローも是非！\nhttps://twitter.com/CharaDenMitz
 \n\nご依頼事項 入館QRコードの発行\n当日の入館手続き
 を円滑にするため、\n以下フォームよりお名前、会社
 名、メールアドレスの3点入力をお願いいたします。\nh
 ttp://bit.ly/2JweU0h\n\n5/29(水)16:50に受付終了。それまで申
 請のあった分は送付済みとなります。\n\nご記入いただ
 いたメールアドレスへ入館に必要なQRコードを送付い
 たします。\n入館QRコードがあれば面倒な手続きをする
 事なく25Fイベント会場までそのまま移動可能です。\n
 ※ 入館QRコードの発行申請がない場合は1Fにて書面に
 て手続きが発生します。\n　 また、20時以降QRコードが
 なく入館希望であれば、以下の方法で連絡ください。\
 n質問・不明点\n不明点あればTwitter、@sbms_rpaまでDMくだ
 さい。\nまた、会場設備で連絡事項があれば#RPALTにて
 ツイートします。\n参考 RPALT本体ツイートまとめ\n参考
  RPALT本体第４回web記事\n参考 RPALT本体第３回web記事\n開
 催前後の交流ためのFBグループもあります！\n\nRPACommuni
 ty FBグループ \n\n\n是非ご参加下さい！\n\nLT登壇立候補
 される方\n\nこちらにコメントお願いします！\n\n会場
 はソフトバンク本社\nアクセス\n\n◆場所：ソフトバン
 ク本社\n　〒105-7303 東京都港区東新橋1-9-1 東京汐留ビ
 ルディング\n◆最寄駅\n　ゆりかもめ線「汐留駅」（徒
 歩1分）\n　都営大江戸線「汐留駅」（徒歩3分）\n　JR
 線・東京メトロ銀座線「新橋駅」（徒歩13分）\n　都営
 浅草線「新橋駅」（徒歩10分）\n\n入館方法\n確認次第
 ご連絡いたします。\nタイムテーブル\n\n\n\n時間\n内容\
 n発表タイトル\n\n\n\n\n19:00\n開場\n受付開始\n\n\n19:30\nオ
 ープニング： RPACommunity Mitz\nコミュニティ＆趣旨説明\n
 \n\n\n趣旨説明：近江さん／SBモバイルサービス\nWinActor
 トーク開催について\n\n\n\n【会場・懇親会スポンサー
 枠】清水 亮さん／SBモバイルサービス\nWinActor書籍「出
 版の軌跡」\n\n\n\n【WinActorセッション】浅野 慧さん／NT
 Tデータ\nWinActorの特性を活かした導入と展開\n\n\n\n休憩
 \n\n\n\n\nLT：石井さん／J.フロントリテイリング\nWinActorM
 anagerみたいなものを自作しましたよ（しかも無料）\n\n
 \n\nLT：仲井さん／SBモバイルサービス\nWinActor × DX Suite 
 AI-OCR？\n\n\n\nLT：杉山さん／株式会社ジャパン・テック
 ・システム\nWinActorのスマートな運用企業\n\n\n\n【WinActo
 rセッション】堀野 美奈子さん／NTTアドバンステクノ
 ロジ\n最新WinActorのご紹介とこれから\n\n\n\nディスカッ
 ション：登壇者＆Mitz\n\n\n\n\nクロージング：RPACommunity 
 呉\n総括\n\n\n21:00\n懇親会開始\n\n\n\n22:00\n完全撤収\n\n\n\
 n\n参加費\n500円\n主催 RPACommunity\nKokichi Omi\nRPACommunity設
 立当初からの熱心な参加者。足繁く通って得たノウハ
 ウを活かして社内のRPA推進で活躍!?\nWinActor版を企画す
 る事で今回に限り参加者から主催者へ...\n呉\nRPACommunity
 ファウンダー。RPAをはじめとした業務効率化マニア。\
 nRPAの教育プログラムを展開しています。\nチャラ電Mitz
  ／ web記事\nRPA、業務改善、働き方改革に精進中。IoTや
 RPA界隈ではチャラい見た目でちょっとだけ有名？らし
 い。\n「コミュニティ運営芸人」と呼ばれ10以上のコミ
 ュニティを主催・運営し、各種イベントの司会から雑
 用まで何でもこなしてます。このイベントに申し込ま
 れたりご興味のある方はお気軽に友達申請どうぞ。\n
 諸注意\n\nイベント内容は一部変更になる可能性がござ
 います。\nイベント当日の様子は後日何らかの媒体に
 て公開させていただくことがございます。\nお申込後
 運営都合によりご参加をキャンセルさせて頂く場合が
 ございます。予めご了承頂けますようお願いいたしま
 す。\nソフトバンク社内は25Fイベント会場以外撮影禁
 止です。\nご登録の上、受付票をお持ちいただいたご
 本人のみがご参加いただけます。\n会場における天災
 ・事故・紛失その他の事象による全ての不利益につい
 て、事務局および会場提供者は責任を負いかねます\n
 リクルーティング、宣伝目的のみでの参加はご遠慮く
 ださい\n会場内での販売、登録勧誘などを行うのは禁
 止します\n20:00以降の入場はお断りする場合があります
 \n懇親会ではアルコールが出ます。未成年の飲酒は固
 く禁止いたします。\n車、バイク、自転車の運転をな
 さる方は、アルコール飲料をお控えください。\n当イ
 ベントでは全ての参加者がこのイベントを楽しめるよ
 う、RPACommunity運営グループの管理のもと開催していま
 す。そのため、以下のような行動を取られた方は退室
 いただく場合があります。また次回以降の参加をお断
 りしますのでご了承下さい。過去に以下のような行動
 を取られた方からのお申込についてもお断りさせてい
 ただく場合がございます。\n\n　■他の参加者やLT登壇
 者に対しての迷惑行為と見られる言動や行動\n　■人
 材紹介、転職、マルチ商法、宗教など、本イベントと
 は関係のない勧誘\n
LOCATION:ソフトバンク汐留本社25階 東京都港区東新橋1-9-1 
 (東京汐留ビルディング)
URL:https://techplay.jp/event/729988?utm_medium=referral&utm_source=ics&utm
 _campaign=ics
END:VEVENT
END:VCALENDAR
