BEGIN:VCALENDAR
VERSION:2.0
PRODID:-//https://techplay.jp//JP
CALSCALE:GREGORIAN
METHOD:PUBLISH
X-WR-CALDESC:GitLab Contribute 2019 recap (Meetup Tokyo #17)
X-WR-CALNAME:GitLab Contribute 2019 recap (Meetup Tokyo #17)
X-WR-TIMEZONE:Asia/Tokyo
BEGIN:VTIMEZONE
TZID:Asia/Tokyo
BEGIN:STANDARD
DTSTART:19700101T000000
TZOFFSETFROM:+0900
TZOFFSETTO:+0900
TZNAME:JST
END:STANDARD
END:VTIMEZONE
BEGIN:VEVENT
UID:729993@techplay.jp
SUMMARY:GitLab Contribute 2019 recap (Meetup Tokyo #17)
DTSTART;TZID=Asia/Tokyo:20190606T190000
DTEND;TZID=Asia/Tokyo:20190606T213000
DTSTAMP:20260423T080903Z
CREATED:20190429T142731Z
DESCRIPTION:イベント詳細はこちら\nhttps://techplay.jp/event/72999
 3?utm_medium=referral&utm_source=ics&utm_campaign=ics\n\n概要\n2019年5
 月に開催されるGitLab Contribute 2019のレポートをMeetup Tokyo
  #17として開催します。complete DevOps/Gitプラットフォー
 ム「GitLab」のコミュニティイベントです。Gitって何と
 いう人からGitLabをフル活用してDevOpsしているエンジニ
 アまでどなたもご参加いただけます。\n海外でのGitLab
 利用事例、開発・プロダクトチーム主体であるGitLab Inc
 の考え方を知りたいという人にもオススメです。\n日
 時\n\n2019年6月6日(木) 19:00〜21:00 (開場 18:30)\n\n場所\n\n会
 場: ソニーシティ大崎\n会場最寄り駅：JR大崎駅南改札
 口、新西口より徒歩2分\n住所: 東京都品川区大崎2-10-1\n
 \n\n\n入館方法 (受付番号が必要です)\n\n駅南改札口を出
 て右に進み、突き当たりのThikPark Tower手前で左に曲が
 り、少し進んだ先の右側ビルのに入ると受付がありま
 す。\n2Fの入館受付は 18:30 ~ 19:30 です\n来場の際は connpa
 ssの 受付票 もしくは 受付番号 を提示後、受付の案内
 に従ってください。\n開催日当日の新規参加申し込み
 はお受けできない可能性があります\n\n備考\n\n喫煙所
 のご用意はございません。\n参加者全員に標記のswagが
 提供されるわけではありません。\nビルの管理セキュ
 リティ上、予め本名、所属をご登録頂いております。 
 申込の際に表示されるフォームから、ご入力をお願い
 致します（目的外の利用はいたしません）\n\n参加費\n\
 n無料\n\n対象\n\nGitを使い始めたい、Git環境を整備した
 い\nGitHubやBitbucketのツールを使っているが、代替品を
 検討している\nGitHubとその他のCI/CD・Container Registry・モ
 ニタリングツールを使っているが、一元化していきた
 い\nDevOpsを極めていきたい\nGitLabで何ができるのか知り
 たい\nGitLabをもっと使いこなしたい\nGitLabコミュニティ
 や開発に携わりたい\n業務またはプライベートでGitリ
 ポジトリの管理ツールを探している\n業務またはプラ
 イベートでIssueトラッキングツールを探している\n\n内
 容\nタイムテーブル\n18:30 開場・19:00 開始・21:00終了\n
 ※ タイムテーブルは変更となる場合があります。\n\n\n
 \n時間\n担当\n内容\n\n\n\n\n18:30-19:00\nGitLab Tokyo\n受付\n\n\n
 19:00-19:10\nGitLab Tokyo\n会場・コミュニティ案内\n\n\n19:10-1
 9:30\n@hiroponz\nセッション1\n\n\n19:30-19:50\n@tnir\nChallenge at C
 ontribute & Sessions\n\n\n19:50-19:55\n-\n休憩\n\n\n19:55-20:15\nLT\nLT
  x4\n\n\n-\n-\n@ymasaoka 「ダブルSSOで始めるGitlab Mattermost」\
 n\n\n-\n-\n@tempacct032419 「CIのコンテナビルド方法」\n\n\n-\
 n-\n@cheng 「Gitlab+RancherによるDevops」\n\n\n-\n-\nTBA 「TBA」\n
 \n\n20:15-20:20\nソニー株式会社\nスポンサーLT\n\n\n20:20-20:2
 5\n全員\nアンケート回答\n\n\n20:25-21:30\n全員\n懇親会\n\n\
 n\nスポンサー\nソニー株式会社 (フード・ドリンク・会
 場スポンサー)\n参加枠について\nLT枠\n長時間の発表は
 難しいけど、5分くらいなら話せるよ、という方向けの
 枠です。GitLabに関するさまざまな知見やノウハウ、苦
 労、喜びをみんなに共有したい、という大切な方への
 枠です。今まで一度も発表したことない人からGitLabの
 プロまでご自由にご登壇ください。\nSNSシェア/ブログ
 枠\n参加レポートを自分のブログに書いていただく枠
 です。ブログを書いたら #gitlabjp ハッシュタグでTwitter
 などに拡散してください。ただし、ブログURLを運営側
 に連絡する必要はありません。\n一般枠\nまずはGitLabに
 ついて話を知りたい、さらにGitLabを使い込んでいきた
 い人の枠です。\n運営枠\n運営に携わりたい人向けの枠
 です。当日18:30までに来場できる方なら誰でもウェル
 カムです。
LOCATION:ソニーシティ大崎 東京都品川区大崎2-10-1
URL:https://techplay.jp/event/729993?utm_medium=referral&utm_source=ics&utm
 _campaign=ics
END:VEVENT
END:VCALENDAR
