BEGIN:VCALENDAR
VERSION:2.0
PRODID:-//https://techplay.jp//JP
CALSCALE:GREGORIAN
METHOD:PUBLISH
X-WR-CALDESC:失敗しないWebサイト構築セミナー（東京）
X-WR-CALNAME:失敗しないWebサイト構築セミナー（東京）
X-WR-TIMEZONE:Asia/Tokyo
BEGIN:VTIMEZONE
TZID:Asia/Tokyo
BEGIN:STANDARD
DTSTART:19700101T000000
TZOFFSETFROM:+0900
TZOFFSETTO:+0900
TZNAME:JST
END:STANDARD
END:VTIMEZONE
BEGIN:VEVENT
UID:731139@techplay.jp
SUMMARY:失敗しないWebサイト構築セミナー（東京）
DTSTART;TZID=Asia/Tokyo:20190605T160000
DTEND;TZID=Asia/Tokyo:20190605T173000
DTSTAMP:20260423T044359Z
CREATED:20190509T074909Z
DESCRIPTION:イベント詳細はこちら\nhttps://techplay.jp/event/73113
 9?utm_medium=referral&utm_source=ics&utm_campaign=ics\n\n【Web担当者
 向けワークショップ】  失敗しないWebサイト構築セミ
 ナー（東京）\n\n\n\n概要\n\nWebサイトの構築やリニュー
 アルをする際、どのように取り組んだら良いのか悩ま
 れている担当の方は多いのではないでしょうか。 莫大
 な投資をしたにも関わらずうまく活用できていないと
 いう声をよく聞きます。 本セミナーでは、そのような
 失敗をしないために重要になってくるポイントと初期
 投資を極力抑えて構築・リニューアルが可能なCMSサー
 ビスについてご紹介致します。\n\nこんな方へおすすめ
 です！\n\n「Webリニューアルをして成果を出したい。」
 \n\n「CMSという言葉は知っているが違いを理解できてい
 ない」\n\nとお悩みのWebサイト担当者様、責任者様\n\n
 タイムスケジュール\n\n\n\n\n  時間\n  内容\n\n\n\n\n  15:45
 〜\n  受付開始\n\n\n  16:00～16:45\n  【第一部】「簡単CMS
 「DG1」デモンストレーション」株式会社ディージーワ
 ン　取締役　土肥麻梨子\n\n\n  16:45〜17:30\n  【第二部】
 サイトリニューアルの成功の鍵はWeb担当者だった！５
 つのコツを押さえよう株式会社アリウープ　原一貴\n\n
 \n  終了後\n  質疑応答・個別相談会(自由退出)Webサイト
 に関するお悩みを何でも聞いてください！\n\n\n\n\n※ 
 当日予告なく時間配分・内容が変更になる可能性がご
 ざいます。\n\n登壇者\n\n\n\n原 一貴\n\n株式会社アリウ
 ープ　\n\n1989年大阪出身。Web制作会社にてデザイナー
 ・ディレクターの経験を積み、2017年にWebマーケティン
 グ会社アリウープへ参画。Webディレクターを経て、現
 在は経営企画室で事業推進を担当し、自社のマーケテ
 ィングや営業推進に従事。またセミナーでの講演や、
 大手グループ企業の社内勉強会なども担当している。\
 n\n\n\n\n\n\n取締役　土肥麻梨子\n\n株式会社ディージー
 ワン\n\n株式会社ベネフィット・ワンにて、営業サポー
 ト、メディア企画、サービス提携営業などを担当。2017
 年9月からベネフィット・ワンの子会社となる株式会社
 ディージーワンにて、オンラインビジネスに必要な機
 能をワンストップで提供する「DG1」の導入提案、およ
 びサポート支援の現場責任者として従事。\n\n\n\n\n【セ
 ミナー内容】\n第一部”簡単CMS「DG1」デモンストレー
 ション”\n\n\n日本市場の変化の解説とともに、現状のE
 C市場の中で準備しておくべきIT環境のご説明をします
 。\n次世代型ビジネスプラットフォーム「DG1」につい
 てもご説明をします。\n\n\n\n　\n\n第二部”サイトリニ
 ューアルの成功の鍵はWeb担当者だった！５つのコツを
 押さえよう”\n目的を持った戦略的なWebサイトの制作
 においてのキーマンはWeb担当者様です。\nWeb担当者様
 のプロジェクトでの立ち回り方や、Webサイトのリニュ
 ーアルにおける成功のコツをお伝えします。\n\n\n参加
 対象\n\n\n企業のWeb責任者\n企業のWeb担当者\n\n\n※ リク
 ルーティング、勧誘など、採用目的でのイベント参加
 はお断りしております。\n※ 競合他社様のご参加は、
 ご遠慮いただいておりますのでご了承ください。\n※ 
 欠席される場合は、お手数ですが速やかにキャンセル
 処理をお願い致します。\n\n持ち物\n\n名刺２枚\n※ 受
 付時にお渡し下さい。\n\n参加費\n\n無料\n\n注意事項\n\n
 ※定員を超えた場合は先着順とさせて頂きます。\n※
 当日は会場受付まで名刺2枚をご持参ください。\n※競
 合他社様のご参加は、ご遠慮いただいておりますので
 ご了承ください。\n※講演の内容は予告なく変更とな
 る場合がございます。\n\nご協力のお願い\n\n・申込後
 のキャンセルについては、前日までにご連絡ください
 。\n・セミナー進行の都合上、10分前のご着席をお願い
 しております。\n・セミナー風景を写真撮影して利用
 させて頂きます。\n　万が一個人が特定できる画像の
 場合、モザイク等で特定できない状態へ\n　加工を行
 った上で、利用させて頂く事がございます。\n　何卒
 ご理解・ご了承くださいますようお願いいたします。\
 n\n個人情報保護方針について\n\n今回ご提供いただく個
 人情報は、株式会社アリウープと本セミナーの共催企
 業が取り扱い、\n各社の個人情報保護方針に基づき厳
 重に管理いたします。\n
LOCATION:東京都渋谷区渋谷2-15-1　渋谷クロスタワー32F 東
 京都渋谷区渋谷2-15-1　渋谷クロスタワー32F
URL:https://techplay.jp/event/731139?utm_medium=referral&utm_source=ics&utm
 _campaign=ics
END:VEVENT
END:VCALENDAR
