BEGIN:VCALENDAR
VERSION:2.0
PRODID:-//https://techplay.jp//JP
CALSCALE:GREGORIAN
METHOD:PUBLISH
X-WR-CALDESC:6/28（金）東京スタートアップ・ビジネス交流
 会【女性の起業家育成と活躍支援】
X-WR-CALNAME:6/28（金）東京スタートアップ・ビジネス交流
 会【女性の起業家育成と活躍支援】
X-WR-TIMEZONE:Asia/Tokyo
BEGIN:VTIMEZONE
TZID:Asia/Tokyo
BEGIN:STANDARD
DTSTART:19700101T000000
TZOFFSETFROM:+0900
TZOFFSETTO:+0900
TZNAME:JST
END:STANDARD
END:VTIMEZONE
BEGIN:VEVENT
UID:732027@techplay.jp
SUMMARY:6/28（金）東京スタートアップ・ビジネス交流会【
 女性の起業家育成と活躍支援】
DTSTART;TZID=Asia/Tokyo:20190628T190000
DTEND;TZID=Asia/Tokyo:20190628T213000
DTSTAMP:20260421T215043Z
CREATED:20190515T025454Z
DESCRIPTION:イベント詳細はこちら\nhttps://techplay.jp/event/73202
 7?utm_medium=referral&utm_source=ics&utm_campaign=ics\n\n一般社団法
 人グローバル･ベンチャー協会(略称ＧＶＡ)ならびに
 ＩＴサービス企業の株式会社うえじま企画は、\n\n「Ｉ
 Ｔを活用して社会に貢献する」という経営理念のもと
 共催で、ベンチャー企業の創業と成長を支援するため
 、「スタートアップ・ビジネス交流会」を開催致して
 おります。\n\n「スタートアップ・ビジネス交流会」で
 は、会社設立、販路開拓、資金調達、成功ノウハウの
 提供など、オープンイノベーションで、情報共有や連
 携を深め、参加者の起業支援や参加企業の成長支援を
 致しております。また、グローバルで活躍するベンチ
 ャー企業との協業を支援しております。\n\n是非、「ス
 タートアップ・ビジネス交流会」にお気軽にご参加く
 ださい。\n\n＊ビジネス交流会の過去ご参加企業の一例
 \n\n背景\n\n平成２９年２月経済産業省「イノベーショ
 ン・ベンチャー政策について」で\nべンチャー企業に
 関して下記の課題と政策が報告されています。\n\n　(1)
 世界のトップ企業について、⽶国では約1/3が1980年以降
 に設⽴されている\n\n　　⼀⽅、⽇本では約1/6に留まっ
 ており、グローバルで通⽤するベンチャー\n\n　　企業
 の創出・育成も課題。\n\n　(2)国内市場がある程度の規
 模があるため、⼩さくまとまるビジネスモデルが\n\n　
 　多い。また、グローバルな市場や拠点とのつながり
 が⼩さく、グローバルな\n\n　　視野を持った⼈材が少
 ない。\n\n　(3)我が国社会においては、起業が職業の選
 択肢となっておらず、\n\n　　新しいことに挑戦する起
 業家精神が低調。また、⼤企業を含め、\n\n　　新たな
 事業を⽣み出すノウハウを持つ⼈材の層が薄い。\n\n　
 (4)シリコンバレーと⽇本の起業家・企業をつなぐこと
 で、世界市場で\n\n　　打ち勝つベンチャー企業等の創
 出及びグローバルに通⽤しロールモデルと\n\n　　なる
 イノベーターの基礎集団の形成及びグローバルで活躍
 するベンチャーの\n\n　　創出を促進する。\n\n　(5)今
 後の⽇本経済を⽀え、グローバルにインパクトを⽣み
 出す起業家や\n\n　　ベンチャー企業、イノベーション
 企業が⾃律的・連続的に⽣み出す社会を\n\n　　構築し
 、より便利でより豊かな国⺠⽣活を実現するため、様
 々な政策を\n\n　　統合的に実施する。\n\n過去のイベ
 ント風景\n\n\n\n\n\nタイムスケジュール\n\n１９：００～
 　スタートアップ･ピッチ　≪参加費無料≫\n\n　　　
 　　　　・グローバル・ベンチャー協会理事長挨拶\n\n
 　　　　　　　・企業プレゼン(３社予定)\n\n　　　　
 　　　　＊女性の起業家育成と活躍支援\n\n　　　　　
 　　・「女性活躍支援部」のご案内\n\n２０：００～　
 ビジネス交流会\n\n　　　　　　　・参加企業のご紹介
 \n\n　　　　　　　・名刺交換\n\n　　　　　　　・商
 談会\n\n＊どちらかのイベントのみの参加、ビジネス交
 流会からの参加など途中参加・退場もOK\n\n＊ 当日予告
 なく時間配分・内容が変更になる可能性がございます
 。\n\n講師　山田敦子\n\n\n\nインターネット黎明期に大
 手電機メーカーのSEとして電子政府システムの企画〜
 構築に携わったことをきっかけに新規事業・起業に魅
 せられ、生涯のテーマとする。\nコンサルタント、ベ
 ンチャーキャピタリスト、ベンチャーを経て結婚を機
 に退職。\nベンチャー支援家としての活動は一貫して
 継続。\n\n母の介護のため、タイ・バンコクを訪れてい
 た時に The Escape Hunt Experience Bangkok と出会う。 体験型ア
 クティビティへの世界的な需要の高まり、日本でのイ
 ンバウンド市場の拡大傾向等の社会的背景から事業性
 を感じ、交渉の末に日本国内独占事業権を獲得。\n\n201
 5年1月、エスケープハントジャパン株式会社設立。8月
 に第一号店である「エスケープハント東京」を東京・
 浅草にオープン。 国内唯一のフルバイリンガルサービ
 スの体験型アクティビティとして、娯楽目的から国際
 会議での出張イベントや地域の魅力を伝える周遊型イ
 ベントなど活用シーンも多岐にわたる。\n\n2017年1月、
 インバイトジャパン株式会社に社名変更。訪日外国人
 数増大、各地方のMICE誘致強化などにより高まるバイリ
 ンガルのチームビルディング需要に応じたサービスを
 強化。\n\n2018年2月、エスケープハントは、脱出ゲーム
 なぞばこ にブランド名を変更。\n\n参加対象\n\n・IT企
 業ならびにベンチャー経営者の方、またはこれから起
 業を目指す方\n\n・ベンチャー企業と中小中堅企業の経
 営者で、資金調達を希望する方\n\n・自社の業績を向上
 を目指している経営者・管理職の方\n\n・ベンチャー企
 業と中小中堅企業の経営者の方で、売上を増加させた
 い方\n\n・オープンイノベーションで事業を展開したい
 経営者・管理職の方\n\n・経営企画部門の方\n\n・資金
 調達についてご興味をお持ちの方\n\n・IT企業ならびに
 ベンチャーや起業に興味のある学生や個人事業主の方\
 n\n・上場企業やＶＣの新規事業担当者で、ベンチャー
 企業への\n\n　投資および提携を検討中の方\n\n・大学
 教授および大学関係者で起業を予定している方\n\nビジ
 ネス交流会 参加費\n\nフリードリンク、オードブル各
 種、ワイン・デザートもご用意しております。\n\n◆一
 般　￥３，５００円 + 税（当日現金支払い/カード不可
 ）\n◆学生　￥１，０００円 + 税（当日現金支払い/カ
 ード不可）\n\n\n＊学生の方は受付で学生証をご提示く
 ださい。ご提示頂けない場合は通常料金（3\,500円+税）
 となりますので、ご注意ください。\n\n定員\n\n５０名
 様（先着順）\n\n＊他サイトでも募集を行っており、毎
 回２０～５０名の方にご参加頂いています。\n\n＊名刺
 をお持ちの方は受付で頂戴します。\n\n会場\n\n■１９
 ：００～田端オフィス５F\n\n東京都北区東田端1-13-10　
 ツインビル田端A棟５F\n\n■２０：００～惣菜ばるおた
 めし屋\n\n東京都北区東田端1-13-9　ツインビル田端Ｂ棟
 １Ｆ\n\n主催者\n\n一般社団法人グローバル･ベンチャ
 ー協会\n\n株式会社うえじま企画　ITビジネス大学\n\n代
 表者　略歴\n\n■相互協力団体\n\nアドバンスト・ビジ
 ネス創造協会（ABC協会） \n\n一般社団法人情報処理学
 会(ＩＰＳ)\n\nモバイルコンピューティグ推進コンソー
 シアム(MCPC)\n\n伊豆に創癒の隠れ郷 水生の庄\n\n注意事
 項\n\n※イベント当日の様子は後日なんらかの媒体に掲
 載させていただく場合がございます。\n\n※ 参加を辞
 退する場合は、詳細ページより申込のキャンセルをお
 願い致します。\n\n※ 無断キャンセル・欠席が続く場
 合、次回以降の参加をお断りさせていただく場合がご
 ざいます。何卒ご理解とご協力をお願い致します。\n\n
 ハッシュタグ\n\n　#一般社団法人グローバルベンチャ
 ー協会 #うえじま企画 #ＩＴプロフェッショナル倶楽部
  #水生の庄 #伊豆 #稲取 #GVA #UEJIMA #IPS #MCPC #ビジネス交
 流会 #人脈づくり #グローバル #交流会 #業績向上 #資金
 調達 #ベンチャー企業 #中小中堅企業 #経営者 #管理職 #
 起業 #起業家 #スタートアップ #ワンステップアップ #
 スタートアップビジネス交流会 #東京 #女性活躍支援\n
LOCATION:田端オフィス５F / 惣菜ばるおためし屋 東京都北
 区東田端１－１３－１０
URL:https://techplay.jp/event/732027?utm_medium=referral&utm_source=ics&utm
 _campaign=ics
END:VEVENT
END:VCALENDAR
