BEGIN:VCALENDAR
VERSION:2.0
PRODID:-//https://techplay.jp//JP
CALSCALE:GREGORIAN
METHOD:PUBLISH
X-WR-CALDESC:ScalaMatsuri 2019 カンファレンス & アンカンファ
 レンス DAY
X-WR-CALNAME:ScalaMatsuri 2019 カンファレンス & アンカンファ
 レンス DAY
X-WR-TIMEZONE:Asia/Tokyo
BEGIN:VTIMEZONE
TZID:Asia/Tokyo
BEGIN:STANDARD
DTSTART:19700101T000000
TZOFFSETFROM:+0900
TZOFFSETTO:+0900
TZNAME:JST
END:STANDARD
END:VTIMEZONE
BEGIN:VEVENT
UID:732334@techplay.jp
SUMMARY:ScalaMatsuri 2019 カンファレンス & アンカンファレン
 ス DAY
DTSTART;TZID=Asia/Tokyo:20190628T092000
DTEND;TZID=Asia/Tokyo:20190629T190000
DTSTAMP:20260423T212256Z
CREATED:20190515T061357Z
DESCRIPTION:イベント詳細はこちら\nhttps://techplay.jp/event/73233
 4?utm_medium=referral&utm_source=ics&utm_campaign=ics\n\nアジア最大
 級の Scala カンファレンス「ScalaMatsuri 2019」\n\nこちらは
 、ScalaMatsuri 2019のチケット購入ページです。\n詳しい情
 報は公式サイト（scalamatsuri.org）を御覧ください。\n最
 新情報はTwitterで発信しております。@scala_jp\n\nチケッ
 ト種別\n\n\n\n種別\n6/28\n懇親会\n6/29\n金額\n\n\n\n一般 (Ear
 ly Bird)\n○\n○\n○\n10\,000円\n\n\n一般\n○\n○\n○\n15\,000
 円\n\n\n学生（懇親会つき）\n○\n○\n○\n5\,000円\n\n\n学
 生（懇親会なし）\n○\n×\n○\n3\,000円\n\n\nアンカンファ
 レンスDayのみ\n×\n×\n○\n5\,000円\n\n\n\nタイムテーブル\n
 \n\n\nチケットに含まれるもの\n\n一般、学生チケット\n\
 n\nカンファレンスDay(6/28)\, アンカンファレンスDay(6/29)
 への入場券\n公募セッションへの投票権(受付終了しま
 した。投票ありがとうございました！)\nTシャツなどの
 ノベルティグッズ\n6月28日の夜の懇親会での夕食(学生
 懇親会なしチケットを除く)\n6月28日の昼食、29日の朝
 食、昼食\n\n\nアンカンファレンスDayのみチケット\n\n\n
 アンカンファレンスDay(6/29)への入場\n公募セッション
 への投票権（終了済)\nTシャツなどのノベルティグッズ
 \n6月29日の朝食、昼食\n\n\nチケットに含まれないもの\n
 \nワークショップDay(6/27)の入場チケットは含まれませ
 ん。\n\nワークショップDAYは入場無料を予定しています
 ので、別途告知します。\n\n諸注意\n\n\n学生チケットを
 お求めの方は、当日、学生証を確認いたします。\n\n\n
 また、必要に応じて事前確認を行う場合があります。\
 n\nノベルティは先着順で配布しますので、無くなり次
 第配布終了となります。ご注意ください。\n\n\n一般、
 学生チケット購入者様には6/28にご来場いただけますと
 、確実にお渡しできます。\nアンカンファレンスDayの
 みチケットをご購入の方は、ノベルティグッズは先着
 順でのお渡しとなります。サイズ切れ等の場合はご容
 赦ください。\n\nチケットの払い戻しには応じかねます
 。 譲渡は自由に行えます。\n\n\nただし、チケットを購
 入された後に「スポンサー招待枠」でご来場される事
 になった場合には、払い戻しをいたします。その際は
 、こちらのフォームより申請をお願いいたします。申
 請の締切は2019/5/31(金)とさせて頂きます。以降の申請
 につきましては、払い戻しをいたしかねますのでご了
 承ください。\n\nカンファレンス発表者は、チケットを
 ご購入頂く必要はありません。\n9時頃に開場を予定し
 ていますので、ぜひ余裕を持ってご来場ください。開
 始時刻は10時を予定していますが、開始時刻前後は受
 付が大変混雑することが予想されます。\n行動規範を
 ご確認の上、ご同意いただける場合のみご購入くださ
 い。\n広報用として、随時・随所で写真を撮影し、公
 開されます。あらかじめご了承ください。\nStripeでの
 支払いがうまくいかない場合は、運営までお問い合わ
 せください\nCFPに応募されている方は、セッションに
 落選した場合にもearly bird価格での特別購入権がござい
 ます。セッションの当落発表後にご購入ください。\n\n
 \nScalaMatsuri関連のそのほかのイベント\n\n\n\n日程\n内容\
 n\n\n\n6/27\nお絵かきで学ぶScala教室\n\n\n6/27\nOSSハッカソ
 ン\n\n\n6/28-29\nカンファレンスDAY & アンカンファレンスD
 AY < 今ココ\n\n\n6/29\nScalaBridge Tokyo\n\n
LOCATION:東京国際交流館 プラザ平成 東京都江東区青海2-2-
 1 国際研究交流大学村内
URL:https://techplay.jp/event/732334?utm_medium=referral&utm_source=ics&utm
 _campaign=ics
END:VEVENT
END:VCALENDAR
