BEGIN:VCALENDAR
VERSION:2.0
PRODID:-//https://techplay.jp//JP
CALSCALE:GREGORIAN
METHOD:PUBLISH
X-WR-CALDESC:ディープラーニング最新論文講座（速習編）
X-WR-CALNAME:ディープラーニング最新論文講座（速習編）
X-WR-TIMEZONE:Asia/Tokyo
BEGIN:VTIMEZONE
TZID:Asia/Tokyo
BEGIN:STANDARD
DTSTART:19700101T000000
TZOFFSETFROM:+0900
TZOFFSETTO:+0900
TZNAME:JST
END:STANDARD
END:VTIMEZONE
BEGIN:VEVENT
UID:732511@techplay.jp
SUMMARY:ディープラーニング最新論文講座（速習編）
DTSTART;TZID=Asia/Tokyo:20190811T180000
DTEND;TZID=Asia/Tokyo:20190811T220000
DTSTAMP:20260422T195402Z
CREATED:20190515T150016Z
DESCRIPTION:イベント詳細はこちら\nhttps://techplay.jp/event/73251
 1?utm_medium=referral&utm_source=ics&utm_campaign=ics\n\nディープラ
 ーニング最新論文講座：日程\n\n求める理解レベルに応
 じて2つの講座をご用意しています。それぞれオンライ
 ン受講も可能です\n\n【速習編】 対面講座4時間x1回　
 合計4時間（ポイントを中心に学習します）\n\n\n\n\n  日
 時\n\n\n\n\n  8/11（土）18:00~22:00\n\n\n\n\n【深掘り編】 対
 面講座4時間x4回　合計16時間\n\n\n\n\n  回\n  日時\n\n\n\n\n
   DAY１\n  6/22（土）18:00~22:00\n\n\n  DAY２\n  7/06（土）18:00~
 22:00\n\n\n  DAY３\n  7/20（土）18:00~22:00\n\n\n  DAY４\n  8/03（
 土）18:00~22:00\n\n\n  予備日\n  8/24（土）18:00~22:00\n\n\n\n\n
 ◆ 本ページでは【速習編】のお申し込みとなります\n\
 n◆ 【深掘り編】およびオンライン受講のお申し込み
 はホームページよりお願いいたします\n\n◆ スキルア
 ップAIの「現場で使えるディープラーニング基礎講座
 」を受講いただきますと、本講座を50%OFFで受講いただ
 けます\n\n概要\n\n近年の機械学習エンジニアには、デ
 ィープラーニングの基本的な実装力だけではなく、日
 々進化しているディープラーニングの最先端をキャッ
 チアップできる能力も求められます。\nしかし、日々
 数多くの論文が投稿される中で、独力でカバーするの
 は、難易度が高く、効率的とは言えません。\nそこで
 本講座では、ディープラーニング講座で触れる重要DL
 論文の理解からさらに一歩先を目指し、最先端をキャ
 ッチアップし続けられる人材となることを目指します
 。\nE資格の合格率を高めることはもちろん、E資格取得
 後の継続的な学びの場としてもご活用ください。\n\nこ
 の講座で得られること\n\n\nディープラーニングに関す
 る最新の研究動向\nディープラーニング最新論文を自
 力でキャッチアップできる力（深掘り編）\nE資格の点
 数アップ（最新の研究に関する出題の可能性がありま
 す）\n\n\n取り扱い予定の論文\n\n【速習編】最新のICML20
 19とICLR2019の話題と、それに関連する過去の論文を紹介
 する予定です\n\n【深掘り編】こちらの記事に掲載され
 ている論文を予定しております\n\n※ 変更となる場合
 がございます\n\n対象者\n\n\n日本ディープラーニング協
 会のE資格試験を受験される予定の方、E資格を取得済
 みの方\nディープラーニングの最新研究に興味がある
 方\n自力で論文を読むきっかけを掴みたい方\n\n\n前提
 知識\n\n\nディープラーニング講座＋機械学習講座を修
 了レベル\nCNN・RNNに関する基本的な動作原理や生成モ
 デル・強化学習に関する基礎知識\n\n\n講師（速習編・8
 /11）\n\nS Saito\n\nスキルアップAI講師。横浜国立大学大
 学院 環境情報学府 情報メディア環境学専攻（現:情報
 環境専攻）修了。修士（情報学）。高専時代に画像認
 識に対して興味を持ったことがきっかけで、現在はDeep
  Learningや機械学習、進化計算などの人工知能分野にお
 けるアルゴリズムの研究開発やコンサルティングに従
 事。日本ディープラーニング協会の2018年度・2019年度E
 資格合格者、2018年度G検定合格者。\n\n会場へのアクセ
 ス\n\nスキルアップAI 水道橋オフィス（JR水道橋駅西口
 より徒歩2分）\n\n東京都千代田区神田三崎町3-3-20 VORT水
 道橋 Ⅱ 5階\n\n\n直接会場にお越しください。\n遅刻さ
 れる場合も直接会場にお越しください\n講義時間中に
 出席を取ります\n\n\n受付・入場時間\n\n開場は開始時刻
 の10分前です\n\n 10分以上前にお越しになられますと
 、会場の準備のために外でお待ちいただく場合がござ
 います。ご注意ください\n\n当日のお持物\n\nPDFファイ
 ルを表示できるPC\n\n講座までの準備\n\n不要\n\n通信環
 境に関して\n\nWi-Fi環境はございますが、繋がりにくい
 場合はご自身のテザリングをご利用ください（ベスト
 エフォートとなります）\n\n請求書・領収書・銀行振込
 \n\n◆ 請求書が必要な方、銀行振込をご希望の方はホ
 ームページからお申し込みください\n\n◆ 領収書\n\n【P
 aypalでお支払いの場合】\nPayPal発行の受領書が領収書と
 なります\n受領書ページは、PayPalの支払い完了ページ
 で「印刷用受領書を見る」をクリックすると表示され
 ます。当社よりの重複しての領収書発行は行えません\
 n\n【Stripeでお支払いの場合】\nStripe発行の受領書が領
 収書となります。当社より重複しての領収書発行は行
 えません\n\n備考\n\n\n最小遂行人数「10名」：開催日の2
 日前までに最小遂行人数に達しない場合は、中止とな
 ります。ただし、複数のチャンネルで募集を行ってい
 るため、本サイトでの申込者数が最小遂行人数に達し
 ない場合でも開催になる場合がございます\n環境設定
 などでつまった場合、可能な限りフォローさせていた
 だきますが、講義の流れを優先させていただきます\n
 勉強会内容を撮影もしくは録音することは、ご遠慮く
 ださい\n個人ブログへの記述については、良識の範囲
 内でお願いいたします\n講義コンテンツは全てスキル
 アップAIに帰属していますので、複製はご遠慮くださ
 い\n\n\n運営団体\n\nスキルアップAI\nhttps://www.skillupai.com/
 \n\n講座に関するお問い合わせは、info@skillupai.comまでお
 願いいたします\n
LOCATION:スキルアップAI 水道橋オフィス／VORT水道橋 Ⅱ 5
 階 東京都千代田区神田三崎町3-3-20
URL:https://techplay.jp/event/732511?utm_medium=referral&utm_source=ics&utm
 _campaign=ics
END:VEVENT
END:VCALENDAR
