BEGIN:VCALENDAR
VERSION:2.0
PRODID:-//https://techplay.jp//JP
CALSCALE:GREGORIAN
METHOD:PUBLISH
X-WR-CALDESC:kintone Café 高知 Vol.10 ～kintone基本のキ～
X-WR-CALNAME:kintone Café 高知 Vol.10 ～kintone基本のキ～
X-WR-TIMEZONE:Asia/Tokyo
BEGIN:VTIMEZONE
TZID:Asia/Tokyo
BEGIN:STANDARD
DTSTART:19700101T000000
TZOFFSETFROM:+0900
TZOFFSETTO:+0900
TZNAME:JST
END:STANDARD
END:VTIMEZONE
BEGIN:VEVENT
UID:732603@techplay.jp
SUMMARY:kintone Café 高知 Vol.10 ～kintone基本のキ～
DTSTART;TZID=Asia/Tokyo:20190629T140000
DTEND;TZID=Asia/Tokyo:20190629T173000
DTSTAMP:20260424T210452Z
CREATED:20190516T140013Z
DESCRIPTION:イベント詳細はこちら\nhttps://techplay.jp/event/73260
 3?utm_medium=referral&utm_source=ics&utm_campaign=ics\n\n～ 簡単に使
 えるクラウドサービス kintone の基本を見直そう～\n\nkin
 tone は難しい専門知識がなくても、業務システムが構
 築できるクラウドサービスです。\n記念すべき、kintone 
 Café 高知 Vol.10では、リリース以降何度もバージョンア
 ップを繰り返してきたkintoneの標準機能でできることを
 今一度確認してみましょう。\nkintoneでできること、活
 用事例も交えながら、明日から使えるクラウドサービ
 スを仕事でも活用しましょう！\n\n～ kintone Café とは～
 \n\nkintone Caféは、まだkintoneに触れたことの無い方から
 、より高度なカスタマイズを行いたいと考えているプ
 ロフェッショナルの方まで幅広い層を対象に、 楽しく
 学び・教え合うことで、kintoneの魅力や活用法をみんな
 で共有するための勉強会コミュニティです。\n\nタイム
 スケジュール\n\n\n\n時間\n内容\n担当\n\n\n\n14:00〜　\n開
 場、受付開始\n　\n\n\n14:20～14:35\n開催ごあいさつ／kinto
 ne Café紹介\nkintoneエバンジェリスト　片岡 淳\n\n\n14:35
 ～14:45\nオープニングLT／会場提供\n株式会社SHIFT PLUS　
 西川 誠\n\n\n14:45～14:55\nオープニングLT／共催紹介\nこ
 うちIT事業者協同組合　片岡 淳\n\n\n14:55～15:00\nオープ
 ニングLT／協力紹介\n株式会社カミノバ　森田 レオ\n\n\
 n15:00～15:30\nkintoneの紹介\nサイボウズ株式会社　松井 
 隆幸\n\n\n15:30～15:45\n休憩\n(名刺交換タイム)\n\n\n15:45～1
 6:00\nLT1\nkintoneエバンジェリスト　新妻 正夫\n\n\n16:00～1
 6:15\nLT2\nタイムコンシェル株式会社　太田 浩功\n\n\n16:1
 5～16:30\nLT3\nkintoneエバンジェリスト　沖 安隆\n\n\n16:30
 ～17:15\nフリートーク\n　\n\n\n17:15～17:20\n閉会ごあいさ
 つ／次回予告\n株式会社ダンクソフト　片岡 幸人\n\n\n1
 7:20　\n終了予定\n　\n\n\n\n※上記予定は、変更する場合
 があります。\n\n詳細な内容は、参加されてのお楽しみ
 ！\n・kintone 提供会社であるサイボウズの方も参加予定
 です。\n・kintone の活用に詳しいエバンジェリストも参
 加します。\nご期待ください！\n\n開催概要\n\n日　時：
 2019年6月29日(土）14:00〜17:30\n場　所：株式会社SHIFT PLUS 
 セミナールーム\n参加費：無料\n定　員：20名\n主　催
 ：kintone Café 高知コミュニティ\n共　催：こうちIT事業
 者協同組合\n協　力：サイボウズ株式会社／株式会社
 カミノバ\n\n懇親会\n\n[登壇者ともじっくり話すチャン
 ス、こちらから申し込みください！]\nhttps://kintonecafe-ko
 chi.doorkeeper.jp/events/91775
LOCATION:株式会社SHIFT PLUS セミナールーム 高知県高知市駅
 前町1-8 第七駅前観光ビル bridge+
URL:https://techplay.jp/event/732603?utm_medium=referral&utm_source=ics&utm
 _campaign=ics
END:VEVENT
END:VCALENDAR
