BEGIN:VCALENDAR
VERSION:2.0
PRODID:-//https://techplay.jp//JP
CALSCALE:GREGORIAN
METHOD:PUBLISH
X-WR-CALDESC:#20 WP ZoomUP 「WordPressのやさしい教科書」実際に
 サイトを作ってみよう！
X-WR-CALNAME:#20 WP ZoomUP 「WordPressのやさしい教科書」実際に
 サイトを作ってみよう！
X-WR-TIMEZONE:Asia/Tokyo
BEGIN:VTIMEZONE
TZID:Asia/Tokyo
BEGIN:STANDARD
DTSTART:19700101T000000
TZOFFSETFROM:+0900
TZOFFSETTO:+0900
TZNAME:JST
END:STANDARD
END:VTIMEZONE
BEGIN:VEVENT
UID:732655@techplay.jp
SUMMARY:#20 WP ZoomUP 「WordPressのやさしい教科書」実際にサ
 イトを作ってみよう！
DTSTART;TZID=Asia/Tokyo:20190610T210000
DTEND;TZID=Asia/Tokyo:20190610T230000
DTSTAMP:20260426T041745Z
CREATED:20190516T142423Z
DESCRIPTION:イベント詳細はこちら\nhttps://techplay.jp/event/73265
 5?utm_medium=referral&utm_source=ics&utm_campaign=ics\n\n2019年5月21日
 発売の新刊「WordPressのやさしい教科書。 手を動かしな
 がら学ぶ実用サイト作りと正しい運用 5.x対応版」の著
 者陣をお招きし、書籍に沿って実際にサイトを作って
 いく予定です。（詳細が決まり次第、内容を更新しま
 す）\n▼WordPressのやさしい教科書。 手を動かしながら
 学ぶ実用サイト作りと正しい運用 5.x対応版\nhttps://www.a
 mazon.co.jp/dp/4844368664/\nスピーカープロフィール\n竹下 和
 人（たけした かずと）\nプログラマー\nシステム会社
 に勤務したのちに独立し、WordPressをはじめとするWebサ
 イト・Webシステム開発を行う。\nWordPressコア開発貢献
 ・公式プラグイン開発を通じて得た知識をもとに、制
 作だけではなく運用サポートも行っている。\n地元神
 戸のWordPressやAWSなどのコミュニティ運営にも参加して
 いる。\n趣味はドローンでの空撮。事業として空撮も
 行なっており、テレビCMなどに映像提供もしている。\n
 https://mt8.biz\n額賀 順子（ぬかが じゅんこ）\n大阪芸術
 大学卒。Webデザイナー、写真家、文筆家。WordPressを中
 心に活動し、WordCamp Kansai 2014 実行委員長、WordCamp Ogijima
  2018 副実行委員長、グローバルのWordPress Community Team で
  Deputyをつとめる。\n2014年より瀬戸内海にある人口160人
 の男木島に住み、社会活動として私設の図書館、男木
 島図書館を開館している。\nhttps://nuuno.net/\nhttps://nukagaj
 unko.com/\nhttps://ogijima-library.or.jp/\n占部 紘（うらべ ひろ
 し）\n長野県内のWEB制作会社に勤務した後フリーラン
 スのフロントエンドエンジニア・WordPress テーマ・プラ
 グイン開発者として活動。現在、株式会社HAMWORKS所属
 。WordPress サイトの構築・プラグイン開発や、CSS設計、
 Vue/Reactを用いたフロントエンド開発を手がける。\nWordP
 ressへの様々な貢献活動や長野県内外のコミュニティ活
 動にも参加・運営している。\nhttps://torounit.com\nシマキ
 ョウスケ\n株式会社 パルスデザイン 勤務 フロントエ
 ンドエンジニア\nWeb制作会社に勤務。WordPressを使ったWe
 bサイト制作や自社でイラスト等の素材配布サイト「素
 材工場」を運営。\nWordCamp Kyoto 2017・Osaka 2018 などに実
 行委員として参加。\n山歩きと餃子とレモンサワーと
 音楽が好き。\nhttps://shimakyohsuke.com/\nhttps://hiking-hiking.com
 /\nイベントの流れ\n参加用URLを、開催の30分前までと開
 始直前にconnpassメールにてお送りします。\n（※ 開始
 後はTwitter・Facebookに掲載します。途中からでもお気軽
 にご参加ください）\n開場は20:50です。21:00より開始と
 なりますので、それまでにご参加開始いただくとスム
 ーズです。\n以下のように進行します。\n\nはじめの挨
 拶\n本イベントについて、インタラクティブ・アンケ
 ート、フィードバック、注意事項\nセッション\n質問タ
 イム\n懇親会\n\nWP ZoomUP とは？\nWP ZoomUP は WordPress を使
 っている人、使いたい人たちが集まって、知識を共有
 したり質問をしたりするオンライン勉強会です。\nhttps
 ://wpzoomup.com/\nWordPress を使っている人、WordPress に興味
 がある人なら、知識の量や技術の有無に関係なく、誰
 でも参加することができます。\n月に2回の開催で、「
 セッション回」と「座談会」を一度ずつ開催します。\
 n「セッション回」では、毎回テーマを設定して、その
 道のスペシャリストを招いて話してもらったり、参加
 者の有志が研究結果を発表したりします。その後、関
 連する内容についてワイワイ話し合ったり質問できる
 時間を作ります。\n「座談会」は、Q&A、雑談のための
 ゆるっとした形で進めていこうと思います。\n発言や
 質問は、自由なタイミングでどんどんしてください。
 初心者、コードを書く人、コンテンツを作る人、もの
 を売る人、デザインする人、考える人、ビジネスをす
 る人などなど、さまざまな人たちの多様な視点が持ち
 込まれることで、参加者全員の理解が深まるからです
 。一方向ではないコミュニケーションが活発な勉強会
 にしましょう。分からないと声を上げたり、提案をす
 ることは、必ず歓迎されます。\nWP ZoomUpは参加者の協
 力によって改善されていきます。フィードバックを取
 り込んで、2時間ができるだけ濃く、役に立つように変
 えていきますので、よろしくお願いします。\nフィー
 ドバック方法\n\n#wpzoomup をつけてつぶやく\n登壇者／セ
 ッション内容提案フォーム から、聞いてみたいセッシ
 ョンを送る\nセッション登壇立候補フォームから、話
 してみたいことを送る\nイベント改善提案フォームか
 ら、イベント自体の改善について提案する\n\n他、この
 ページの一番下にある運営者への個別の連絡も可能で
 す。\n参加方法は？\nZoomというオンラインミーティン
 グツールを利用します。アプリをインストールするこ
 とで、パソコンでもスマホ・タブレットでも参加する
 ことが可能です。\nイベントに参加申し込みをした方
 々に事前にシェアされるURLにアクセスすることで、ア
 プリが自動的に立ち上がり、WP ZoomUPに参加できるよう
 になります。\nイベント開始後しばらくすると、URLは
 一般に（Twitterなどで）公開され、事前申し込みがなく
 ても参加できるようになります。\nZoom の勉強会場に入
 ると、名前を入れたり、デフォルトではオフになって
 いるカメラやマイクをオンにできます。本名を使うの
 かハンドルネームにするのか、カメラをオンにするか
 どうかは自由です。顔が見えるほうが盛り上がります
 ので、できる方はオンにしてみてください。\nマイク
 は発言をするとき以外はオフにしておいてください。\
 nZoom には、オンラインでできるチャットもついていま
 す。セッション中に「○○についてもっと詳しく！」
 ですとか、誰かの質問に対して「それ私も知りたかっ
 た！」など、場を活性化させる参加者でいてください
 。\nZoom の録画機能を利用して、後日、YouTubeやWordPress.t
 vに公開することを考えています。第一回目は、「今か
 ら録画します」と宣言をしながら部分的に録画してみ
 ます。\nオススメのデバイス\n参加（動画と音声発信）
 の方へ\n【一番オススメ】\nパソコン(マイク＋WEBカメ
 ラ)\n画面の切り替えなどが柔軟にできるのでオススメ
 です。懇親会では自己紹介タイムなどもありますので
 マイクとカメラがあるとベストです。\n【オススメ】\n
 タブレット\nWEBカメラやマイクがない場合はタブレッ
 トからでも参加いただけます。ただし、Mentimeterという
 WEBサービスを使って質問に回答していただく時やチャ
 ットへの参加がタブレットでは操作上しにくいところ
 があります。\n【参加可能】\nスマートフォン\nスマー
 トフォンからでも参加いただけます。画面が小さいの
 でスライドやサイトをみて解説するときに見にくい可
 能性があります。\n視聴（見るだけ参加）の方へ\n【一
 番オススメ】\nパソコン\n画面の切り替えなどが柔軟に
 できるのでオススメです。\n【オススメ】\nタブレット
 ・スマートフォン\nMentimeterというWEBサービスを使って
 質問に回答していただいたりしています（参加してい
 ただけたら嬉しいですが、参加されなくても大丈夫で
 す）。タブレット・スマートフォンでは画面の切り替
 えがしづらく答えにくいところがあります。\n【視聴
 可能】\nスマートフォン\nスマートフォンからでも視聴
 いただけます。画面が小さいのでスライドやサイトを
 みて解説するときに見にくい可能性があります。\n歓
 迎されること\nWP ZoomUP をすべての人たちにとって開か
 れた場所にします。ジェンダー、性的指向、障害、人
 種、宗教、好きなOS、好きなプログラミング言語、使
 っているテキストエディター、使っているCMS、技術の
 レベルがなんであっても、誰でも安心していられて、
 自分は歓迎されているんだと思える、友好的な場所に
 します。\n以下のことを歓迎します。\n\n思慮深く、他
 者を尊重し、協力的であること。\n他の人の品位を傷
 つけたり、差別したり、嫌がらせとなる言動を控える
 こと\n会の状況や他の参加者の様子に気を配ること。\n
 ちょっと問題かな、と思えることがあったら、それを
 すぐに運営者に伝えること。\n積極的に参加して、提
 案して、発言することで、会をよくしていき、自分の
 ものにしていくこと。\n\n参考にした文書: Code of Conduct 
 – Make WordPress Communities https://make.wordpress.org/community/handb
 ook/meetup-organizer/resources/code-of-conduct/\n運営者について\n
 西川 伸一\n@shinichiN\n東京、バンコク、男木島と家族で
 移り住みながらWordPressで仕事をしています。WordCamp Toky
 o 2012とWordCamp Ogijima 2018 の実行委員長をしたり、バンコ
 クのWordPressコミュニティーを始めたり。WordPress 専門メ
 ディア Capital P の共同運営、著書に『サイトの拡張性
 を飛躍的に高める WordPressプラグイン開発のバイブル』
 他。ブログとポッドキャスト「男木ラジオ」やってい
 ます。\n村上 直子\n@ud_fibonacci\n1984年生まれ、山口県山
 口市在住のフリーランス。クリエイティブハント山口
 メンバー、WordCamp Ogijima 2018 実行委員。3歳の娘と夫と3
 人暮らし。\nWindows用パッケージソフトの開発を経験後
 、結婚を機に退職。その後、山口市に移住しフォトグ
 ラファーのアシスタントを務める。出産後、在宅で写
 真の補正・現像の仕事を受けるようになり、個人事業
 主となる。\nその後知人に『家にいるならちょっとチ
 ラシ作ってみない？』『ウェブもできるんじゃない？
 』と声を掛けられ、全くの未経験からDTP・ウェブ業界
 に飛び込むことになった。\n額賀 順子\n@nukaga\n1974年福
 島県生まれ、大阪での生活を経て男木島へ。フリーラ
 ンスのWebデザイナー。写真を撮ったり文章を書いたり
 も。男木島では男木島図書館という小さな私設図書館
 を運営しています。WordPressではグローバルのコミュニ
 ティチームをお手伝いしています。\nhttps://nukagajunko.com
 /\nhttps://nuuno.net/\nhttp://yorunonaka.com/\n占部 紘\n@Toro_Unit\n
 長野県松本市在住のフロントエンド/ WordPress エンジニ
 ア。HAMWORKS のフロントエンドとWordPress担当。\n信州 Word
 Press Meetup オーガナイザー。テーマ「Vanilla」、プラグ
 イン「Custom Post Type Permalinks」等を開発。\nWordPress 5.0 コ
 ントリビューター。\nhttp://torounit.com\n三浦 佐代子\n@NOCE
 _WEB_DESIGN\n岡山県岡山市在住のフリーランスWebクリエイ
 ター。専門学校webデザイン学科非常勤講師。Okayama WordP
 ress Meetup オーガナイザー。山口県下関市出身。福岡市
 でプログラマーを経験後、岡山市で専門学校情報シス
 テム学科講師、医療事務講師、ビジネスマナー講師、
 ソフトウェア会社勤務などを経て現在。https://noce-w.com/
 \n齋木 弘樹 (さいき ひろき)\nフロントエンドエンジニ
 アを目指しているエンジニア。\n大学卒業後、17年にわ
 たってDucati専門のチューニングショップでメカニック
 として勤務。腰痛のため退職の後、Webに関する勉強を
 イチから始め、手始めに勉強会に行きまくる。2012年6
 月よりWeb制作会社に勤務。2017年10月から 株式会社mgn
 所属。\nWordCamp東京、東京WordPressMeetupなどWordPress関連の
 勉強会、またCSS nite、HTML5 Conference、JavaScript祭、DISTな
 ど多くのWeb系イベントにスタッフとして参加。\n河野 
 千秋 (こうの ちあき)\n@kouno_chiaki \n香港在住11年目。香
 港でWEBマーケティング＆制作会社をしています。好き
 な点心はもち皮揚げ餃子の咸水角（ハムソイゴッ）。\
 nWordCamp Hong Kong 2019 実行委員、WordCamp Ogijima 2018 実行委
 員、Tsurukame Creative、香港ブログ Love Life 香港！。\nその
 他\nWP ZoomUP が始まった経緯については、「オンライン
 勉強会 WP ZoomUP (仮)」をお読みください。
LOCATION:オンライン
URL:https://techplay.jp/event/732655?utm_medium=referral&utm_source=ics&utm
 _campaign=ics
END:VEVENT
END:VCALENDAR
