BEGIN:VCALENDAR
VERSION:2.0
PRODID:-//https://techplay.jp//JP
CALSCALE:GREGORIAN
METHOD:PUBLISH
X-WR-CALDESC:【初心者歓迎】機械学習のための数学入門【
 線形代数中級編】
X-WR-CALNAME:【初心者歓迎】機械学習のための数学入門【
 線形代数中級編】
X-WR-TIMEZONE:Asia/Tokyo
BEGIN:VTIMEZONE
TZID:Asia/Tokyo
BEGIN:STANDARD
DTSTART:19700101T000000
TZOFFSETFROM:+0900
TZOFFSETTO:+0900
TZNAME:JST
END:STANDARD
END:VTIMEZONE
BEGIN:VEVENT
UID:733093@techplay.jp
SUMMARY:【初心者歓迎】機械学習のための数学入門【線形
 代数中級編】
DTSTART;TZID=Asia/Tokyo:20190602T191500
DTEND;TZID=Asia/Tokyo:20190602T211500
DTSTAMP:20260423T081247Z
CREATED:20190520T100903Z
DESCRIPTION:イベント詳細はこちら\nhttps://techplay.jp/event/73309
 3?utm_medium=referral&utm_source=ics&utm_campaign=ics\n\n概要\n\n機械
 学習の理論を学ぶ上で、数学の基礎的な知識は欠かせ
 ません。そこで、機械学習を理解することに特化した
 数学基礎講座を開講いたします。本講座は線形代数基
 礎編の内容を前提とした、中級編講座です。\n\n講義内
 では深層学習の本などでは当たり前のように出てくる
 概念や記号に的を絞ってわかりやすく解説いたします
 。行列計算の高速化から始まり、特異値分解までをわ
 かりやすく解説いたします！\n\n「機械学習にこれから
 挑戦したい方」「一度勉強しようとしたが、数学的な
 ところでつまずいて、先に進めなかった方」などに、
 これから学習を進めていくきっかけとして非常にオス
 スメな内容となっております。\n\n※本講座は、動画復
 習対応講座でございます。受講した翌日から3日間、動
 画を公開いたします。聞き逃してしまった箇所の補填
 やより深い理解のためにお役立ていただけると幸いで
 す！\n\n※基本的な計算能力（中学レベル）は本講座を
 受講するための前提知識とさせていただきます。\n\n講
 座を通じて得られること\n\n\n機械学習に使われている
 数学の基礎知識の習得\n線形代数の基礎的な知識の理
 解\n\n\nカリキュラム\n\n\n基礎の復習\n行列計算の高速
 化\n対角行列・対称行列・直行行列\n固有値問題\n特異
 値分解\n\n\n※各項目には演習問題を用意しております
 ので、ノートとペンをご用意ください。\n※当日予告
 なく時間配分・内容が変更になる可能性がございます
 。\n\n講座一覧のフローチャート\n\nどの講座から受講
 したら良いのかわからないというような方は、下記の
 フローチャートを参考にしていただければと思います
 。\n\n\n\n持ち物\n\n・パソコンやタブレットなど講義資
 料（PDF）を閲覧するのに適したデバイス\n・ノートと
 ペン（演習問題を多数用意しております。）\n\nこんな
 人にオススメ\n\n・これから機械学習・ディープラーニ
 ングの動作メカニズムを数式レベルで理解したい方\n
 ・数学的な基礎知識を身に付けたい方\n\n講師\n\n吉川
 武文\n東京大学大学院にて機械学習を用いた生物デー
 タ解析の研究を行う。学部では生物情報科学を専攻。
 生物から得られるビッグデータの解析や生物学におけ
 る理論のシミュレーション、モデリングなどにも精通
 。東京大学理科二類最高点合格、日本生物学オリンピ
 ック金賞・本選一位などの受賞歴を持つ。\n\n\n領収書
 について\n\n【Stripeで事前決済の方】\nクレジットカー
 ド会社が発行する明細を領収書の代わりとしてご利用
 ください。\n\n【Paypalの方】\n決済処理後にPaypalから送
 付されるメール内容、またはPaypalの取引履歴から該当
 項目を確認の上、「詳細」をご覧ください。それらが
 領収書の代わりとなります。また、クレジットカード
 会社発行の利用明細書も領収書としてご利用いただけ
 ます。\n\n【別途領収書発行が必要な方】\n別途発行手
 数料として1000円頂きます。必要な方は、以下のフォー
 ムよりご申請ください。領収書発行手数料と受講料金
 を合算した金額で発行いたします。\n全人類がわかる
 統計学 領収書発行フォーム\n\n会場\n\n東京都台東区台
 東１丁目11番4号 誠心Oビル 3階\n\nアクセス\n秋葉原駅よ
 り徒歩5分\nJR線をご利用の方は昭和通り改札、東京メ
 トロ日比谷線をご利用の方は1番出口が最も近くなって
 おります。\n\n受付・入場時間\n\n開始の15分前から\n\n
 ※なるべく5分前までにお入りください。\n※途中参加
 も可能です。\n\nお問い合わせ\n\n・メールでのお問い
 合わせは、info@to-kei.net　までご連絡ください。\n・こ
 ちらで⇨LINE＠からもお問い合わせいただけます。（推
 奨）\n\n注意事項\n\n・リクルーティング、勧誘、採用
 活動など、目的に沿わない行為につきまして、主催者
 が相応しくないと判断した場合は即刻退出処分としま
 す。全員が気持ちよく過ごすことが出来るよう、ご協
 力をお願い致します。\n・講座内で扱うコンテンツは
 全て「全人類がわかる統計学」に帰属しています。複
 製はご遠慮ください。\n・個人ブログへの講義コンテ
 ンツの掲載はご遠慮ください。\n・最小遂行人数は「3
 名」です。開催日の前日までにこの人数に達しない場
 合は中止となります。ただし、複数の媒体で募集を行
 っているので、本サイトの申込者数が最小遂行人数に
 達しない場合でも開催になる場合がございます。もし
 、中止が決定した場合はその時点で「全額返金」し、
 登録しているメールアドレスにご連絡させていただき
 ます。\n\n全人類がわかる統計学とは\n\n株式会社AVILEN
 が運営するサービスです。統計学・機械学習の学習用
 サイト全人類がわかる統計学を運営、管理するほか、
 社会人向けのAI人材やデータサイエンティスト育成の
 ための教育事業を行なっております。\n統計学や機械
 学習を、出来るだけわかりやすく多くの人々に届ける
 ということを目指して活動しています。\n
LOCATION:秋葉原駅徒歩5分 東京都台東区台東１丁目11番4号 
 誠心Oビル 3階
URL:https://techplay.jp/event/733093?utm_medium=referral&utm_source=ics&utm
 _campaign=ics
END:VEVENT
END:VCALENDAR
