BEGIN:VCALENDAR
VERSION:2.0
PRODID:-//https://techplay.jp//JP
CALSCALE:GREGORIAN
METHOD:PUBLISH
X-WR-CALDESC:初開催！ LINE Things Meetup vol1
X-WR-CALNAME:初開催！ LINE Things Meetup vol1
X-WR-TIMEZONE:Asia/Tokyo
BEGIN:VTIMEZONE
TZID:Asia/Tokyo
BEGIN:STANDARD
DTSTART:19700101T000000
TZOFFSETFROM:+0900
TZOFFSETTO:+0900
TZNAME:JST
END:STANDARD
END:VTIMEZONE
BEGIN:VEVENT
UID:733165@techplay.jp
SUMMARY:初開催！ LINE Things Meetup vol1
DTSTART;TZID=Asia/Tokyo:20190604T190000
DTEND;TZID=Asia/Tokyo:20190604T210000
DTSTAMP:20260423T201140Z
CREATED:20190520T142342Z
DESCRIPTION:イベント詳細はこちら\nhttps://techplay.jp/event/73316
 5?utm_medium=referral&utm_source=ics&utm_campaign=ics\n\nLINE Developer C
 ommunity : 第1回 LINE Things Meetup！\nLINE Things の有識者たち
 による講演や、初心者が LT したりして知見共有をする
 イベントです。\n当日は、LINE Thingsを開発しているLINE
 エンジニアや関係者も参加します。\nLINE Things開発や LI
 NE 関連の API に興味がある方には、きっと楽しい会に
 なるので是非お越しくださいませ！\n関連記事：\n・LIN
 E の IoT プラットフォーム LINE Things の Developer Trial を試
 してみる\nhttps://engineering.linecorp.com/ja/blog/line-things-develo
 per-trial/\n・LINE Things でつくったプロトタイプデバイス
 の話\nhttps://engineering.linecorp.com/ja/blog/line-things-prototype/\n
 ・LINE Things 自動通信機能がリリースされました & 使い
 方紹介\nhttps://engineering.linecorp.com/ja/blog/line-things-automatic
 -communication/\n講演者 15 分\n調整中ですが、以下のAPI Expe
 rtたちが話をする予定です。(※調整はこれから)\n\nイ
 マジョー氏\n田中みそ氏\nわかさ氏\nもっちゃん氏\nの
 びすけ氏\n\nLT 3~5 分 (申し込みが多い場合は一人 3 分に
 する可能性があります。)\n申し込みください。\nタイ
 ムテーブル\n\n\n\n時間\nアジェンダ\n\n\n\n\n19:00-19:30\n受
 付時間 *ウェルカムドリンクを用意しています\n\n\n19:30
 -19:35\nはじめの挨拶 n0bisuke\n\n\n19:35-19:45\nLINE Things Mini Aw
 ardについて by LINE株式会社 LINE Things担当より\n\n\n19:45 - 
 20:00\n『LINE Thingsの基礎中の基礎と怒られた話』n0bisuke\n
 \n\n20:00 - 20:15\n『LINE Things の使い所を考えよう』加川 
 澄廣\n\n\n20:15 - 20:30\n『自動通信機能+Amazon Connect』高馬 
 宏典\n\n\n20:30 - 20:45\n『LINE Thingsでウェアラブルデバイ
 スを作ってみた（自動通信機能&micro:bitを使用)』三浦 
 耕生\n\n\n20:45 - 21:00\n「思い立ったらJSオンリーで作っ
 てみて体験して失敗できるLINE Things』若狹 正生\n\n\n21:0
 0-21:05\nおわりの挨拶 -中締め-  Kenichiro Nakamura\n\n\n21:05-22
 :00\n懇親会\n\n\n-22:00\n終了\n\n\n\n会場の入館に関して\n
 ミライナタワー5Fで入館証を受け取って23FのLINEカフェ
 までお越しください。\n時間を過ぎると受付が撤収す
 る可能性があるので、遅れた方はイベントハッシュタ
 グ(#linedc)をつけてツイートしてください。\n運営\n\n日
 本マイクロソフト 中村 憲一郎\nプロトアウトスタジオ
  のびすけ\n\nLINE Developer Community\nDiscordにぜひご参加く
 ださい。 https://discord.gg/2MEsUCN\n当日の持ち物と事前準
 備\n\nLT をする方は自分の PC をお持ちください。(Surface
 のみ、プロジェクター 音響面の接続に対応しておりま
 せんのでご注意ください)\n画面出力は HDMI\, Mini Display P
 ort\, USB Type-C があります。\nWi-Fi あります。\n
LOCATION:LINE株式会社 東京都新宿区新宿四丁目1番6号 ( JR新
 宿ミライナタワー23階 )
URL:https://techplay.jp/event/733165?utm_medium=referral&utm_source=ics&utm
 _campaign=ics
END:VEVENT
END:VCALENDAR
