BEGIN:VCALENDAR
VERSION:2.0
PRODID:-//https://techplay.jp//JP
CALSCALE:GREGORIAN
METHOD:PUBLISH
X-WR-CALDESC:6/17（月）貴方の未来を変える、スタートアッ
 プ起業セミナー！
X-WR-CALNAME:6/17（月）貴方の未来を変える、スタートアッ
 プ起業セミナー！
X-WR-TIMEZONE:Asia/Tokyo
BEGIN:VTIMEZONE
TZID:Asia/Tokyo
BEGIN:STANDARD
DTSTART:19700101T000000
TZOFFSETFROM:+0900
TZOFFSETTO:+0900
TZNAME:JST
END:STANDARD
END:VTIMEZONE
BEGIN:VEVENT
UID:733989@techplay.jp
SUMMARY:6/17（月）貴方の未来を変える、スタートアップ起
 業セミナー！
DTSTART;TZID=Asia/Tokyo:20190617T193000
DTEND;TZID=Asia/Tokyo:20190617T210000
DTSTAMP:20260421T044858Z
CREATED:20190525T063749Z
DESCRIPTION:イベント詳細はこちら\nhttps://techplay.jp/event/73398
 9?utm_medium=referral&utm_source=ics&utm_campaign=ics\n\n一般社団法
 人グローバル･ベンチャー協会ならびにＩＴサービス
 企業の株式会社うえじま企画は、\n\n「ＩＴを活用して
 社会に貢献する」という経営理念のもと共催で、ベン
 チャー企業の創業と成長を支援するため、「スタート
 アップ起業セミナー」を開催致しております。\n\n「ス
 タートアップ起業セミナー」では、会社設立、販路開
 拓、資金調達、成功ノウハウの提供など、オープンイ
 ノベーションで、情報共有や連携を深め、参加者の起
 業支援や参加企業の成長支援を致しております。また
 、グローバルで活躍するベンチャー企業との協業を支
 援しております。\n\n是非、「スタートアップ起業セミ
 ナー」にお気軽にご参加ください。\n\n背景\n\n平成２
 ９年２月経済産業省「イノベーション・ベンチャー政
 策について」で\nべンチャー企業に関して下記の課題
 と政策が報告されています。\n\n　(1)世界のトップ企業
 について、⽶国では約1/3が1980年以降に設⽴されている
 \n\n　　⼀⽅、⽇本では約1/6に留まっており、グローバ
 ルで通⽤するベンチャー\n\n　　企業の創出・育成も課
 題。\n\n　(2)国内市場がある程度の規模があるため、⼩
 さくまとまるビジネスモデルが\n\n　　多い。また、グ
 ローバルな市場や拠点とのつながりが⼩さく、グロー
 バルな\n\n　　視野を持った⼈材が少ない。\n\n　(3)我
 が国社会においては、起業が職業の選択肢となってお
 らず、\n\n　　新しいことに挑戦する起業家精神が低調
 。また、⼤企業を含め、\n\n　　新たな事業を⽣み出す
 ノウハウを持つ⼈材の層が薄い。\n\n　(4)シリコンバレ
 ーと⽇本の起業家・企業をつなぐことで、世界市場で\
 n\n　　打ち勝つベンチャー企業等の創出及びグローバ
 ルに通⽤しロールモデルと\n\n　　なるイノベーターの
 基礎集団の形成及びグローバルで活躍するベンチャー
 の\n\n　　創出を促進する。\n\n　(5)今後の⽇本経済を
 ⽀え、グローバルにインパクトを⽣み出す起業家や\n\n
 　　ベンチャー企業、イノベーション企業が⾃律的・
 連続的に⽣み出す社会を\n\n　　構築し、より便利でよ
 り豊かな国⺠⽣活を実現するため、様々な政策を\n\n　
 　統合的に実施する。\n\n過去のイベント風景\n\n\n\nタ
 イムスケジュール\n\n１９：３０～　セミナー\n\n　　
 　　　　　・一般社団法人グローバル・ベンチャー協
 会のご紹介\n\n　　　　　　　・ベンチャー企業の課題
 について\n\n　　　　　　　・起業支援プログラムのご
 紹介\n\n　　　　　　　・アクセラレータ起業家学校(
 ＩＴビジネス大学)のご案内\n\n　　　　　　　・スタ
 ートアップＣａｆｅのご案内\n\n　　　　　　　・参加
 企業のご紹介\n\n　　　　　　　・ベンチャー企業の成
 功の秘訣　\n\n　　　　　　　・起業についてのお悩み
 相談\n\n　　　　　　　・創業５年で年商１０億円超を
 実現するには！\n\n＊ 当日予告なく時間配分・内容が
 変更になる可能性がございます。\n\n参加対象\n\n・ベ
 ンチャー経営者の方、またはこれから起業を目指す方\
 n\n・ベンチャー経営者で上場企業からの出資またはM&A
 を希望する方\n\n・創業５年で年商１０億円超を目指す
 方\n\n・オープンイノベーションで事業を展開したい方
 \n\n・上場企業の新規事業担当者で、ベンチャー企業へ
 の投資および提携を検討中の方\n\n・大学教授および大
 学関係者で起業を予定している方\n\n※上記以外の方な
 らびに経営者以外の営業、人事の方は対象外です。参
 加をご遠慮いただいております。\n\n定員\n\n２５名様
 （先着順）\n\n◇受付で名刺を１枚頂戴します\n\n主催
 者\n\n一般社団法人グローバル･ベンチャー協会\n\n株
 式会社うえじま企画　ITビジネス大学\n\n代表者　略歴\
 n\n■相互協力団体\n\nアドバンスト・ビジネス創造協会
 （ABC協会）\n\n一般社団法人情報処理学会(ＩＰＳ)\n\nモ
 バイルコンピューティグ推進コンソーシアム(MCPC)\n\n伊
 豆に創癒の隠れ郷 水生の庄\n\n注意事項\n\n※イベント
 当日の様子は後日なんらかの媒体に掲載させていただ
 く場合がございます。\n\n※ 参加を辞退する場合は、
 詳細ページより申込のキャンセルをお願い致します。\
 n\n※ 無断キャンセル・欠席が続く場合、次回以降の参
 加をお断りさせていただく場合がございます。何卒ご
 理解とご協力をお願い致します。\n\n※参加希望者が５
 名様以上集まらない場合はイベントの開催を見送らせ
 て頂きますので、ご了承ください。\n\n(他サイトでも
 募集しております。本サイトが５名様に満たない場合
 でも、実施致します)\n\nハッシュタグ\n\n　#一般社団法
 人グローバルベンチャー協会 #うえじま企画 #ＩＴプロ
 フェッショナル倶楽部 #水生の庄 #伊豆 #稲取 #スター
 トアップ #起業 #経営者 #販路開拓 #業績向上 #資金調達
  #ベンチャー企業\n
LOCATION:田端オフィス５F 東京都北区東田端１－１３－１
 ０　ツインビル田端A棟 
URL:https://techplay.jp/event/733989?utm_medium=referral&utm_source=ics&utm
 _campaign=ics
END:VEVENT
END:VCALENDAR
