BEGIN:VCALENDAR
VERSION:2.0
PRODID:-//https://techplay.jp//JP
CALSCALE:GREGORIAN
METHOD:PUBLISH
X-WR-CALDESC:6/24（月）デジタル人財育成セミナー【デジタ
 ル･トランスフォーメーション(ＤＸ)の実現】
X-WR-CALNAME:6/24（月）デジタル人財育成セミナー【デジタ
 ル･トランスフォーメーション(ＤＸ)の実現】
X-WR-TIMEZONE:Asia/Tokyo
BEGIN:VTIMEZONE
TZID:Asia/Tokyo
BEGIN:STANDARD
DTSTART:19700101T000000
TZOFFSETFROM:+0900
TZOFFSETTO:+0900
TZNAME:JST
END:STANDARD
END:VTIMEZONE
BEGIN:VEVENT
UID:734164@techplay.jp
SUMMARY:6/24（月）デジタル人財育成セミナー【デジタル･
 トランスフォーメーション(ＤＸ)の実現】
DTSTART;TZID=Asia/Tokyo:20190624T193000
DTEND;TZID=Asia/Tokyo:20190624T210000
DTSTAMP:20260421T034342Z
CREATED:20190527T014535Z
DESCRIPTION:イベント詳細はこちら\nhttps://techplay.jp/event/73416
 4?utm_medium=referral&utm_source=ics&utm_campaign=ics\n\n一般社団法
 人グローバル･ベンチャー協会ならびにＩＴサービス
 企業の株式会社うえじま企画は、\n\n「ＩＴを活用して
 社会に貢献する」という経営理念のもと共催で、企業
 の変革と成長を支援するため、「デジタル人財育成セ
 ミナー」を開催致しております。\n\nデジタル人財育成
 セミナーでは、企業のビジネスモデルの変革や新規事
 業創出を実現する、デジタル人財育成方法についてご
 説明させて頂きます。\nまたデジタル･トランスフォ
 ーメーション(ＤＸ)の推進体制の構築方法についてご
 説明させて頂きます。\n\n是非、デジタル人財育成セミ
 ナーにお気軽にご参加ください。\n\n背景\n\n経済産業
 省「ＩＴ人材育成の状況等について」で ＩＴ人材育に
 関して下記の課題と政策が報告されています。\n\n(1)IT
 サービス需要の変化（IoT・AI等の進展）\n\n今後、クラ
 ウド、ビッグデータ、IoT/AIに係るIT投資の市場や、プ
 ラットフォーム化が進展する中、旧来のSIビジネスが
 減少することも予想され、ITベンダーの業務内容やユ
 ーザ企業とIT関連企業の情報システム構築における役
 割や関係にも変化が生じると想定される。\n\n(2)IT人材
 需要の変化\n\n今後市場拡大が予想される「ビッグデー
 タ」、「IoT」、「人工知能」を担う人材について、貴
 省の調査によれば、先端IT人材は約9.7万人、現時点で
 の不足数は約1.5万人であり、2020年までにこの人材数が
 13.9万人、不足数が4.8万人にまで拡大すると試算されて
 いる。\n\nIoT/AI/ビッグデータ活用等、ITの技術やIT活用
 が深化する中で、IT人材に求められる技術的知見やス
 キルも変化し、IT人材が生み出す付加価値の差異が大
 きくなる傾向もみられる。現在のIT人材市場において
 、IoT/AI/ビッグデータ活用を担う先端IT人材や情報セキ
 ュリティ人材の需要が増大する一方で、その供給は限
 られていることから、需給ギャップが拡大すると見込
 まれる。\n\n(3)IT人材にとっての学習・教育機会創出の
 重要性\n\n日本のIT人材は、会社の教育・研修制度や自
 己研鑽支援制度に対する満足度がかなり低いほか、「
 自主的に勉強している」と回答した割合も最も低いと
 いう結果となっている。個々のIT人材に対する十分な
 教育・研修の機会を、企業が自社だけで提供すること
 は、もはや難しくなっている。IT人材個人は企業が提
 供する機会・手段を十分に活用するだけではなく、自
 ら積極的に学習の機会・手段を模索し、活用すること
 が重要となっている。\n\n\n\n＊イベントイメージ\n\nタ
 イムスケジュール\n\n１９：３０～　・一般社団法人グ
 ローバル・ベンチャー協会のご紹介\n\n　　　　　　　
 ・デジタル･トランスフォーメーション(ＤＸ)とは？\n
 \n　　　　　　　・デジタル･トランスフォーメーシ
 ョンに必要な技術と人財\n\n　　　　　　　・デジタル
 ･トランスフォーメーション(ＤＸ)の成功の秘訣　\n\n
 　　　　　　　・デジタル人財育成の課題と現状につ
 いて\n\n　　　　　　　・デジタル人財育成事例のご紹
 介\n\n　　　　　　　・デジタルトランスフォーメーシ
 ョン(ＤＸ)を実現するには！\n\n　　　　　　　・情報
 交換＆名刺交換\n\n※ 当日予告なく時間配分・内容が
 変更になる可能性がございます。\n\n※セミナー中に事
 前の許可無く、当日の写真・動画撮影、録音等はご遠
 慮頂いております。\n\n講師　上嶋茂（うえじましげる
 ）\n\n\n\n早稲田大学院ファイナンス研究科卒。ファイ
 ナンスＭＢＡ。\n\n金融工学やＡＩを活用した金融シス
 テム、流通システム、ＥＲＭリスク管理システムのコ
 ンサルティングおよび開発保守を手がける。\nまた、
 ビジネス変革を希望する企業のデジタル化支援を行う
 。\n\n２０年間にわたり、ＩＴビジネススクールを運営
 し、５０００人以上のＩＴエンジニアの育成とデジタ
 ル人財および経営人財の育成を行う。\n\nまた、ベンチ
 ャー企業への投資と事業再生ならびにＭ＆Ａを手がけ
 る。現在は、観光・飲食・ＩＴ・流通企業などの経営
 を行う。\n\n【現任企業】\n\n一般社団法人グローバル
 ･ベンチャー協会 理事長\n\n㈱うえじま企画/㈱UKnet/㈱
 オープンシステムソリューションズ/㈱地方総合研究所
 /㈱うえじまインベストメント 代表取締役\n\n㈱水生の
 庄/賀茂米穀卸㈱　取締役\n\n参加対象\n\n・デジタル人
 財を育成したい経営者・管理職の方\n\n・デジタル化で
 、自社の業績向上を目指している経営者・管理職の方\
 n\n・オープンイノベーションで事業を展開したい経営
 者・管理職の方\n\n・経営企画部門および人事部門の責
 任者の方\n\n・IT企業ならびにベンチャー経営者の方、
 またはこれから起業を目指す方\n\n・IT企業ならびにベ
 ンチャーや起業に興味のある学生や個人事業主の方\n\n
 ・グローバルで活躍するデジタル人財を目指す、ＩＴ
 エンジニアの方\n\n・大学教授および大学関係者でデジ
 タル人財育成を予定している方\n\n定員\n\n２５名様（
 先着順）\n\n◇受付で名刺を１枚頂戴します\n\n主催者\n
 \n一般社団法人グローバル･ベンチャー協会\n\n株式会
 社うえじま企画　ITビジネス大学\n\n代表者　略歴\n\n■
 相互協力団体\n\nアドバンスト・ビジネス創造協会（ABC
 協会）\n\n一般社団法人情報処理学会(ＩＰＳ)\n\nモバイ
 ルコンピューティグ推進コンソーシアム(MCPC)\n\n伊豆に
 創癒の隠れ郷 水生の庄\n\n注意事項\n\n※イベント当日
 の様子は後日なんらかの媒体に掲載させていただく場
 合がございます。\n\n※ 参加を辞退する場合は、詳細
 ページより申込のキャンセルをお願い致します。\n\n※
  無断キャンセル・欠席が続く場合、次回以降の参加を
 お断りさせていただく場合がございます。何卒ご理解
 とご協力をお願い致します。\n\n※参加希望者が５名様
 以上集まらない場合はイベントの開催を見送らせて頂
 きますので、ご了承ください。\n\n(他サイトでも募集
 しております。本サイトが５名様に満たない場合でも
 、実施致します)\n\nハッシュタグ\n\n　#一般社団法人グ
 ローバルベンチャー協会 #うえじま企画 #ＩＴプロフェ
 ッショナル倶楽部 #水生の庄 #伊豆 #稲取 #デジタル人
 財 #DX #デジタルトランスフォーメーション #情報交換\n
LOCATION:田端オフィス５F 東京都北区東田端１－１３－１
 ０　ツインビル田端A棟 
URL:https://techplay.jp/event/734164?utm_medium=referral&utm_source=ics&utm
 _campaign=ics
END:VEVENT
END:VCALENDAR
