BEGIN:VCALENDAR
VERSION:2.0
PRODID:-//https://techplay.jp//JP
CALSCALE:GREGORIAN
METHOD:PUBLISH
X-WR-CALDESC:顧客体験(CX)設計ワークショップ！
X-WR-CALNAME:顧客体験(CX)設計ワークショップ！
X-WR-TIMEZONE:Asia/Tokyo
BEGIN:VTIMEZONE
TZID:Asia/Tokyo
BEGIN:STANDARD
DTSTART:19700101T000000
TZOFFSETFROM:+0900
TZOFFSETTO:+0900
TZNAME:JST
END:STANDARD
END:VTIMEZONE
BEGIN:VEVENT
UID:734846@techplay.jp
SUMMARY:顧客体験(CX)設計ワークショップ！
DTSTART;TZID=Asia/Tokyo:20190625T190000
DTEND;TZID=Asia/Tokyo:20190625T204500
DTSTAMP:20260421T073848Z
CREATED:20190531T062534Z
DESCRIPTION:イベント詳細はこちら\nhttps://techplay.jp/event/73484
 6?utm_medium=referral&utm_source=ics&utm_campaign=ics\n\n概要\nAI/IoT
 などのテクノロジーが進化するにつれて、マーケティ
 ングのあり方は劇的に変化しています。\n従来型のマ
 スマーケティングの領域を超え、データをうまく蓄積
 ・活用しながら、消費者一人ひとりの行動にあわせた
 アプローチをすることが必要となってきています。\n
 一方で、マーケティングなど顧客サイドの業務に関わ
 る方々は、こんな不安を感じていませんか？\n「従来
 型のマーケティングとの違いがよくわからない、最新
 動向がつかめていない…」\n「デジタルマーケティン
 グの部門に所属しているが、どのように推進してよい
 かわからない…」\n「短期的な認知拡大・売上向上に
 追われていて、中長期的な計画・施策になかなか着手
 できない…」\n「顧客体験価値をどのように設計すれ
 ばよいかが知りたい…」 　\nデジタルマーケティング
 、顧客体験（CX）設計は、日々新しい考え方やツール
 ・事例が次々にでてくるため、組織として推進するこ
 とは難しい領域です。\n本セミナーでは、弊社のデジ
 タルマーケティング・顧客体験設計の進め方をご説明
 します。\nまた、ワークショップを通して、実際のプ
 ロジェクトの進め方を体験いただき、デジタル時代に
 通用する実践力を身につけていただきたいと考えてい
 ます。  \n是非、一度ご参加ください。\n特徴\n■経験
 豊富な講師陣\n- デジタルマーケティングや顧客体験設
 計に知見を持つメンバーが講師を務めます\n- 大手外資
 系コンサルや・大手SIer出身のメンバーが講師を務めま
 す \n■机上論ではない、業務に活かせる実践的な内容\
 n- ワークショップを通じ効果的な顧客体験設計のプロ
 セスを学ぶことができます\n- デジタルマーケティング
 概要、デジタル時代の従来型マーケティングの活用方
 法などを学ぶことができます\n- デジタル技術の活用事
 例を通して、ご自身の会社・事業での活用するための
 ヒントを学ぶことができます\n内容\n\n\n\n時間\n内容\n\n
 \n\n\n18:45～\n受付\n\n\n19:00～19:30\n座学\n\n\n19:30～20:30\nワ
 ークショップ\n\n\n20:30～20:45\n質疑応答・アンケート回
 答\n\n\n20:45～\n希望者がいれば個別相談+懇親会（ドリ
 ンクとおつまみ）など！\n\n\n\n座学では、デジタルマ
 ーケティングの概要や顧客体験設計の進め方について
 お伝えします。\nワークショップでは、実際にカスタ
 マージャニーを作成する演習を通して、実践力を身に
 つけます。\n参加対象者\n\nDX（デジタルトランスフォ
 ーメーション）のプロジェクトを企画する方や実務担
 当されるリーダーの方\nデジタルマーケティングや顧
 客体験（CX）設計のプロジェクトや施策に従事してい
 る、もしくは任されそうだが手を付けられていない方\
 nデジタルマーケティングや顧客体験（CX）設計に着手
 しているが、課題にぶつかっている方\n\n費用\nセミナ
 ーも懇親会も無料ですので、お気軽にご参加ください
 。\n場所\n東京都港区六本木1-6-1 泉ガーデンタワー14階\
 n株式会社ライズコンサルティンググループ受付より、
 本セミナーの件でお呼びください。\n持ち物\n\n名刺1枚
  ※ 来場の際にお渡し下さい。\n筆記用具\n\n当日の連
 絡先\n\nmasafumi.okuda@rise-cg.co.jp\n\n会社紹介\n創業8年目、
 現在80人規模で更に拡大中のコンサルティングファー
 ムです。\n新規事業、業務改革、IT基盤整備などをメイ
 ンに、デジタルマーケティング、AI、IoT、ブロックチ
 ェーン、RPAなど、最新テクノロジー活用に関し、お客
 様の方向性検討や実行支援などをコンサルティングさ
 せて頂いております。\nHP　　　：http://www.rise-cg.co.jp/\n
 Facebook：https://www.facebook.com/RISE.consulting/
LOCATION:株式会社ライズ・コンサルティング・グループ 
 東京都港区六本木1-6-1 泉ガーデンタワー14階
URL:https://techplay.jp/event/734846?utm_medium=referral&utm_source=ics&utm
 _campaign=ics
END:VEVENT
END:VCALENDAR
