BEGIN:VCALENDAR
VERSION:2.0
PRODID:-//https://techplay.jp//JP
CALSCALE:GREGORIAN
METHOD:PUBLISH
X-WR-CALDESC:【増枠】de:code 2019 振り返り Night! Sponsored by Qiit
 a
X-WR-CALNAME:【増枠】de:code 2019 振り返り Night! Sponsored by Qiit
 a
X-WR-TIMEZONE:Asia/Tokyo
BEGIN:VTIMEZONE
TZID:Asia/Tokyo
BEGIN:STANDARD
DTSTART:19700101T000000
TZOFFSETFROM:+0900
TZOFFSETTO:+0900
TZNAME:JST
END:STANDARD
END:VTIMEZONE
BEGIN:VEVENT
UID:734962@techplay.jp
SUMMARY:【増枠】de:code 2019 振り返り Night! Sponsored by Qiita
DTSTART;TZID=Asia/Tokyo:20190610T190000
DTEND;TZID=Asia/Tokyo:20190610T220000
DTSTAMP:20260422T133518Z
CREATED:20190531T142917Z
DESCRIPTION:イベント詳細はこちら\nhttps://techplay.jp/event/73496
 2?utm_medium=referral&utm_source=ics&utm_campaign=ics\n\nLive配信決定
 ！！\n当日の様子がYouTubeでLive配信されます！当日参加
 できない方はぜひLive配信をご覧ください。\n詳しくは
 こちら\nde:code 2019 および本イベントはQiitaがスポンサ
 ーしています\n2018年はde:codeの事前イベントの共催MeetUp
 を開催させていただきました。\n2019年の今年はde:codeの
 Standardスポンサーとして参加しており、de:code 2019に参
 加できなかった方向けの本イベントのスポンサーをさ
 せていただいています。\nまた、de:code当日のイベント
 記事も後日Qiita:Zineに掲載予定ですので、ぜひそちらも
 ご覧ください \n開催概要\n年に１度のエンジニア向け
 の祭典 de:code 2019 (5/29-30)に参加したくてもできなかっ
 た方向けに、テーマを絞りかつ初心者の方にも分かり
 やすく内容凝縮したセッションをお届けします！de:code
  2019で予定されている数多くのトラックのうち、下記
 トラックについてトラックオーナーより直々にホット
 な情報をお届けします。\n\nAI\nCloud\nData Platform\nIoT\n\nAzu
 reなどの技術にまだ慣れていない方、普段は別のテク
 ノロジを使用している方も大歓迎です。ぜひご登録く
 ださい。\n【日時】2019年6月10日 19:00-21:40（受付開始：1
 8:30）\n【主催】日本マイクロソフト株式会社\n【場所
 】日本マイクロソフト品川本社 31F セミナールームC+D  
 (東京都 港区 港南2-16-3　品川グランドセントラルタワ
 ー)\n【定員】80名（抽選）\n【参加費】無料\n【持ち物
 】お名刺１枚\n【参加枠】※Blog枠はご参加後2週間以内
 を目途に、ご自身のBlogまたはQiitaに本イベントのレポ
 ートを公開いただける方の枠です。気になった技術や
 良かったセッションの情報などを可能な範囲で掲載い
 ただけると嬉しいです。\n後日URLを本イベントページ
 下部のコメント覧にて教えてください。\n【タイムテ
 ーブル】\n\n\n\n開始\n終了\nmin\nコンテンツ\nスピーカー
 \n\n\n\n\n18:30\n19:00\n0:30\n受付\n\n\n\n19:00\n19:05\n0:05\nオープ
 ニング\n小田 祥平 (おだしょー)日本マイクロソフト株
 式会社マーケティング & オペレーションズ部門クラウ
 ド & エンタープライズビジネス本部クラウドネイティ
 ブ ＆ デベロッパーリレーション部\n\n\n19:05\n19:40\n0:35\n
 Session1Cloud\n内藤 稔日本マイクロソフト株式会社パート
 ナー事業本部 パートナー技術統括本部ソリューション
 開発技術本部パートナー ソリューション プロフェッ
 ショナル\n\n\n19:40\n20:15\n0:35\nSession2Data Platform\n佐藤 直
 生日本マイクロソフト株式会社パートナー事業本部 パ
 ートナー技術統括本部クラウドプラクティス技術本部A
 zure テクノロジスト\n\n\n20:15\n20:25\n0:10\n休憩\n\n\n\n20:25\n
 21:00\n0:35\nSession3AI\n畠山 大有日本マイクロソフト株式
 会社コマーシャルソフトウェアエンジニアリング本部
 プリンシパル ソフトウェア デベロップメント エンジ
 ニア\n\n\n21:00\n21:35\n0:35\nSession4IoT\n太田 寛日本マイクロ
 ソフト株式会社マーケティング & オペレーションズ部
 門クラウド & エンタープライズビジネス本部クラウド
 ネイティブ ＆ デベロッパーリレーション部\n\n\n21:35\n2
 1:40\n0:05\n中締め＆クロージング\n\n\n\n21:40\n22:00\n0:20\nQ&A
 と公開お悩み相談室\n上記スピーカー以外のメンバー
 も集合し、可能な限り皆さんのご疑問やお悩みなどに
 お答えします。事前の案内に沿ってぜひ沢山のご相談
 をお寄せください！\n\n\n\n※ 競合他社等、こちらの判
 断で参加をお断りさせていただく場合がございます。\
 nマイクロソフト イベント・セミナー お問い合わせ窓
 口\nTEL: 0120-37-0196　(9:00-17:30 土日祝を除く)\n※お問い合
 わせの際は、必ずイベント・セミナー名と開催日をお
 知らせください。
LOCATION:日本マイクロソフト株式会社 品川本社 東京都港
 区港南 2-16-3 品川グランドセントラルタワー
URL:https://techplay.jp/event/734962?utm_medium=referral&utm_source=ics&utm
 _campaign=ics
END:VEVENT
END:VCALENDAR
