BEGIN:VCALENDAR
VERSION:2.0
PRODID:-//https://techplay.jp//JP
CALSCALE:GREGORIAN
METHOD:PUBLISH
X-WR-CALDESC:無料での【English for Engineers】体験クラス
X-WR-CALNAME:無料での【English for Engineers】体験クラス
X-WR-TIMEZONE:Asia/Tokyo
BEGIN:VTIMEZONE
TZID:Asia/Tokyo
BEGIN:STANDARD
DTSTART:19700101T000000
TZOFFSETFROM:+0900
TZOFFSETTO:+0900
TZNAME:JST
END:STANDARD
END:VTIMEZONE
BEGIN:VEVENT
UID:735427@techplay.jp
SUMMARY:無料での【English for Engineers】体験クラス
DTSTART;TZID=Asia/Tokyo:20190624T190000
DTEND;TZID=Asia/Tokyo:20190624T213000
DTSTAMP:20260420T121347Z
CREATED:20190604T051930Z
DESCRIPTION:イベント詳細はこちら\nhttps://techplay.jp/event/73542
 7?utm_medium=referral&utm_source=ics&utm_campaign=ics\n\n無料での「E
 nglish for Engineers」体験クラス\n・本社の外国人上司やや
 社内のチームメンバーともっと積極的にコミュニケー
 ションを取りたいですか？ ・海外のクライアント向け
 にスマートに英語でプレゼンテーションしたいですか
 ？・エンジニアというキャリアに興味があり、プログ
 ラマーとして必要な英語を身につけたいですか？\n無
 料の「English For Engineers」体験クラスへようこそ！「Engl
 ish for Engineers」 はエンジニア、またはエンジニアでな
 くても世界を舞台に力を発揮できる人材を養成するコ
 ースです。グローバルチームとのコミュニケーション
 、英語でのプレゼンテーション、最先端テクノロジー
 の追究など、グローバルに活躍するエンジニアやプロ
 フェッショナルとして必要なスキルを磨くことを目的
 としています。このクラスは、これから予定している
 「English For Engineers」講座の第1回目を模擬したものです
 。\n誰にためのクラスですか？エンジニア以外の方も
 大歓迎です！クラスは英語で行います。麻布にある私
 たちの学校で、6/24に開催しますので皆さんをお待ちし
 ています！もし質問がありましたら、hello(at)codechrysalis
 (.)io までご連絡ください。このワークショップへの参
 加費は無料です。\n**** 日程：6月24日 時間：午後7時に
 会場にお入りいただけます。プログラムは午後7:30-9:30
 までです場所：Code Chrysalis 登録：このウェブサイトで
 「出席」をクリックしてください。****\nCode Chrysalisは
 東京にあるエンジニアを育てるためのシリコンバレー
 式のコーディング・ブートキャンプです。Code Chrysalis 
 についてもっと知りたい方は：https://www.codechrysalis.io 
 を見てみてください！Twitter - https://www.twitter.com/codechrys
 alisJP Instagram - https://www.instagram.com/codechrysalisBlog - https://
 blog.codechrysalis.io/Medium - http://medium.com/code-chrysalis \n\n
LOCATION:Code Chrysalis 〒106-0046東京都港区元麻布3-1-35 VORT元
 麻布地下2階
URL:https://techplay.jp/event/735427?utm_medium=referral&utm_source=ics&utm
 _campaign=ics
END:VEVENT
END:VCALENDAR
