BEGIN:VCALENDAR
VERSION:2.0
PRODID:-//https://techplay.jp//JP
CALSCALE:GREGORIAN
METHOD:PUBLISH
X-WR-CALDESC:【大阪・梅田】WEB系言語もくもく会＋エンジ
 ニア体操
X-WR-CALNAME:【大阪・梅田】WEB系言語もくもく会＋エンジ
 ニア体操
X-WR-TIMEZONE:Asia/Tokyo
BEGIN:VTIMEZONE
TZID:Asia/Tokyo
BEGIN:STANDARD
DTSTART:19700101T000000
TZOFFSETFROM:+0900
TZOFFSETTO:+0900
TZNAME:JST
END:STANDARD
END:VTIMEZONE
BEGIN:VEVENT
UID:735482@techplay.jp
SUMMARY:【大阪・梅田】WEB系言語もくもく会＋エンジニア
 体操
DTSTART;TZID=Asia/Tokyo:20190626T181500
DTEND;TZID=Asia/Tokyo:20190626T210000
DTSTAMP:20260419T221730Z
CREATED:20190604T061739Z
DESCRIPTION:イベント詳細はこちら\nhttps://techplay.jp/event/73548
 2?utm_medium=referral&utm_source=ics&utm_campaign=ics\n\nWeb系言語の
 もくもく会です。体操の時間があります！\n各自、自
 分の開発や勉強を「もくもく」とやります。\n・分か
 らないところがあっても助け合える仲間と会える！\n
 ・最新の技術の知識を勉強し、刺激し合える仲間と会
 える！\n・ITを盛り上げたい！同じ想いを持った仲間と
 会える！\nそんなイベントにできればと思っています
 。\nプログラミング言語は何でもOKです！\nPHP\,Ruby\,Pytho
 n\,Java\,Scala\,HTML\,CSS\,JavaScript\,Node.js\,Vue.js\,MySQL\,Docker\,Go
 \,IoT\,AI\,ワードプレス\,Progateの学習など、それ以外で
 もOK！ \n入退場も自由です。\n飲食も自由です。レンジ
 もあるのでコンビニ弁当などお持ち頂いたら温めるこ
 と可能です！\nお湯もありますので、カップラーメン
 等もOKです。\n大阪からITを盛り上げたいと思っていま
 す！\nエンジニアという職をもっと社会に広め、エン
 ジニアの地位・立場を上げて、\nITの力で社会に貢献す
 る！世の中をあっと言わせる！\n共感できる方、ぜひ
 広めることもご協力お願いできれば幸いです！\nTwitter
 も見ていただければ雰囲気分かるかと思います。　http
 s://twitter.com/osaka_it\n\n\nまた、今回は希望者のみ簡単な
 体操も行います！\n詳細は下記をご覧ください！\n\n\n
 運動をして健康な体を！（希望者のみ）\n専門の方に
 ゲストとしてお越しいただきます。\nアメリカ式整体
 カイロプラクティックの考え方に基づくゴムバンド運
 動を実施します。\n貴方の姿勢が肩・首・腰の凝りや
 痛みに関係が!？\nナゼ姿勢が悪いといけないのか？正
 しい姿勢とは？等のお話しを受けながら\n姿勢を自分
 で整えるゴムバンドを使った体操を体験します！\n無
 料です！　服装は特別なご用意は必要ありません。普
 段の服装で大丈夫です。\n\n【開催内容】\n\n\n\n時間\n
 内容\n\n\n\n\n18：15～\n開始\n\n\n\n自己紹介（後ほど交流
 タイムもあるので、他の参加者のことはチェックして
 おきましょー！）\n\n\n\n軽く交流 ～ もくもく開発・勉
 強\n\n\n19：00～\nエンジニア体操（希望者のみ）\n\n\n20
 ：30～\n交流\n\n\n21：00\n終了\n\n\n\n※入退場自由なので
 、途中からでもお気軽にお越しください。\n\n\n【場所
 】\n大阪市北区芝田1-14-8梅田北プレイス12階（株式会社
 スポーツフィールド）\nhttps://goo.gl/maps/Vek1CEG9HTS2\n（12
 階までお上がりください）\n\n\n【持ち物】\nパソコン
 や書籍などご自身がしたいもの\n（お菓子、飲み物な
 どの差し入れ大歓迎！）\n\n\n【参加費】\n無料\n\n\n【
 主催側で用意しているもの】\n電源\nWiFi\n\n\n注意事項\n
 ※勧誘活動等はお断りです。\n※当日会場内で写真撮
 影をし、公式SNSやイベントページ、社内の活動報告な
 どで掲載される場合があります。ご了承ください（顔
 出しがNGな方は、受付時にお申し出ください）\n\n\nそ
 の他\n１、LT大会や勉強会の場所として使用したい場合
 は、日程によってはお貸しできます。\n２、もくもく
 会の中でLTしたい人がおりましたら、場合によっては
 開催可能です。\n３、学生エンジニア向けの就職活動
 セミナーでエンジニアの仕事についてお話をしていた
 だける方を募集しております。\n当日、スタッフまで
 お声がけください。\n\n\n主催者プロフィール\n森本翔
 太　（Twitter：https://twitter.com/ict_sf_mori　）\n株式会社ス
 ポーツフィールドの設立時から携わっております。\n
 元々営業職でしたが、2016年から開発部門の立ち上げに
 伴い責任者に。\n\n\n告知！　6/28(金)「WEBエンジニア達
 のビアガーデン」\n夏と言えばビアガーデン！！\n梅田
 のど真ん中で、美味しいビールを飲みながらバーベキ
 ューして楽しみましょう！\nhttps://umeda-web-meeting.connpass.
 com/event/133911\n\n\n\n\nもくもく会の雰囲気\n\n\n\n\n
LOCATION:株式会社スポーツフィールド大阪オフィス 大阪
 市北区芝田1-14-8(梅田北プレイス12階)
URL:https://techplay.jp/event/735482?utm_medium=referral&utm_source=ics&utm
 _campaign=ics
END:VEVENT
END:VCALENDAR
