BEGIN:VCALENDAR
VERSION:2.0
PRODID:-//https://techplay.jp//JP
CALSCALE:GREGORIAN
METHOD:PUBLISH
X-WR-CALDESC:第2回　Box Japan Cloud Connections（コミュニティ）
 ミートアップ
X-WR-CALNAME:第2回　Box Japan Cloud Connections（コミュニティ）
 ミートアップ
X-WR-TIMEZONE:Asia/Tokyo
BEGIN:VTIMEZONE
TZID:Asia/Tokyo
BEGIN:STANDARD
DTSTART:19700101T000000
TZOFFSETFROM:+0900
TZOFFSETTO:+0900
TZNAME:JST
END:STANDARD
END:VTIMEZONE
BEGIN:VEVENT
UID:735561@techplay.jp
SUMMARY:第2回　Box Japan Cloud Connections（コミュニティ）ミー
 トアップ
DTSTART;TZID=Asia/Tokyo:20190628T190000
DTEND;TZID=Asia/Tokyo:20190628T213000
DTSTAMP:20260422T162547Z
CREATED:20190604T141901Z
DESCRIPTION:イベント詳細はこちら\nhttps://techplay.jp/event/73556
 1?utm_medium=referral&utm_source=ics&utm_campaign=ics\n\nBoxと実現す
 るデジタルワークプレイスって何だろう？既存のシス
 テムにとらわれない、これからのインフラの在り方を
 みんなで考え、学び、進めていく会です。\n受付時間
 を延長いたしました！\n6月28日(金)の12時までご登録頂
 けます！\nBoxのユーザーによる、ユーザーのための、
 いや、ユーザーじゃなくてもWelcome！\nという会を作っ
 ていくのが目標です。\nBoxのお話だけではなく、Boxか
 ら広がるSaaSの世界、\nインターネットの世界をみなさ
 まにお伝えしていきたいと考えております。\n※今後
 、この会は［Box Japan Cloud Connections（コミュニティ）］
 が運営していきます。\nこの会の目的\n「デジタルワー
 クプレイス」の実現について真剣に考えるコミュニテ
 ィの第2回目は連携に焦点を当てます。\n数多くのサー
 ビスやツールなどを使いこなし、業務で活用させ、い
 かにビジネスを加速させるかを考えることが大切です
 。\nそれにはBoxだけでは成し得ない「Best of Breed」な環
 境とすることが必須です！\n第2回目の今回は、３社に
 登壇頂き、どんなサービスを選び、どのように業務に
 活用し、どんな成果をあげているのかについて共有し
 ていただきます！既存環境（オンプレ、クラウドを含
 む）と新しいSaaSをどう連携させるのか。SaaSの世界の
 つながり、広がりをお伝えしたいと思います。\n各社
 の「デジタルワークプレイス」への取り組み、楽しみ
 にしてください！\n今回の会場\n今回は、Slack Japan 様の
 オフィスをお借りして開催します！\nタイムテーブル\n
 \n\n\n時間\n内容\n登壇者\n\n\n\n\n19:00\n開場・受付開始\n-\
 n\n\n19:20\n開会のごあいさつ・会場説明\nBJCC\n\n\n19:30\nこ
 のコミュニティ「BJCC」の目指すこと\nBJCC 原田\n\n\n19:40
 \nSlackから広がるデジタルワークプレイス\nSlackJapan株式
 会社越野さん株式会社ナビタイムジャパン経営推進部 
 天野 剛志 さん\n\n\n20:00\nつながるひろがるSaaS間連携事
 例\n株式会社サイバーエージェント  経営本部　経営シ
 ステム室　西村　壮礼さん\n\n\n20:20\nCDG様事例から学ぶ
 、SaaS同士をつなげるコツ\n株式会社CDG 管理部情報シス
 テム課　　岸　竜二さん\n\n\n20:40\nこれからの勉強会の
 進め方に関してSlackの使い方個別勉強会のススメ方：Bo
 x Dev Meetupに関して次回、Box World Tour Tokyo 2019でのお話\nB
 JCC\n\n\n20:50\n懇親会\n-\n\n\n21:30\nクロージング\nBJCC\n\n\n\n
 対象者\n\n「デジタルワークプレイス」に興味がある\n
 経営、IT、マーケティング関連の職種の方\nSaaSの活用
 に興味がある！ または、SaaSのビジネスに関わってい
 る！\n\nアウトプットや交流に意欲的な方、大歓迎！\n
 注意事項\n参加費は無料です。\n当日はSlack Japan様のオ
 フィスに入館するため、氏名とメールアドレスの登録
 が必要となります。\n参加をご希望される方はアンケ
 ートにて記入をお願いします。
LOCATION:Slack 大手町オフィス 東京都千代田区大手町１丁
 目１−１（大手町パークビルディング17階）
URL:https://techplay.jp/event/735561?utm_medium=referral&utm_source=ics&utm
 _campaign=ics
END:VEVENT
END:VCALENDAR
