BEGIN:VCALENDAR
VERSION:2.0
PRODID:-//https://techplay.jp//JP
CALSCALE:GREGORIAN
METHOD:PUBLISH
X-WR-CALDESC:【第2回】エンジニア向けの「ウェブ開発勉強
 会（HTMLから脆弱性対策まで）」＠博多開催
X-WR-CALNAME:【第2回】エンジニア向けの「ウェブ開発勉強
 会（HTMLから脆弱性対策まで）」＠博多開催
X-WR-TIMEZONE:Asia/Tokyo
BEGIN:VTIMEZONE
TZID:Asia/Tokyo
BEGIN:STANDARD
DTSTART:19700101T000000
TZOFFSETFROM:+0900
TZOFFSETTO:+0900
TZNAME:JST
END:STANDARD
END:VTIMEZONE
BEGIN:VEVENT
UID:735568@techplay.jp
SUMMARY:【第2回】エンジニア向けの「ウェブ開発勉強会（
 HTMLから脆弱性対策まで）」＠博多開催
DTSTART;TZID=Asia/Tokyo:20190629T100000
DTEND;TZID=Asia/Tokyo:20190629T190000
DTSTAMP:20260425T214635Z
CREATED:20190604T142001Z
DESCRIPTION:イベント詳細はこちら\nhttps://techplay.jp/event/73556
 8?utm_medium=referral&utm_source=ics&utm_campaign=ics\n\n★★大好評
 すぎて、もう第2回開催★★\n※ご注意下さい※\nシス
 テム不具合により別の場所を指していることがありま
 すが本文下の開催場所をご確認ください。\n概要\nウェ
 ブ開発講座と題して、HTMLの基礎からウェブサービス開
 発、脆弱性対策まで学んでいただく1Dayイベントです。
 \n博多での開催となり、現役の開発エンジニアとセキ
 ュリティエンジニアから、\n座学とハンズオンを交え
 ながら学んでいただきます。\nGMOインターネットとパ
 ソナテック共同イベントですので、\nそれぞれの会社
 の特徴にも触れられる機会にもなっています！\n現在
 想定中のプログラム\n・10:00～　HTML/CSSによるウェブサ
 イト制作\n・12:30～　休憩\n・13:30～　C#によるウェブサ
 ービス開発\n・16:00～　セキュリティ(ウェブサービス
 の脆弱性診断と対策)\n・17:30～　会社説明\n・18:00～　
 質疑応答・座談会\nスケジュールは多少前後する可能
 性もありますので、ご了承ください。\n対象\nウェブ開
 発やセキュリティに興味のあるエンジニア　など\n事
 前に準備いただくもの\n・Wi-FiにつながるWindowsノートPC
 （Windows 7以上）\n・Chromeの最新版インストール\nURL：htt
 ps://www.google.com/chrome/\n・GitHubアカウントを作成(すでに
 お持ちの際は不要です)　\nURL：https://github.com/join\n・OWA
 SP ZAPのインストール\nURL：https://github.com/zaproxy/zaproxy/wik
 i/Downloads\n・Visual Studio2019 Community Editionのインストール\
 n1\,下記ページ内の「Community2019のダウンロード」よりex
 eファイルをインストール、実行\nhttps://docs.microsoft.com/j
 a-jp/visualstudio/releases/2019/release-notes\n2\,インストール中
 に表示される選択項目「ワークロード」については、
 下記にチェックを入れ「インストール」\n《.NET デスク
 トップ開発》\n《ASP.NETとWeb開発》\n《データの保存と
 処理》\n《Visual Studio 拡張機能の開発》\n参加費\n無し\n
 補足事項\n■準備いただくものは、ご自身、または他
 の参加者様の進行に影響を及ぼす可能性があります。
 勉強会当日までに、必ず事前にご準備いただくようお
 願い致します。\n■勉強会の内容は、撮影する可能性
 がありますので、ご了承ください。\n■駐輪場は当ビ
 ル1Fにありますが、駐車場はありませんので、近隣の
 コインパーキングをご利用ください。\n■お席に限り
 がございます。\n※ご協力のお願い※\nキャンセルされ
 る場合には、他の方が参加できるように本ページから
 「キャンセル処理」のご対応をお願い致します。\n開
 催場所\n株式会社パソナテック　福岡支店・博多Lab セ
 ミナールーム\n福岡県福岡市博多区博多駅南一丁目2番2
 号 \n博多1091ビル　７F\nhttps://www.pasonatech.co.jp/office/fukuok
 a/
LOCATION:パソナテック福岡支店 福岡県福岡市博多区博多
 駅南1-2-2 博多1091ビル7F
URL:https://techplay.jp/event/735568?utm_medium=referral&utm_source=ics&utm
 _campaign=ics
END:VEVENT
END:VCALENDAR
