BEGIN:VCALENDAR
VERSION:2.0
PRODID:-//https://techplay.jp//JP
CALSCALE:GREGORIAN
METHOD:PUBLISH
X-WR-CALDESC:第53回 コンピュータビジョン勉強会＠関東（
 後編）
X-WR-CALNAME:第53回 コンピュータビジョン勉強会＠関東（
 後編）
X-WR-TIMEZONE:Asia/Tokyo
BEGIN:VTIMEZONE
TZID:Asia/Tokyo
BEGIN:STANDARD
DTSTART:19700101T000000
TZOFFSETFROM:+0900
TZOFFSETTO:+0900
TZNAME:JST
END:STANDARD
END:VTIMEZONE
BEGIN:VEVENT
UID:735750@techplay.jp
SUMMARY:第53回 コンピュータビジョン勉強会＠関東（後編
 ）
DTSTART;TZID=Asia/Tokyo:20190706T130000
DTEND;TZID=Asia/Tokyo:20190706T190000
DTSTAMP:20260423T213827Z
CREATED:20190605T141813Z
DESCRIPTION:イベント詳細はこちら\nhttps://techplay.jp/event/73575
 0?utm_medium=referral&utm_source=ics&utm_campaign=ics\n\n目的：\n2019
 年の6月16日～20日にかけて開催されるコンピュータビ
 ジョンのトップカンファレンスの一つである 「Conferenc
 e on Computer Vision and Pattern Recognition (CVPR) 2019」の論文読
 み会(後編)です。\n前編は6/30(日)に開催予定です。\nhttp
 s://kantocv.connpass.com/event/133346/\n発表者：\n今回参加申込
 みは\n・「発表枠」\n・「社会人枠」\n・「学生枠」\n
 の３つがあります。既にchouseisanで発表希望してくれて
 いる方も、発表者枠で参加登録して下さい。\nCVPRの発
 表論文は以下からダウンロード可能です。\nhttp://openacc
 ess.thecvf.com/CVPR2019.py\n発表者の方で発表の内容が決まり
 ましたら、メーリングリストでご連絡いただくか、@kan
 tocvまでご連絡ください。\n発表順は仮です。\n\n\n\n時
 間\n発表者\n論文タイトル\n\n\n\n\n13:00 - 13:10\nOpening\n\n\n\
 n13:10 - 13:40\ntakmin\nLearning Implicit Fields for Generative Shape Mod
 elingOccupany Networks: Learning 3D Reconstruction in Function SpaceDeepS
 DF: Learning Continuous Signed Distance Functions for Shape Representatio
 n\n\n\n13:40 - 14:10\ntomoyokun\nAET vs. AED: Unsupervised Representation
  Learning by Auto-Encoding Transformations rather than Data\n\n\n14:10 - 
 14:40\nsakai\nVideo Action Transformer Network\n\n\n14:40 - 15:00\n休憩
 \n\n\n\n15:00 - 15:30\nalfredplpl\nRethinking the Evaluation of Video Sum
 maries\n\n\n15:30 - 16:00\nmhr380\nA Theory of Fermat Paths for Non-Line-
 of-Sight Shape Reconstruction\n\n\n16:00 - 16:30\nmasataka46\nPifPaf: Com
 posite Fields for Human Pose Estimation\n\n\n16:30 - 17:00\nkagami\nUnder
 standing the Limitations of CNN-based Absolute Camera Pose Regression\n\n
 \n17:00 - 17:20\n休憩\n\n\n\n17:20 - 17:50\nymats\nLearning the Depths 
 of Moving People by Watching Frozen People\n\n\n17:50 - 18:20\nDaigo_HIRO
 OKA\nVariational Information Distillation for Knowledge Transfer\n\n\n18:
 20 - 18:50\nconta\n\n\n\n18:50 - 19:00\nClosing\n\n\n\n19:00 - 20:30\n懇
 親会\n\n\n\n\n開催場所\n株式会社サイバーエージェント 
 アベマタワーズ 10F SeminarRoom-D\n〒150-0042\n東京都渋谷区
 宇田川町40番1号 Abema Towers\nhttps://www.cyberagent.co.jp/corporat
 e/access/abematowers/\n※マークシティではありませんので
 ご注意ください。\n※ビルまでの推奨ルートはこちら
 をご参考ください: https://bit.ly/2QCiV3M\n会場注意\n当日は
 下記の QR コードをスマホ表示もしくは印刷していただ
 き、ビル1階のゲートにかざしていただけますようお願
 いします。\nhttps://caming-stat.services.isca.jp/qr/page/QrCode_V3f0
 2050a-4c3b-44b1-b53e-506c7897faaa.html\n懇親会について\n引き続
 きサイバーエージェント様の会場をお借りして、ピザ
 やスナックなどの立食形式の懇親会を行います。\n参
 加される方は以下より登録をお願い致します。\nhttps://
 kantocv.connpass.com/event/133980\n無線LANについて：\n利用可\n
 資料の事前アップロード\nオンラインで参加する方の
 ために、発表者の方は事前にSlideShareやGoogleドキュメン
 トに資料を上げて頂けますでしょうか。\nSlide Share:\nhtt
 p://www.slideshare.net/\nGoogle Docs:\nhttp://docs.google.com/?tab=oo&aut
 huser=0#folders/0B6prpJWU-BLhMzMxNjBkNzktYjUwYS00NzUyLTkyNDAtNmZiYWE0NzU3
 ZmRj\nGoogle Docsのアップロード方法は\n\n自分のアカウン
 トのgoogle docsに資料をupする\nupした資料の"共有設定"か
 ら"ユーザーを追加 でCV勉強会のメールアドレス "cvim_tu
 torial@googlegroups.com" を追加する\n"メール通知を送信する
 （推奨）"にチェックが入っていることを確認し\, 共有
 する\n\n配信：\n勉強会の様子はYoutubeのこちらのチャン
 ネルで配信予定です。\nhttps://www.youtube.com/user/Ztakmin\n最
 終的な配信URLは@kantocvから当日お知らせいたします。\n
 また、勉強会の資料が上がったら、#cvsaisentan タグをつ
 けて以下のカウントからtweet予定ですので、フォロー
 をお願いします。\nhttp://twitter.com/kantocv\n勉強会のサイ
 ト：\n過去の履歴などは、以下のサイトで見ることが
 できます。\nhttp://sites.google.com/site/cvsaisentan/\nまた、以
 下のメーリングリストでも連絡を回しています。\nhttp:
 //groups.google.co.jp/group/cvim_tutorial\n諸注意：\n当勉強会で
 は、毎回大量の当日キャンセルと無断欠席に悩まされ
 ています。\nそのような行為は参加したくても参加で
 きない補欠者の方々の迷惑になるため、参加できない
 ことがわかったらできるだけ早いタイミングでのキャ
 ンセルをお願い致します。\nまた、定員オーバーとな
 った場合に過去に無断欠席された方の登録を強制解除
 する場合がございます。ご了承ください。
LOCATION:サイバーエージェント Abema Towoers 東京都渋谷区宇
 田川町40番1号 (Abema Towers)
URL:https://techplay.jp/event/735750?utm_medium=referral&utm_source=ics&utm
 _campaign=ics
END:VEVENT
END:VCALENDAR
