BEGIN:VCALENDAR
VERSION:2.0
PRODID:-//https://techplay.jp//JP
CALSCALE:GREGORIAN
METHOD:PUBLISH
X-WR-CALDESC:量子化学ハンズオン
X-WR-CALNAME:量子化学ハンズオン
X-WR-TIMEZONE:Asia/Tokyo
BEGIN:VTIMEZONE
TZID:Asia/Tokyo
BEGIN:STANDARD
DTSTART:19700101T000000
TZOFFSETFROM:+0900
TZOFFSETTO:+0900
TZNAME:JST
END:STANDARD
END:VTIMEZONE
BEGIN:VEVENT
UID:735761@techplay.jp
SUMMARY:量子化学ハンズオン
DTSTART;TZID=Asia/Tokyo:20190804T130000
DTEND;TZID=Asia/Tokyo:20190804T180000
DTSTAMP:20260424T072043Z
CREATED:20190605T141946Z
DESCRIPTION:イベント詳細はこちら\nhttps://techplay.jp/event/73576
 1?utm_medium=referral&utm_source=ics&utm_campaign=ics\n\n講師は中田
 真秀さんです。\n持ち物\nPythonとJupyter NotebookとPsi4をイ
 ンストール済のパソコン\n(Psi4は当日に講師のインスト
 ール方法レクチャーもありますが、時間がかかります
 ので、スムーズな進行のために、事前インストールを
 お願いします。Python\, Jupyter Notebookのインストールにつ
 いては説明しませんので、事前にインストールしてく
 ださい)
LOCATION:MDR株式会社 文京区本郷2-40-14-3F
URL:https://techplay.jp/event/735761?utm_medium=referral&utm_source=ics&utm
 _campaign=ics
END:VEVENT
END:VCALENDAR
