BEGIN:VCALENDAR
VERSION:2.0
PRODID:-//https://techplay.jp//JP
CALSCALE:GREGORIAN
METHOD:PUBLISH
X-WR-CALDESC:【MT東京-59】はじめてのMovable Type.
X-WR-CALNAME:【MT東京-59】はじめてのMovable Type.
X-WR-TIMEZONE:Asia/Tokyo
BEGIN:VTIMEZONE
TZID:Asia/Tokyo
BEGIN:STANDARD
DTSTART:19700101T000000
TZOFFSETFROM:+0900
TZOFFSETTO:+0900
TZNAME:JST
END:STANDARD
END:VTIMEZONE
BEGIN:VEVENT
UID:735812@techplay.jp
SUMMARY:【MT東京-59】はじめてのMovable Type.
DTSTART;TZID=Asia/Tokyo:20190629T141500
DTEND;TZID=Asia/Tokyo:20190629T173000
DTSTAMP:20260424T210503Z
CREATED:20190606T060041Z
DESCRIPTION:イベント詳細はこちら\nhttps://techplay.jp/event/73581
 2?utm_medium=referral&utm_source=ics&utm_campaign=ics\n\n概要\n\n案件
 によってCMSを選ぶ時代。\nその1つであるMovable Typeの概
 要やインストールから基本操作までをハンズオンで解
 説します。\n最新バージョンのMovable Type7 を利用します
 。\n\n講師\n\n藤本　壱\n\n対象\n\n・Movable Typeのメリット
 を深く勉強したいかた\n・最新版のMovable Type7を体験し
 たいかた\n\nタイムテーブル\n\n　14:15　受付開始\n　14:3
 0　概要説明\n　14:40　ハンズオン開始\n　16:30　ハンズ
 オン終了\n　16:30　懇親会\n　17:30　終了\n\n注意事項\n\n
 ※ ハンズオン形式となりますので、当日はインターネ
 ット環境に接続可能なノートPCを必ずご持参ください
 （電源とWi-Fiは会場で用意します）。\n※ ハンズオン
 内では、簡単なHTMLやMTテンプレートタグの編集作業を
 行います。\n※ ハンズオンを行うMT7環境ですが、参加
 者用の環境をご用意する予定です（さくらインターネ
 ットの2週間お試し環境を予定）。参加者自身でインス
 トール作業などを行っていただく必要はありません。
 ご自身の環境をお使いいただくことはもちろん可能で
 す。\n※ 会場へは、7Fから階段をご利用ください。エ
 レベーターはございません。\n\n質疑応答\n\nハッシュ
 タグ #mttokyo にてお願いします。\n\n※イベント内容は
 予告なく変更になる場合があります。\n※インターネ
 ット環境及び電源は会場にあります。\n\n主催\n\nMT東京
 \n\n協賛、協力\n\nシックス・アパート株式会社\nアイデ
 アマンズ株式会社\nbit part合同会社\n\nスポンサーは随
 時募集しています！お問い合わせフォームよりご連絡
 ください。
LOCATION:コワーキングスペースoffice7F(会場は8Fです) 埼玉
 県さいたま市大宮区宮町１丁目５ 大宮銀座ビル７Ｆ
URL:https://techplay.jp/event/735812?utm_medium=referral&utm_source=ics&utm
 _campaign=ics
END:VEVENT
END:VCALENDAR
