BEGIN:VCALENDAR
VERSION:2.0
PRODID:-//https://techplay.jp//JP
CALSCALE:GREGORIAN
METHOD:PUBLISH
X-WR-CALDESC:LINE Things Message ハンズオン
X-WR-CALNAME:LINE Things Message ハンズオン
X-WR-TIMEZONE:Asia/Tokyo
BEGIN:VTIMEZONE
TZID:Asia/Tokyo
BEGIN:STANDARD
DTSTART:19700101T000000
TZOFFSETFROM:+0900
TZOFFSETTO:+0900
TZNAME:JST
END:STANDARD
END:VTIMEZONE
BEGIN:VEVENT
UID:735895@techplay.jp
SUMMARY:LINE Things Message ハンズオン
DTSTART;TZID=Asia/Tokyo:20190624T190000
DTEND;TZID=Asia/Tokyo:20190624T220000
DTSTAMP:20260421T074236Z
CREATED:20190606T141516Z
DESCRIPTION:イベント詳細はこちら\nhttps://techplay.jp/event/73589
 5?utm_medium=referral&utm_source=ics&utm_campaign=ics\n\nLINE Developer C
 ommunity でLINE Thingsハンズオンやります。\nテーマはLINE T
 hings Message / 自動通信機能\nLINE Thingsの自動通信機能を
 使ってでBluetoothデバイスと連携する手順をみんなで体
 験してみましょう。\nLINE Things Messageは俗称です。勝手
 に言ってます。公式にはLINE Thingsの自動通信機能。\n\n
 参考: LINE ThingsやLINE Beaconの立ち位置おさらいなど #lined
 c #linethings\n\n\nご参加にあたっては公衆WiFiが利用なノ
 ート PC を携行いただくことと、事前準備を行っていた
 だくことが必要ですのでご注意ください。\nLINE BOT開発
 自体は経験（少なくともおうむ返し）したことがある
 人を前提とします。ご容赦下さい。\n対象者\n\nLINE Thing
 sアプリケーションを開発してみたい人\nIoT気になって
 る人\nBluetooth連携が気になってる人\nLINE BOTを作ったこ
 とがある人\n\nアジェンダ\n\nLINE Things とは\nLINE BOT / LIFF
 などについて\nデバイス側の実装\n\nタイムテーブル\n19
 :00-19:30 受付時間 \n19:30-21:00 イベント時間 \n21:00-21:30 懇
 親会(その場にいる人のテンションでやるかどうか決め
 ます)\n講師\n菅原のびすけ\nIoTLTを主催している人\n第1
 期LINE API Expert \nMicrosoft MVP\nプロトタイピング専門スク
 ール「プロトアウトスタジオ」\n入館について\n開場時
 間になると、5Fにイベント用の受付が出来ます。案内
 に従って入館ください。\nハンズオンなので遅刻はな
 るべく無いようにお願いします。\n当日の持ち物と事
 前準備\n\nConnpass で発行された受付番号をお持ちくださ
 い\n公衆 WiFi が利用可能なノート PC: Windows、macOS のい
 ずれか\nLINE がインストールされたスマートフォン ※LI
 NE Bot の作成にご自身の LINE アカウント（メールアドレ
 ス・パスワード）が必要になりますので、こちらのサ
 イトにログインできるかどうかを事前に確認してくだ
 さい。また、スマートフォンがBluetoothを使えるかどう
 かの確認もお願いします。\nVisual Studio Code (https://code.vi
 sualstudio.com/)\nArduino IDEのインストール (https://www.arduino.c
 c/en/Main/Software)\nUSBTypeCしか使えないパソコンだと、デ
 バイスの接続が出来ない可能性があるので、各自コネ
 クタはご用意ください。\nNode.js (https://nodejs.org/ja/) versi
 on10以上でお願いします。\n内容がLINE BOTを前提とする
 ものになるため、事前にこちらの記事などを参考に、L
 INE BOTを作成しておいて下さい。\n利用デバイスは貸し
 出しがあるかもしれませんが、各自用意できる場合は
 ご用意をお願いします。\n自身で用意する場合はLINE Thi
 ngs Starterのページに載っているものを参考にして下さ
 い。\n\n\n\nその他\n\nFacebookのコミュニティに入ってお
 いていただけると連絡がスムーズかもしれません。\n
 当日、SNSやブログ用に写真を撮影する場合がございま
 す。あらかじめご容赦ください。\n
LOCATION:LINE株式会社 東京都新宿区新宿四丁目1番6号 ( JR新
 宿ミライナタワー23階 )
URL:https://techplay.jp/event/735895?utm_medium=referral&utm_source=ics&utm
 _campaign=ics
END:VEVENT
END:VCALENDAR
