BEGIN:VCALENDAR
VERSION:2.0
PRODID:-//https://techplay.jp//JP
CALSCALE:GREGORIAN
METHOD:PUBLISH
X-WR-CALDESC:赤煉瓦で電子工作の会 「電子工作基礎講座 1
 回目」
X-WR-CALNAME:赤煉瓦で電子工作の会 「電子工作基礎講座 1
 回目」
X-WR-TIMEZONE:Asia/Tokyo
BEGIN:VTIMEZONE
TZID:Asia/Tokyo
BEGIN:STANDARD
DTSTART:19700101T000000
TZOFFSETFROM:+0900
TZOFFSETTO:+0900
TZNAME:JST
END:STANDARD
END:VTIMEZONE
BEGIN:VEVENT
UID:736048@techplay.jp
SUMMARY:赤煉瓦で電子工作の会 「電子工作基礎講座 1回目
 」
DTSTART;TZID=Asia/Tokyo:20190627T190000
DTEND;TZID=Asia/Tokyo:20190627T210000
DTSTAMP:20260421T131935Z
CREATED:20190607T141837Z
DESCRIPTION:イベント詳細はこちら\nhttps://techplay.jp/event/73604
 8?utm_medium=referral&utm_source=ics&utm_campaign=ics\n\n赤煉瓦で電
 子工作の会の勉強会として「電子工作基礎講座」を開
 催します。\n趣味でArduinoやラズパイで遊んでいる人、
 電子の基礎を学べば\n電子工作を今以上に楽しむこと
 が出来ます。\n\n技術評論社出版の\n「電子工作入門以
 前（後閑 哲也著）」を教科書として使いますので\n各
 自ご購入お願いします。\n今回は\n第2章 電子工作とは\
 n第3章 電子工作を始めるための準備\nを予定していま
 す。\n(第1章は各自で自習してください。当日質問が有
 ればお答えします。)\n\n開催日時 : \n6月20日 19:00 ～ 21:0
 0\n6月27日 19:00 ～ 21:00\n両日とも内容は同じです。\n\n参
 加費 : 無料 (500円程度の会場費の支援カンパは歓迎し
 ます)\n\n場所 : Fukuoka Growth Next\n(現在赤煉瓦文化館が改
 修工事中の為 Fukuoka Growth Next で開催します)\n\n「電子
 工作入門以前（後閑 哲也著）」の内容を5～6回に分け
 ての開催となります。\n「基礎講座」次は「IoT入門編
 」、「IoT実践編」と続ける予定です。\n\n名義後援でも
 良いので協賛、後援をしていただける企業・団体を募
 集しています。\n今後の勉強会のスケジュール
LOCATION:Fukuoka growth next 福岡県福岡市中央区大名２丁目６
 −１１
URL:https://techplay.jp/event/736048?utm_medium=referral&utm_source=ics&utm
 _campaign=ics
END:VEVENT
END:VCALENDAR
