BEGIN:VCALENDAR
VERSION:2.0
PRODID:-//https://techplay.jp//JP
CALSCALE:GREGORIAN
METHOD:PUBLISH
X-WR-CALDESC:第２回　Bash和歌山＋net Linux体験会
X-WR-CALNAME:第２回　Bash和歌山＋net Linux体験会
X-WR-TIMEZONE:Asia/Tokyo
BEGIN:VTIMEZONE
TZID:Asia/Tokyo
BEGIN:STANDARD
DTSTART:19700101T000000
TZOFFSETFROM:+0900
TZOFFSETTO:+0900
TZNAME:JST
END:STANDARD
END:VTIMEZONE
BEGIN:VEVENT
UID:736070@techplay.jp
SUMMARY:第２回　Bash和歌山＋net Linux体験会
DTSTART;TZID=Asia/Tokyo:20190622T000000
DTEND;TZID=Asia/Tokyo:20190623T235900
DTSTAMP:20260420T230414Z
CREATED:20190607T221846Z
DESCRIPTION:イベント詳細はこちら\nhttps://techplay.jp/event/73607
 0?utm_medium=referral&utm_source=ics&utm_campaign=ics\n\n概要\n開催
 期間内の間リモート環境でLinuxデスクトップを使える
 ようにします。\n古いPC等にLinuxをインストールすると
 どのような使い勝手になるかをリモートで体験してい
 ただけます。\nアクセス方法等はBash和歌山サイト上で
 追ってお伝えいたしますのでまずは参加登録お願いい
 たします。\n\nなお、このイベントはネットイベントで
 すのでお好きな時間に試してみていただけます。\n参
 加方法は、公開資料「Linuxデスクトップへの接続方法
 」に書いていますのでご一読お願いいたします。
LOCATION:あなたの自宅 和歌山県和歌山市(ネットイベント)
URL:https://techplay.jp/event/736070?utm_medium=referral&utm_source=ics&utm
 _campaign=ics
END:VEVENT
END:VCALENDAR
