BEGIN:VCALENDAR
VERSION:2.0
PRODID:-//https://techplay.jp//JP
CALSCALE:GREGORIAN
METHOD:PUBLISH
X-WR-CALDESC:Super Lumion Seminar #03
X-WR-CALNAME:Super Lumion Seminar #03
X-WR-TIMEZONE:Asia/Tokyo
BEGIN:VTIMEZONE
TZID:Asia/Tokyo
BEGIN:STANDARD
DTSTART:19700101T000000
TZOFFSETFROM:+0900
TZOFFSETTO:+0900
TZNAME:JST
END:STANDARD
END:VTIMEZONE
BEGIN:VEVENT
UID:736257@techplay.jp
SUMMARY:Super Lumion Seminar #03
DTSTART;TZID=Asia/Tokyo:20190629T130000
DTEND;TZID=Asia/Tokyo:20190629T150000
DTSTAMP:20260420T061951Z
CREATED:20190609T231629Z
DESCRIPTION:イベント詳細はこちら\nhttps://techplay.jp/event/73625
 7?utm_medium=referral&utm_source=ics&utm_campaign=ics\n\nSuper Lumion Sem
 inar #03\n\n概要\n新しいLUMIONの活用法や知識、裏技的な
 使い方などを特別な講師をお迎えしてレクチャーして
 いただくSuper Lumion Seminarシリーズの第三弾！講師にLumio
 n Competition Japan 2018で最優秀賞を受賞された株式会社竹
 中工務店 島田 潤氏をお迎えし、特別講義をしていた
 だきます！【無料イベントとの違い】 LUMION中上級者向
 けへの特別講義\n【参加者のメリット】 直接質疑応答
 が出来る\n\nテーマ建築ヴィジュアライゼーションの変
 遷からみる、合理的・効果的な動画の表現タイムスケ
 ジュール\n時間内容12:30〜受付開始13:00〜14:15特別講義
 島田 潤氏1.ビジュアライゼーションの変遷 (15分)   手
 書きのパース～ワイヤーフレーム（東京都庁）～グロ
 ーバルイルミネーション付き動画2.昨年度コンペ制作
 【上級テクニック】 (20分)3.実務でのLUMION応用 (20分)   
 建築設計＆スピード4.秘密のテクニック伝授 (15分)　※
 収録外講義、講義参加者のみの情報となります。14:15
 〜14:30名刺交換会14:30〜15:00懇親会※ 当日予告なく時間
 配分・内容が変更になる可能性がございます。\n\n登壇
 者\n\n    \n        \n    \n    \n        \n        \n            島田
  潤氏\n            株式会社竹中工務店設計部\n            
 東京大学 隈研吾研究室出身。フランス国立建築学校パ
 リ・ラヴィレット校、OMA New Yorkを経て、同研究室にて
 パラメトリック・デザインおよびデジタル・ファブリ
 ケーションの設計・研究を行い、2016年修了。同年から
 竹中工務店 設計部に勤務。住宅や都市木造建築の設計
 を手がける。設計者でありながら、ヴィジュアライゼ
 ーション・映像表現を得意とし、Lumion Competition 2018 最
 優秀賞他 受賞多数。2018年度Lumionコンペ最優秀賞/受賞
 作品\n        \n    \n\n\n参加対象\n\n    設計士・建築関連
 業\n    映像クリイター\n    デザイナー\n\n※ リクルー
 ティング、勧誘など、採用目的でのイベント参加はお
 断りしております。\n※ 飲食のみを目的としたご応募
 ・ご来場はご遠慮ください。\n※ 補欠者の方は、ご来
 場いただいてもご入場いただくことが出来ませんので
 ご了承ください。\n※ 欠席される場合は、お手数です
 が速やかにキャンセル処理をお願い致します。\n\n持ち
 物\n名刺1枚※ 受付時にお渡し下さい。\nお問い合わせl
 um@livingcg.jp事前支払いができない場合等、ご連絡くだ
 さい\n\n参加費\n一般 3\,000円Lumionサブス会員 無料学生1\
 ,000円\n\nハッシュタグ\n#techplayjp
LOCATION:CROSSCOOP青山セミナールーム 東京都港区北青山2-7-2
 6 Landwork青山ビル 9階
URL:https://techplay.jp/event/736257?utm_medium=referral&utm_source=ics&utm
 _campaign=ics
END:VEVENT
END:VCALENDAR
