BEGIN:VCALENDAR
VERSION:2.0
PRODID:-//https://techplay.jp//JP
CALSCALE:GREGORIAN
METHOD:PUBLISH
X-WR-CALDESC:ネットワークプログラマビリティ勉強会 #17
X-WR-CALNAME:ネットワークプログラマビリティ勉強会 #17
X-WR-TIMEZONE:Asia/Tokyo
BEGIN:VTIMEZONE
TZID:Asia/Tokyo
BEGIN:STANDARD
DTSTART:19700101T000000
TZOFFSETFROM:+0900
TZOFFSETTO:+0900
TZNAME:JST
END:STANDARD
END:VTIMEZONE
BEGIN:VEVENT
UID:736299@techplay.jp
SUMMARY:ネットワークプログラマビリティ勉強会 #17
DTSTART;TZID=Asia/Tokyo:20190628T190000
DTEND;TZID=Asia/Tokyo:20190628T210000
DTSTAMP:20260423T071703Z
CREATED:20190610T061957Z
DESCRIPTION:イベント詳細はこちら\nhttps://techplay.jp/event/73629
 9?utm_medium=referral&utm_source=ics&utm_campaign=ics\n\nネットワー
 クプログラマビリティ勉強会とは？\nSDN や NFV が普及
 するにつれ、ネットワークエンジニアにもソフトウェ
 ア開発やオープンソースソフトウェアに関するスキル
 セットが求められるようになってきています。ネット
 ワークプログラマビリティ勉強会は、こういった時代
 の要請に応えるニュータイプなネットワークエンジニ
 アを目指す人々に相互に情報および知見を交換し合い
 、切磋琢磨し合う場を提供します。\nガチ勢の方もこ
 れから勉強していこうというゆるふわ初心者の方も、
 これらのスキルセットを延ばしていくことに熱意のあ
 る方の参加をお待ちしています！！\n会場入館（重要
 ！）\nお借りする会場DEJIMAの入館者管理のため、イベ
 ント申し込み時のアンケートで、ご氏名、ご所属（会
 社、大学、個人など）、ご業種の記入をお願いします
 。\n合わせて、入館時に、名刺1枚を提出いただくか、
 もしくは、DEJIMAが用意する用紙に記名いただきます。\
 nご了承のほど、よろしくお願いします。\n受付（超重
 要！）\n受付は18:45開始です。東五反田スクエア13Fへ直
 接お越しください。\n＊20時以降は一切入場できません
 のでご了承ください。\nタイムテーブル\n\n\n\n時間\nタ
 イトル\n発表者\n\n\n\n\n18:45-\n受付・開場\n\n\n\n19:00-19:05\
 nはじめに\n\n\n\n19:05-19:35\nここまでできる! 設定ファイ
 ルからのネットワーク構成可視化複雑化するシステム
 の全体像を把握し、「どこで何が起きているのか」を
 とらえるのはどんどん難しくなってきています。今回
 は、最近話題のBatfishというNW機器設定解析ツールと開
 発中のNW構成可視化ツールを使って、NW機器コンフィグ
 から構成情報を抽出し、NW図として可視化する取り組
 みを紹介します。\nTIS 戦略技術センター 萩原 学 さん\
 n\n\n19:35-20:05\nDatadog で作るネットワーク監視のメリッ
 トデメリット SNMPを用いたネットワーク監視において
 、クラウドサービスであるDatadogを利用した場合の事例
 のご紹介と、そこで見えて来た活用方法をご紹介しま
 す。\nサイバーエージェント 山本 孔明 さん\n\n\n20:05-20
 :35\nLagopusとShowNetとAzureとDPDKInterop tokyo 2019 ShowNetで、Lago
 pusRouterを用いて、ShowNetとAzureをIPsecトンネルでつない
 だ。このときのAzure内のNetworkingと、Azure(Hyper-V)上でLagop
 usを動かす際のポイントを共有する。\nLagopus Users Communi
 ty hibitomo さん 日本マイクロソフト 宇田 さん\n\n\n20:35-2
 0:45\n父さんな、パケットキャプチャで飯を食っていこ
 うと思うんだパケットキャプチャで商売始めました。
 実際営業してみて分かったことを共有したいと思いま
 す。\n黒ブラ さん\n\n\n20:45-20:55\nGNS3上の仮想アプライ
 アンス＋GitLabRunner+BDDによるテスト自動化REST APIとNetconf
 を用いてGNS3上に仮想アプライアンスの設置と設定をお
 こない、OSPFv2の経路切替試験の自動化のデモを行いま
 す。またテストケースはBDDを用いて作成し、テストの
 実行はGitLab Runnerを用いて実施します。\n坪田　繁 さん
 \n\n\n20:55-21:05\nネットワークの自動化について(Ansibleと
 それ以外の比較)Cisco機器のネットワーク設定や確認を
 自動化するにあたってどんなツールがあります。今回
 はBatfishやAnsibleに加えてcisco liveで手に入れたばかりの
 新しい手段についてお話します。\n勝男 さん\n\n\n\n＊
 各発表の時間配分は大まかな目安です（状況により前
 後する場合があります）\nショート枠発表者募集！！
 ！\nショート枠（10分）での発表者を募集します！ 発
 表枠が埋まり次第、募集は終了します。 採否が決まり
 次第、主催者から順次ご連絡させていただきます。\n
 枠が埋まりましたため、募集を打ち切りました！\n次
 回以降も是非よろしくお願いします！
LOCATION:DEJIMA 東京都品川区東五反田２丁目１０−２(東五
 反田スクエア13F)
URL:https://techplay.jp/event/736299?utm_medium=referral&utm_source=ics&utm
 _campaign=ics
END:VEVENT
END:VCALENDAR
