BEGIN:VCALENDAR
VERSION:2.0
PRODID:-//https://techplay.jp//JP
CALSCALE:GREGORIAN
METHOD:PUBLISH
X-WR-CALDESC:WEBエンジニア MeetUp＠札幌 #5
X-WR-CALNAME:WEBエンジニア MeetUp＠札幌 #5
X-WR-TIMEZONE:Asia/Tokyo
BEGIN:VTIMEZONE
TZID:Asia/Tokyo
BEGIN:STANDARD
DTSTART:19700101T000000
TZOFFSETFROM:+0900
TZOFFSETTO:+0900
TZNAME:JST
END:STANDARD
END:VTIMEZONE
BEGIN:VEVENT
UID:736538@techplay.jp
SUMMARY:WEBエンジニア MeetUp＠札幌 #5
DTSTART;TZID=Asia/Tokyo:20190627T184500
DTEND;TZID=Asia/Tokyo:20190627T203000
DTSTAMP:20260421T204405Z
CREATED:20190611T141928Z
DESCRIPTION:イベント詳細はこちら\nhttps://techplay.jp/event/73653
 8?utm_medium=referral&utm_source=ics&utm_campaign=ics\n\n概要\n島田 
 浩二(@snoozer05)様とUmemoto Shohei(@cafedomancer)様をお迎えし
 て\n楽天札幌支社のエンジニアメンバーとRuby\,Rails\,Stim
 ulus JSなどの発表します。\n\nRubyやStimulus JSを好きな人
 もこれから学ぼうとしている方も皆様のご参加をお待
 ちしております！\nタイムスケジュール\n\n\n\n時間\n予
 定\n発表者\n\n\n\n\n18:45~\nopen\n-\n\n\n19:00~19:20\nRubyかRailsに
 関するトピック\nKamata Yoshihiko(@ykamata) Rakuten Inc\n\n\n19:20~
 19:40\nRubyかRailsに関するトピック\nMiyazaki Masatoshi Rakuten I
 nc\n\n\n19:40~20:00\nStimulus JSについて\nUmemoto Shohei(@cafedomance
 r)様\n\n\n20:00~20:20\nA Ruby Programming Episode\n島田 浩二(@snooze
 r05)様\n\n\n20:20~20:30\nclose\n-\n\n\n\n会場\n楽天札幌支社\n北
 海道札幌市中央区 北五条西5-2-5 (信金中央金庫ビル7F)\n
 その他\n\n会費無料\n入出自由\nWiFiあり、電源あり\n食
 事/飲み物の提供は予定しておりません\n\n直近のイベ
 ントのご紹介\n7/10(水)に同会場にて\n日本オラクル株式
 会社様をお迎えしてMySQLに関するご講演頂きます。\n詳
 細は下記をご覧ください。\nhttps://rakuten-sapporo.connpass.co
 m/event/135284/
LOCATION:楽天札幌支社 北海道札幌市中央区 北五条西5-2-5 (
 信金中央金庫ビル8F)
URL:https://techplay.jp/event/736538?utm_medium=referral&utm_source=ics&utm
 _campaign=ics
END:VEVENT
END:VCALENDAR
