BEGIN:VCALENDAR
VERSION:2.0
PRODID:-//https://techplay.jp//JP
CALSCALE:GREGORIAN
METHOD:PUBLISH
X-WR-CALDESC:Pythonによるスクレイピング入門
X-WR-CALNAME:Pythonによるスクレイピング入門
X-WR-TIMEZONE:Asia/Tokyo
BEGIN:VTIMEZONE
TZID:Asia/Tokyo
BEGIN:STANDARD
DTSTART:19700101T000000
TZOFFSETFROM:+0900
TZOFFSETTO:+0900
TZNAME:JST
END:STANDARD
END:VTIMEZONE
BEGIN:VEVENT
UID:736873@techplay.jp
SUMMARY:Pythonによるスクレイピング入門
DTSTART;TZID=Asia/Tokyo:20190630T100000
DTEND;TZID=Asia/Tokyo:20190630T130000
DTSTAMP:20260422T224402Z
CREATED:20190613T142356Z
DESCRIPTION:イベント詳細はこちら\nhttps://techplay.jp/event/73687
 3?utm_medium=referral&utm_source=ics&utm_campaign=ics\n\nPythonによる
 スクレイピング入門\n\n概要\n\nスクレイピングの入門
 から最も簡単な文章の類似度判定のロジックを理解し
 、実装できるようになります。\n\nスクレイピングとは
 WEB上のコンテンツから任意のデータを取り出す手法の
 一種です。\n必要な情報を素早く的確に取り出すこと
 のできるスクレイピングは非常に便利です。しかし、H
 TMLやCSSの基本的な知識を持ち合わせていないと独学で
 の習得は少し壁が高いかもしれません。\n当講座では
 、HTML\,CSS\,javascriptの役割についても触れながらスクレ
 イピングの入門を行います。また、APIというサービス
 側であらかじめ用意されているツールを使ってデータ
 を取得する方法やSeleniumを使ってブラウザを操作する
 方法について解説します。合わせて、スクレイピング
 をする上で気をつけなければいけない問題に触れます
 。(seleniumを使ったスクレイピング手法は、実演のみ)\n\
 n当日は実戦形式で進めていきますので、Python3をイン
 ストールしたPCの持参をお願いいたします。\n\n講座を
 通じて得られること\n\n・htmlの構造を理解し、必要な
 データを自在に抽出するスキル\n・スクレイピングし
 たデータを整形する手法の習得 \n・JSON形式のデータの
 取り扱い方の習得\n・APIを使って取得したデータの整
 形方法を習得 \n・Seleniumを使ったChromeの操作方法の理
 解\n\n内容\n\n・html\,css\,javascriptの役割の解説 \n・cssセ
 レクタを使ったスクレイピング \n・スクレイピングし
 たデータの整形 \n・csvファイルへの出力 \n・スクレイ
 ピングをする際の注意点 \n・APIを使用したJSON形式のス
 クレイピング \n・SeleniumでのChromeの操作\n\n※ 当日予告
 なく時間配分・内容が変更になる可能性がございます
 。\n\n講座一覧のフローチャート\n\nどの講座から受講
 したら良いのかわからないというような方は、下記の
 フローチャートを参考にしていただければと思います
 。\n\n\n\n事前準備・持ち物\n\nPython3をインストールした
 PCの持参をお願いいたします．\n\nまた以下のライブラ
 リをインストールするようにお願いいたします。\n\n・
 beautifulsoup4\n・requests\n・pandas\n\n\n講義はJupyter Notebookを
 用いて行いますので，インストール頂いたほうがスム
 ーズに講座を受けることが可能です．\n\nまた、google ch
 romeを使用してhtmlやcssについての説明を行います。イ
 ンストールされていなくても受講にあたって支障はあ
 りませんが、あるとより深い理解ができるかと思いま
 す。\n\n※インストールでお困りの方はinfo@to-kei.netまで
 ご連絡いただければ、可能な範囲で対応致します。\n\n
 こんな人にオススメ\n\n・Pythonのfor文\,if文など基本的
 な文法を理解している方（文法に自信のない方はこち
 らの講座の受講後に当講座の受講をおすすめいたしま
 す。）\n・自然言語処理の基礎を学びたい人\n・WEBに関
 する知識は少ないが、スクレイピングに興味がある人\
 n・スクレピングを使ってデータ処理をしたい人\n・API
 を使ってみたい人。\n\n講師\n\n渡邉雅也\n経済ファイナ
 ンス時系列データに関する研究に従事。統計学、情報
 工学、最適化の理論などに精通。大手証券会社にて機
 械学習に関する技術を用いた分析を行った経験を活か
 し、kaggleなどのコンペティションにも参加。幅広いAI
 分野の講座の講師を務める。\n\n\n領収書について\n\n【
 Stripeで事前決済の方】\nクレジットカード会社が発行
 する明細を領収書の代わりとしてご利用ください。\n\n
 【Paypalの方】\n決済処理後にPaypalから送付されるメー
 ル内容、またはPaypalの取引履歴から該当項目を確認の
 上、「詳細」をご覧ください。それらが領収書の代わ
 りとなります。また、クレジットカード会社発行の利
 用明細書も領収書としてご利用いただけます。\n\n【別
 途領収書発行が必要な方】\n別途発行手数料として1000
 円頂きます。必要な方は、以下のフォームよりご申請
 ください。領収書発行手数料と受講料金を合算した金
 額で発行いたします。\n全人類がわかる統計学 領収書
 発行フォーム\n\n受付・入場時間\n\n開始の15分前から\n\
 n※なるべく5分前までにお入りください。\n※途中参加
 も可能です。\n\nお問い合わせ\n\n・メールでのお問い
 合わせは、info@to-kei.net　までご連絡ください。\n・こ
 ちらで⇨LINE＠からもお問い合わせいただけます。（推
 奨）\n\n注意事項\n\n・リクルーティング、勧誘、採用
 活動など、目的に沿わない行為につきまして、主催者
 が相応しくないと判断した場合は即刻退出処分としま
 す。全員が気持ちよく過ごすことが出来るよう、ご協
 力をお願い致します。\n・講座内で扱うコンテンツは
 全て「全人類がわかる統計学」に帰属しています。複
 製はご遠慮ください。\n・個人ブログへの講義コンテ
 ンツの掲載はご遠慮ください。\n・最小遂行人数は「3
 名」です。開催日の前日までにこの人数に達しない場
 合は中止となります。ただし、複数の媒体で募集を行
 っているので、本サイトの申込者数が最小遂行人数に
 達しない場合でも開催になる場合がございます。もし
 、中止が決定した場合はその時点で登録しているメー
 ルアドレスにご連絡させていただきます。\n・最小遂
 行人数は「3名」です。開催日の前日までにこの人数に
 達しない場合は中止となります。ただし、複数の媒体
 で募集を行っているので、本サイトの申込者数が最小
 遂行人数に達しない場合でも開催になる場合がござい
 ます。もし、中止が決定した場合はその時点で「全額
 返金」し、登録しているメールアドレスにご連絡させ
 ていただきます。\n\n全人類がわかる統計学とは\n\n株
 式会社AVILENが運営するサービスです。統計学・機械学
 習の学習用サイト全人類がわかる統計学を運営、管理
 するほか、社会人向けのAI人材やデータサイエンティ
 スト育成のための教育事業を行なっております。\n統
 計学や機械学習を、出来るだけわかりやすく多くの人
 々に届けるということを目指して活動しています。\n
LOCATION:秋葉原駅徒歩5分 東京都台東区台東１丁目11番4号 
 誠心Oビル 3階
URL:https://techplay.jp/event/736873?utm_medium=referral&utm_source=ics&utm
 _campaign=ics
END:VEVENT
END:VCALENDAR
