BEGIN:VCALENDAR
VERSION:2.0
PRODID:-//https://techplay.jp//JP
CALSCALE:GREGORIAN
METHOD:PUBLISH
X-WR-CALDESC:令和元年度　ITOC機械学習勉強会
X-WR-CALNAME:令和元年度　ITOC機械学習勉強会
X-WR-TIMEZONE:Asia/Tokyo
BEGIN:VTIMEZONE
TZID:Asia/Tokyo
BEGIN:STANDARD
DTSTART:19700101T000000
TZOFFSETFROM:+0900
TZOFFSETTO:+0900
TZNAME:JST
END:STANDARD
END:VTIMEZONE
BEGIN:VEVENT
UID:736960@techplay.jp
SUMMARY:令和元年度　ITOC機械学習勉強会
DTSTART;TZID=Asia/Tokyo:20190709T183000
DTEND;TZID=Asia/Tokyo:20190805T200000
DTSTAMP:20260424T161750Z
CREATED:20190614T062559Z
DESCRIPTION:イベント詳細はこちら\nhttps://techplay.jp/event/73696
 0?utm_medium=referral&utm_source=ics&utm_campaign=ics\n\n【NEWS】ご好
 評につき、定員を10名→15名に増やしました！（2019/6/24
 更新） 　\n\nITOCでは、「人間のもつ‟学習能力„を機
 械（計算機）にも持たせる」ことを目指す人工知能の
 一研究分野である「機械学習」に注目し、研究開発や
 スキル習得・研鑽の場作りを行っています。\n機械学
 習に興味をお持ちの県内IT企業エンジニアの方々にお
 集まりいただき、ITOCを会場に勉強会を開催することと
 しました。\n「令和元年度 ITOC機械学習勉強会」参加者
 募集\n開催日程\n時間は各回18:30～20:00の開催になりま
 す。\n第1回：7月9日 （火）「手書き数字の識別（1）」
 \n第2回：7月16日 (火）「手書き数字の識別（2）」\n\n第
 3回：7月30日（火）「電力使用量予測（1）」\n第4回：8
 月5日  （月）「電力使用量予測（2）」\n\n【手書き数
 字の識別】\n手書き文字の識別をテーマに、画像デー
 タの分類について学習していただきます。既存の画像
 データから、手書きの数字を識別する識別モデルの作
 成を実践します。\n【電力使用量の予測】\n電気使用量
 の予測をテーマに、時系列データの予測について学習
 していただきます。 過去の電力使用量と気温などのデ
 ータから、未来の電力使用量を予測する予測モデルの
 作成を実践します。\n会場\nしまねソフト研究開発セン
 ター（松江市学園南1-2-1　くにびきメッセ西棟4階）\n
 ※くにびきメッセ駐車場は、入庫から3時間は無料です
 。\n参加費\n無料\n対象\n機械学習に興味のあるエンジ
 ニア、学生等（プログラミング経験があること）\n・Py
 thonを使用しますが、Python利用経験は問いません。Ruby
 やJavaを利用したことがある方を想定しています。\n・
 パソコンのスペック\n（勉強会で使用するパソコンは
 参加者ご自身でご用意いただきますようお願いします
 ）　\nPCの環境条件Wi-Fiを利用できること（有線でのイ
 ンターネット接続はできません）\nブラウザGoogle Chrome
 がインストールされていること（Internet Explorer の動作
 は未確認）\n・プログラミング環境は「Google Colaboratory
 」を使用します。Googleアカウントをご用意ください。\
 n定員\n15名（先着順）\n講師\nITOC 木村専門研究員、高
 木専門研究員\n申込締切\n※締切日：令和元年7月5日 （
 金）17：00\n※参加決定は、令和元年7月8日 （月）15：00
  までに申込担当の方へメールいたします。\nお問い合
 わせ先\nしまねソフト研究開発センター\n機械学習勉強
 会Webページ\n　Mail：itoc@s-itoc.jp\n　TEL：0852-61-2225\n　担
 当：渡利
LOCATION:しまねソフト研究開発センター 島根県松江市学
 園南1-2-1
URL:https://techplay.jp/event/736960?utm_medium=referral&utm_source=ics&utm
 _campaign=ics
END:VEVENT
END:VCALENDAR
