BEGIN:VCALENDAR
VERSION:2.0
PRODID:-//https://techplay.jp//JP
CALSCALE:GREGORIAN
METHOD:PUBLISH
X-WR-CALDESC:第343回よちよちAndroidオフライン開発ミーティ
 ング in 大崎
X-WR-CALNAME:第343回よちよちAndroidオフライン開発ミーティ
 ング in 大崎
X-WR-TIMEZONE:Asia/Tokyo
BEGIN:VTIMEZONE
TZID:Asia/Tokyo
BEGIN:STANDARD
DTSTART:19700101T000000
TZOFFSETFROM:+0900
TZOFFSETTO:+0900
TZNAME:JST
END:STANDARD
END:VTIMEZONE
BEGIN:VEVENT
UID:737145@techplay.jp
SUMMARY:第343回よちよちAndroidオフライン開発ミーティング
  in 大崎
DTSTART;TZID=Asia/Tokyo:20190623T100000
DTEND;TZID=Asia/Tokyo:20190623T123000
DTSTAMP:20260423T104703Z
CREATED:20190616T061536Z
DESCRIPTION:イベント詳細はこちら\nhttps://techplay.jp/event/73714
 5?utm_medium=referral&utm_source=ics&utm_campaign=ics\n\nよちよちAndr
 oidサンデープログラミングの会の定例オフライン開発
 ミーティングです。出席者は、このイベントで参加表
 明をしてください。\n場所は、ゲートシティ大崎のB1、
 マクドナルドのあるフロアにあるフリーの座席がたく
 さんあるスペースです。\n一応時間は10:00-12:30としてい
 ますが、会場を押さえているわけではないので、9:00と
 かに来て早めにもくもくして頂いても結構です:-)\nメ
 ンバー限定イベントとしていますが、気になる方はお
 気軽にご参加ください。\nメンバーに加わりたい方は
 、下記HPをご覧ください。\nhttps://sites.google.com/view/yochia
 nd\n当日の問い合わせは、このページのフィードまたは
 Twitterのハッシュタグ#yochiandまでお願いします
LOCATION:ゲートシティ大崎、アトリウム 東京都品川区大
 崎1丁目11−1
URL:https://techplay.jp/event/737145?utm_medium=referral&utm_source=ics&utm
 _campaign=ics
END:VEVENT
END:VCALENDAR
