BEGIN:VCALENDAR
VERSION:2.0
PRODID:-//https://techplay.jp//JP
CALSCALE:GREGORIAN
METHOD:PUBLISH
X-WR-CALDESC:逗子観光 & IT勉強もくもく会（品川〜新逗子へ
 の旅）
X-WR-CALNAME:逗子観光 & IT勉強もくもく会（品川〜新逗子へ
 の旅）
X-WR-TIMEZONE:Asia/Tokyo
BEGIN:VTIMEZONE
TZID:Asia/Tokyo
BEGIN:STANDARD
DTSTART:19700101T000000
TZOFFSETFROM:+0900
TZOFFSETTO:+0900
TZNAME:JST
END:STANDARD
END:VTIMEZONE
BEGIN:VEVENT
UID:737157@techplay.jp
SUMMARY:逗子観光 & IT勉強もくもく会（品川〜新逗子への
 旅）
DTSTART;TZID=Asia/Tokyo:20190629T090000
DTEND;TZID=Asia/Tokyo:20190629T173000
DTSTAMP:20260425T003815Z
CREATED:20190616T084651Z
DESCRIPTION:イベント詳細はこちら\nhttps://techplay.jp/event/73715
 7?utm_medium=referral&utm_source=ics&utm_campaign=ics\n\nイベント概
 要\n\nこの度、京急電鉄が販売している「葉山女子旅き
 っぷ」を使って、逗子への観光 & 逗子のコワーキング
 スペース「COWORKER’S KITCHEN コワーカーズキッチン」で
 のIT勉強もくもく会を行います！\n\n※女子旅とありま
 すが、メンズのご参加OKです！\n\n逗子への観光は、京
 急品川駅からスタートする予定です。\nIT勉強もくもく
 会のみのご参加も可能です。\n\nご好評につき、コワー
 キングスペースの座席数を+6名分増やしました！\n\n葉
 山女子旅きっぷとは\n\n「葉山女子旅きっぷ」は電車＆
 バスの乗車券＋選べる逗子・葉山ごはん券＋選べるお
 みやげ券がセットになった、とってもおトクなきっぷ
 です！\n詳細については、以下URLよりご確認いただけ
 ます。\n\nhttps://www.keikyu.co.jp/information/otoku/otoku_hayamagirl/
 index.html\n\nIT勉強もくもく会とは\n\nIT勉強もくもく会と
 は、プログラミング・デザインなどのITに関する勉強
 を各参加者がもくもくと進める会です。\n\n勉強する内
 容は、Webアプリ、スマホアプリ、デザイン、インフラ
 ・・・何でもOKです！\n\n学生の方、プログラミング・
 デザインの勉強を始めたばかりの方でもお気軽にご参
 加いただけます。\n\n参加申し込み方法\n\nIT勉強もくも
 く会のみの参加か、あるいは逗子への観光も参加され
 るのか把握する為、以下のフォームにて参加申し込み
 をお願い致します。\n\nhttps://forms.gle/1vxsXRuf9dKKFwr2A\n\nタ
 イムスケジュール\n\n\n\n\n  時間\n  内容\n\n\n\n\n  09:00 - 0
 9:15\n  品川駅集合・葉山女子旅きっぷ購入\n\n\n  09:28 - 1
 0:14\n  電車移動(品川駅 - 金沢八景駅 - 新逗子駅)\n\n\n  1
 0:30 - 13:30\n  COWORKER’S KITCHENでもくもく会\n\n\n  13:30 - 14:
 30\n  ランチ(ごはん券使えます)\n\n\n  14:30 - 17:30\n  観光(
 おみやげ券でお土産が買えます)\n\n\n  17:30\n  品川駅へ\
 n\n\n\n\n集合場所\n\n品川から参加される方：\n9:00に京急
 品川駅　高輪口　改札周辺集合\n\nIT勉強もくもく会の
 み参加される方：\n10:30に以下の会場へお越し下さい。
 \n\n会場：COWORKER’S KITCHEN コワーカーズキッチン\n住所
 ：神奈川県逗子市逗子1-6-27-402\n\n参加費\n\n品川から参
 加される方：\n3000円(葉山女子旅きっぷ) + 500円(もくも
 く会会場費)\n\nIT勉強もくもく会のみ参加される方：\n5
 00円(もくもく会会場費)\n\n持ち物\n\n\nノートパソコン\n
 電源ケーブル\n\n\n主催者\n\n坂井 秀教\n1986年3月8日生ま
 れ、大阪府生まれ、東京都在住。\n2009年、IT系専門学
 校を卒業後、IT企業でのシステムエンジニア、パソコ
 ンスクールでのプログラム講師を経て、フリーランス
 として独立。\nフリーランスでは、業務システム開発
 、Webサービス開発、スマホアプリ開発プロジェクトに
 おいてエンジニア業務、ディレクター業務を経験。\n
 その後、アクセンチュアに入社し、サーバエンジニア
 として開発プロジェクトに参画。\n2017年12月にアクセ
 ンチュアを退職し、フリーランスを活用した仕組み作
 りの本格化に向け、一般社団法人ドットテックを2018年
 2月に設立。\n\nイベント運営団体について\n\n団体名：\
 n一般社団法人ドットテック\n\n団体のミッション：\nド
 ットテックでは、個人が最も輝く働き方を選ぶことの
 出来る社会の実現を目指していきます。\n
LOCATION:COWORKER’S KITCHEN コワーカーズキッチン 神奈川県
 逗子市逗子1-6-27-402
URL:https://techplay.jp/event/737157?utm_medium=referral&utm_source=ics&utm
 _campaign=ics
END:VEVENT
END:VCALENDAR
