BEGIN:VCALENDAR
VERSION:2.0
PRODID:-//https://techplay.jp//JP
CALSCALE:GREGORIAN
METHOD:PUBLISH
X-WR-CALDESC:第３６回 CoderDojo Mito（コーダー道場 水戸）
X-WR-CALNAME:第３６回 CoderDojo Mito（コーダー道場 水戸）
X-WR-TIMEZONE:Asia/Tokyo
BEGIN:VTIMEZONE
TZID:Asia/Tokyo
BEGIN:STANDARD
DTSTART:19700101T000000
TZOFFSETFROM:+0900
TZOFFSETTO:+0900
TZNAME:JST
END:STANDARD
END:VTIMEZONE
BEGIN:VEVENT
UID:737202@techplay.jp
SUMMARY:第３６回 CoderDojo Mito（コーダー道場 水戸）
DTSTART;TZID=Asia/Tokyo:20190623T133000
DTEND;TZID=Asia/Tokyo:20190623T153000
DTSTAMP:20260424T011259Z
CREATED:20190616T232955Z
DESCRIPTION:イベント詳細はこちら\nhttps://techplay.jp/event/73720
 2?utm_medium=referral&utm_source=ics&utm_campaign=ics\n\n第３６回 Cod
 erDojo Mito（コーダー道場 水戸）\n対象：小学生～中学
 生\n　　（小学生は保護者の同伴をお願いします）\n定
 員：１０名程度\n　　（１０台ほどPCをご用意しており
 ます。PC持ち込みも可能）\n参加費：無料・持ち物不要
 ！！\n日時：２０１９年６月２３日（日曜日）\n　　　
 １３：３０～１５：３０（開場１３：００）\n会場：
 水戸市内原市民センター　２階　和室２\n　　　茨城
 県水戸市内原町１３９５－６\nCoderDojo Mito（コーダー道
 場 水戸）は、誰でも気軽に参加できる「無料のプログ
 ラミングクラブ」です。水戸道場では、Scratch という
 プログラミング言語を利用してゲームなど楽しいプロ
 グラムを作っていきます。\n主な活動内容としては、
 初心者の方には「体験コーナー」で講師の説明を聞き
 ながら簡単なゲームを作ってもらいます。\n慣れてき
 たら、それぞれ自分たちの作りたいプログラムを作る
 など、いろいろな体験ができるようになっています。\
 nプログラミングで分からない事があったら、周りの友
 達や、メンター（助言者）と呼ばれるプログラミング
 が得意な参加者に教えてもらう事が出来ますので、ど
 なたでも楽しくプログラミングに触れていただけます
 。\nその日の活動の最後には、成果発表の時間が設け
 られており、他の参加者の成果を見る事で発想の広が
 りや更なる学びへと繋げます。\nCoderDojo Mito では、「
 体験し、学び、互いに教え合う」プログラミングを好
 きになれる場所を目指しています。\nhttp://coderdojo-mito.c
 om/\n\n補欠者はキャンセル待ちの状態となります。\n参
 加者の中からキャンセルが出た場合、補欠者が申し込
 み順で参加者に繰り上がります。\n繰り上がった方に
 はconnpassからメールで通知されます。\nどうしても参加
 出できなくなったときは、できるだけ早く参加キャン
 セルを行いキャンセル待ちの方へお譲りください。
LOCATION:水戸市内原市民センター 茨城県水戸市内原町１
 ３９５－６
URL:https://techplay.jp/event/737202?utm_medium=referral&utm_source=ics&utm
 _campaign=ics
END:VEVENT
END:VCALENDAR
