BEGIN:VCALENDAR
VERSION:2.0
PRODID:-//https://techplay.jp//JP
CALSCALE:GREGORIAN
METHOD:PUBLISH
X-WR-CALDESC:【初心者向け】プログラミングで人生の武器
 を作ろう
X-WR-CALNAME:【初心者向け】プログラミングで人生の武器
 を作ろう
X-WR-TIMEZONE:Asia/Tokyo
BEGIN:VTIMEZONE
TZID:Asia/Tokyo
BEGIN:STANDARD
DTSTART:19700101T000000
TZOFFSETFROM:+0900
TZOFFSETTO:+0900
TZNAME:JST
END:STANDARD
END:VTIMEZONE
BEGIN:VEVENT
UID:737534@techplay.jp
SUMMARY:【初心者向け】プログラミングで人生の武器を作
 ろう
DTSTART;TZID=Asia/Tokyo:20190623T120000
DTEND;TZID=Asia/Tokyo:20190623T140000
DTSTAMP:20260423T103636Z
CREATED:20190618T235329Z
DESCRIPTION:イベント詳細はこちら\nhttps://techplay.jp/event/73753
 4?utm_medium=referral&utm_source=ics&utm_campaign=ics\n\nこんな人に
 オススメ\n・プログラミングってものをやった方がい
 いらしいと聞いたことある人\n・Progateなどでやってみ
 たけど次何したらいいの？となってる人\n・まだあま
 りよく分からないけどwebデザイナーになりたい人\n・
 将来フリーランスで活躍したい人\n・とりあえず手に
 職をつけたい人\n・就活での武器を作りたい人\n・つま
 らない人生を変えたい人\nなどなど\nなぜやっているの
 か？\nあなたのキャリア選択を応援します\nこの先何10
 年と生きて行く中で大半の時間を占めるのが仕事です
 。\n私は今までその仕事を受動的に選択して、後悔を
 している社会人の方をたくさん見てきました。\nもっ
 と多くの方に、本当にやりたいことをやるためや\nや
 りたいこと、できることの幅を広げるために自分にあ
 ったキャリアを主体的に選択してほしい。\nそんな思
 いでこのイベントを開催しています。\nそこで私たち
 が提供できる価値として、\n今世界でもっとも必要と
 されているスキルである\nプログラミングに実際に触
 れてもらい、人生の選択肢を増やしてほしいと思って
 います。\n「もう遅かった」と後になって後悔するの
 は自分です。\n「あの時行動してよかった」と思うの
 も自分です。\nスキル習得には早すぎることも遅すぎ
 ることもありません。\nまずは、一歩行動してみまし
 ょう！\n全力でサポートさせていただきます！\n概要\n
 はじめに\n我々の紹介を軽くさせて頂き、当日の流れ
 や詳細をお伝えします。\nワークショップ\n主に、未経
 験者/初学者を対象にHTML5、CSS3を使ってwebサイトのレイ
 アウトを作成するワークショップです。\nオリジナル
 のテキストを用いてまず基礎的なweb周りの理解からVisu
 al Studio Codeでの環境構築、emmetを活用しながらHTML\,CSSで
 実際にレイアウト作成やアニメーションなども出来れ
 ばと思っています。時間の許す限り進められればと思
 います！\n※プログラミング初心者の方でないと物足
 りない内容になる可能性がございます。\n交流会\n集ま
 った人で交流会のようなものも考えております。ぜひ
 、同じ志をもった人と新しい出会いを作ってください
 。\nなお、弊社ではIT職のキャリア設計などもお手伝い
 させて頂いているので、なにか悩み事や気になってい
 ることなどあれば是非相談に乗らせていただきます！\
 n日時\n2019年06月23日　12:00~14:00\nアクセス\n東京都豊島
 区東池袋3丁目7−8 セントヒルズ池袋ワカイビル301\nCode
 Ship https://www.google.com/maps/place/CodeShip/@35.7329618\,139.7170293\
 ,15z/data=!4m5!3m4!1s0x0:0x4325a7f441c249a1!8m2!3d35.7329618!4d139.717029
 3\n※池袋駅から徒歩10分\n持ち物\nノートパソコンをご
 持参ください。\n※貸し出しはしておりませんのでご
 了承下さい。\nご注意点\n知識の共有およびサービス開
 発が目的の勉強会です。\n・参加目的が不適切だと判
 断される場合には、運営側で参加をキャンセルさせて
 いただく場合がございます。あらかじめご了承くださ
 い。\n・イベントの途中参加・途中退出は、やむを得
 ない場合を除き、原則お断りいたします。\n・会場は
 禁煙となっております。\n・イベントレポート作成の
 ため、お写真を撮らせていただくことがございます。
 あらかじめご了承ください。
LOCATION:株式会社ウィモーション 東京都豊島区東池袋3丁
 目7−8 (セントヒルズ池袋ワカイビル301)
URL:https://techplay.jp/event/737534?utm_medium=referral&utm_source=ics&utm
 _campaign=ics
END:VEVENT
END:VCALENDAR
