BEGIN:VCALENDAR
VERSION:2.0
PRODID:-//https://techplay.jp//JP
CALSCALE:GREGORIAN
METHOD:PUBLISH
X-WR-CALDESC:WWDCキャッチアップLT会 by shu223 #1
X-WR-CALNAME:WWDCキャッチアップLT会 by shu223 #1
X-WR-TIMEZONE:Asia/Tokyo
BEGIN:VTIMEZONE
TZID:Asia/Tokyo
BEGIN:STANDARD
DTSTART:19700101T000000
TZOFFSETFROM:+0900
TZOFFSETTO:+0900
TZNAME:JST
END:STANDARD
END:VTIMEZONE
BEGIN:VEVENT
UID:737536@techplay.jp
SUMMARY:WWDCキャッチアップLT会 by shu223 #1
DTSTART;TZID=Asia/Tokyo:20190628T183000
DTEND;TZID=Asia/Tokyo:20190628T200000
DTSTAMP:20260425T212142Z
CREATED:20190618T235726Z
DESCRIPTION:イベント詳細はこちら\nhttps://techplay.jp/event/73753
 6?utm_medium=referral&utm_source=ics&utm_campaign=ics\n\nWWDCで発表さ
 れた各種技術情報に関するLTを行います。ただし 私（s
 hu223）で全LT を行います。実際に自分でコードを書い
 て試してみたり、実用を考えながら実現可能かAPIを掘
 ってみたりと、「WWDCセッションで言ってた」から一歩
 踏み込んだ 内容にするつもりです。\n\nLT時間・本数は
 未定です。10分×5本+質疑応答になるかもしれませんし
 、15分×3+質疑応答になるかもしれません。\n内容も未
 定ですが、Sound Analysis、ARKit、CoreML、AVFoundationについて
 は話す可能性が高いです。\nその他に興味があるのは
 、Core Haptics、Core Bluetooth、Custom Instruments、BackgroundTasks
 、watchOS 6等々。\n逆にSwift UI、Combine、Swift 5.1、ダーク
 モード、Sign In with Appleあたりについては話さないと思
 います。\n会場は神楽坂／飯田橋周辺を予定していま
 す。開催の数日前には確定させます。\n\n注意・免責事
 項（必読）\n\nあくまでLTです。授業やセミナーのよう
 な体系だった内容を期待しないでください。\nスライ
 ドやサンプルは基本的には配布しない予定です。ピン
 ポイントでの撮影はokですが録画や高頻度の撮影はご
 遠慮ください。\nといいつつ同内容について記事を書
 いたり本にしたりOSSにしたりする可能性もあります。
 それらが無料でも有料でも「それはそれ」ということ
 でご容赦ください。\nAppleがNDAを締結した開発者にのみ
 公表している情報を取り扱う可能性が高いイベントで
 す。本イベントに参加申し込みいただく方はAppleとNDA
 を締結している開発者とみなし、Apple Inc. および周辺
 企業との問題が発生した場合、運営は一切の責任を負
 わず、参加された方の責任となりますことをご了承の
 上ご参加ください。\n
LOCATION:FARO神楽坂 東京都新宿区袋町5番地1
URL:https://techplay.jp/event/737536?utm_medium=referral&utm_source=ics&utm
 _campaign=ics
END:VEVENT
END:VCALENDAR
