BEGIN:VCALENDAR
VERSION:2.0
PRODID:-//https://techplay.jp//JP
CALSCALE:GREGORIAN
METHOD:PUBLISH
X-WR-CALDESC:【参加無料】フリートークイベント雑談CAFE 第
 11弾 #53【少人数制】
X-WR-CALNAME:【参加無料】フリートークイベント雑談CAFE 第
 11弾 #53【少人数制】
X-WR-TIMEZONE:Asia/Tokyo
BEGIN:VTIMEZONE
TZID:Asia/Tokyo
BEGIN:STANDARD
DTSTART:19700101T000000
TZOFFSETFROM:+0900
TZOFFSETTO:+0900
TZNAME:JST
END:STANDARD
END:VTIMEZONE
BEGIN:VEVENT
UID:737942@techplay.jp
SUMMARY:【参加無料】フリートークイベント雑談CAFE 第11弾
  #53【少人数制】
DTSTART;TZID=Asia/Tokyo:20190731T180000
DTEND;TZID=Asia/Tokyo:20190731T200000
DTSTAMP:20260421T064410Z
CREATED:20190621T101927Z
DESCRIPTION:イベント詳細はこちら\nhttps://techplay.jp/event/73794
 2?utm_medium=referral&utm_source=ics&utm_campaign=ics\n\n2017年10月に
 オープンした雑談イベントです。\nIT好きな方、いろい
 ろ聞きたい人、情報交換したい人、気軽にお立ち寄り
 ください。\nお茶しながら、ざーーっくばらんにお話
 ししましょう。\nオンラインでの予約制となっており
 ます。お手数ですがよろしくお願いします。。\nこん
 な方におすすめです\n\nIT業界ってどんななのかな\nこ
 れから勉強するなら何のプログラム言語がいいいのか
 なぁ\nプログラミングってどうやって勉強すればいい
 んだろう\n\nなどなど、ITに関するいろんなお悩み、疑
 問がある方、お気軽に話しに来てください！\n\nイベン
 ト内容の説明については雑談CAFE公式サイトをご覧くだ
 さい \n\n\n開催概要\n日時\n\n2019年7月31日（水）18：00～2
 0：00\n\n場所\n\n東京都杉並区上荻1-24-18  SKビル2  3階\n有
 限会社アーティファクチャー・システムズ　本社オフ
 ィス　地図はこちら \n\n参加費\n\n無料です。お気軽に
 どうぞ (^^♪\n\n持ち物、服装など\n\n特にありません。
 飲食の持ち込みもOKです。服装は自由です。\n当日はメ
 モとり、参加者同士の名刺交換などもご自由にどうぞ
 。\n\n\n開催者\n有限会社アーティファクチャー・シス
 テムズ\n\n東京杉並区荻窪のIT会社です。システム開発
 、飲食店向けウェブサービス提供、ITコンサルサービ
 スをやってます。\nイベント担当者：澤田\nMAIL：　sawad
 a.minato@artifacture.co.jp\nWEB：　https://www.artifacture.co.jp/\n
LOCATION:アーティファクチャー・システムズ荻窪オフィス
  東京都杉並区上荻1-24-18 （SKビル2  3階）
URL:https://techplay.jp/event/737942?utm_medium=referral&utm_source=ics&utm
 _campaign=ics
END:VEVENT
END:VCALENDAR
