BEGIN:VCALENDAR
VERSION:2.0
PRODID:-//https://techplay.jp//JP
CALSCALE:GREGORIAN
METHOD:PUBLISH
X-WR-CALDESC:【超初心者歓迎】Python環境構築と超入門！
X-WR-CALNAME:【超初心者歓迎】Python環境構築と超入門！
X-WR-TIMEZONE:Asia/Tokyo
BEGIN:VTIMEZONE
TZID:Asia/Tokyo
BEGIN:STANDARD
DTSTART:19700101T000000
TZOFFSETFROM:+0900
TZOFFSETTO:+0900
TZNAME:JST
END:STANDARD
END:VTIMEZONE
BEGIN:VEVENT
UID:738137@techplay.jp
SUMMARY:【超初心者歓迎】Python環境構築と超入門！
DTSTART;TZID=Asia/Tokyo:20190711T200000
DTEND;TZID=Asia/Tokyo:20190711T220000
DTSTAMP:20260422T042831Z
CREATED:20190623T033156Z
DESCRIPTION:イベント詳細はこちら\nhttps://techplay.jp/event/73813
 7?utm_medium=referral&utm_source=ics&utm_campaign=ics\n\nPythonでのプ
 ログラミングを始めよう！お使いのPCでの環境構築とPy
 thon超入門\n\n概要\n\n当講座では、受講者様に個人PCを
 持参いただき、Python3が動く環境(jupyter notebook)の構築と
 、Pythonの超入門を行います。\n\nPythonは比較的入門がし
 やすいプログラミング言語ですが、そもそもプログラ
 ミング初心者にとっては環境構築も一苦労。環境構築
 が入門のハードルを高くしていることがしばしば有り
 ます。\n\nそこで今回は、我々の完全サポートのもと、
 確実に受講者様のPCにPython3\,jupyter notebook\,Anacondaをイン
 ストールし、プログラミングを始めるお手伝いをさせ
 ていただきます！また、インストール中の空き時間を
 利用して、Pythonの基本的な文法やライブラリについて
 ご紹介いたします。\n\n文法やライブラリの紹介はgoogle
 のオンラインプログラミングサービスGoogle Colaboratoryを
 用いて、ハンズオン形式で行いますので、実体験に基
 づいた深い理解が可能です。\n\n※googleアカウントをお
 持ちでない方は当日までにアカウントを作成するよう
 お願いいたします。\n\nこの講座で得られること\n\n・Py
 thon3の実行環境\n・Jupyter notebook、Google Colaboratoryの使い
 方\n・ご自身のPCでのPython3の環境構築の手順 \n・ライ
 ブラリのインストール方法\n・Python3の基本的で便利な
 機能の理解\n\nカリキュラム\n\n・anacondaを用いたPython３
 の実行環境の構築方法の説明\n・jupyter notebook、Google Col
 aboratoryにおけるプログラムの実行方法\n・Pythonライブ
 ラリの導入方法\n・ハンズオン形式での様々なPythonの
 機能紹介\n\n※ 当日予告なく時間配分・内容が変更に
 なる可能性がございます。\n\n講座一覧のフローチャー
 ト\n\nどの講座から受講したら良いのかわからないとい
 うような方は、下記のフローチャートを参考にしてい
 ただければと思います。\n\n\n\n持ち物\n\n下記条件をす
 べて満たしているPC\n\n・windows10または、Mac OS X 10.10以
 上搭載　\n・メモリ4GB以上\n・コア数が２以上\n・空き
 容量が10GB以上\n\n※ご自身のPCが条件を満たしているか
 不安な方はinfo@to-kei.netまでご連絡ください。\n\nこんな
 人にオススメ\n\n・とにかくPythonでのプログラミングを
 始めてみたい方\n・Pythonの実行環境構築を含めて1から
 入門したい方。\n・実行環境構築ができずにいる方\n・
 Pythonで何出来るかを知りたい方\n\n講師\n\n渡邉雅也\n経
 済ファイナンス時系列データに関する研究に従事。統
 計学、情報工学、最適化の理論などに精通。大手証券
 会社にて機械学習に関する技術を用いた分析を行った
 経験を活かし、kaggleなどのコンペティションにも参加
 。幅広いAI分野の講座の講師を務める。\n\n\n領収書に
 ついて\n\n【Stripeで事前決済の方】\nクレジットカード
 会社が発行する明細を領収書の代わりとしてご利用く
 ださい。\n\n【Paypalの方】\n決済処理後にPaypalから送付
 されるメール内容、またはPaypalの取引履歴から該当項
 目を確認の上、「詳細」をご覧ください。それらが領
 収書の代わりとなります。また、クレジットカード会
 社発行の利用明細書も領収書としてご利用いただけま
 す。\n\n【別途領収書発行が必要な方】\n別途発行手数
 料として1000円頂きます。必要な方は、以下のフォーム
 よりご申請ください。領収書発行手数料と受講料金を
 合算した金額で発行いたします。\n全人類がわかる統
 計学 領収書発行フォーム\n\n受付・入場時間\n\n開始の1
 5分前から\n\n※なるべく5分前までにお入りください。\
 n※途中参加も可能です。\n\nポータルサイト会員登録
 のお願い\n\n全人類がわかる統計学では、ポータルサイ
 トを使って講座で扱う教材を受講者の皆様に共有いた
 します。\n初めて全人類がわかる統計学の講座に参加
 される方は、あらかじめこちらより会員登録をお願い
 いたします。\n\nお問い合わせ\n\n・メールでのお問い
 合わせは、info@to-kei.net　までご連絡ください。\n・こ
 ちらで⇨LINE＠からもお問い合わせいただけます。（推
 奨）\n\n注意事項\n\n・jupyter notebookにてPython3のプログラ
 ムがエラーなく実行出来る状態を完成形とします。\n
 ・環境構築をサポートするPCはお一人様につき１台ま
 でです。\n・Python3の環境構築はanacondaを用いて行いま
 す。その他のインストール方法はサポートいたしませ
 ん。(anacondaでのインストールが不可能な場合はpyenvを
 使ってpython3をインストールします。)\n・当日は講師が
 みなさんの実行環境構築をサポートしますが、お使い
 のPCによって環境構築が出来ない場合がございます。
 上記のPCのスペックの条件を満たしているのにも関わ
 らず、実行環境構築に失敗した場合は受講料を全額返
 金させていただきます。\n・講座終了後のバグや質問
 には対応できかねますのでご了承ください。\n・リク
 ルーティング、勧誘、採用活動など、目的に沿わない
 行為につきまして、主催者が相応しくないと判断した
 場合は即刻退出処分とします。全員が気持ちよく過ご
 すことが出来るよう、ご協力をお願い致します。\n・
 最小遂行人数は「3名」です。開催日の前日までにこの
 人数に達しない場合は中止となります。ただし、複数
 の媒体で募集を行っているので、本サイトの申込者数
 が最小遂行人数に達しない場合でも開催になる場合が
 ございます。もし、中止が決定した場合はその時点で
 「全額返金」し、登録しているメールアドレスにご連
 絡させていただきます。\n\n全人類がわかる統計学とは
 \n\n株式会社AVILENが運営するサービスです。統計学・機
 械学習の学習用サイト全人類がわかる統計学を運営、
 管理するほか、社会人向けのAI人材やデータサイエン
 ティスト育成のための教育事業を行なっております。\
 n統計学や機械学習を、出来るだけわかりやすく多くの
 人々に届けるということを目指して活動しています。\
 n
LOCATION:秋葉原駅徒歩５分 東京都台東区台東１丁目１１
 番地 4号誠心Oビル3階
URL:https://techplay.jp/event/738137?utm_medium=referral&utm_source=ics&utm
 _campaign=ics
END:VEVENT
END:VCALENDAR
