BEGIN:VCALENDAR
VERSION:2.0
PRODID:-//https://techplay.jp//JP
CALSCALE:GREGORIAN
METHOD:PUBLISH
X-WR-CALDESC:OSSの監視ツール、本当にZabbixだけでよいのか
 ？
X-WR-CALNAME:OSSの監視ツール、本当にZabbixだけでよいのか
 ？
X-WR-TIMEZONE:Asia/Tokyo
BEGIN:VTIMEZONE
TZID:Asia/Tokyo
BEGIN:STANDARD
DTSTART:19700101T000000
TZOFFSETFROM:+0900
TZOFFSETTO:+0900
TZNAME:JST
END:STANDARD
END:VTIMEZONE
BEGIN:VEVENT
UID:738388@techplay.jp
SUMMARY:OSSの監視ツール、本当にZabbixだけでよいのか？
DTSTART;TZID=Asia/Tokyo:20190726T153000
DTEND;TZID=Asia/Tokyo:20190726T170000
DTSTAMP:20260421T063356Z
CREATED:20190624T142715Z
DESCRIPTION:イベント詳細はこちら\nhttps://techplay.jp/event/73838
 8?utm_medium=referral&utm_source=ics&utm_campaign=ics\n\n本セミナー
 は終了いたしました。\n資料は、セミナー開催報告ペ
 ージで公開しています。\n今回２０名の募集ですが、co
 nnpassでは若干名を募集します。\n人気が高いOSSの運用
 監視ツール、Zabbix\nOSSの運用監視ツールといえば、Zabbi
 xが人気です。\n世界で30万以上インストールされてお
 り、国内だけで50社以上のパートナーがZabbixの導入を
 サポートしています。\n本当にZabbixだけでよいのか？\n
 しかし、システムの運用監視において、本当にZabbixだ
 けでよいのでしょうか。\nそこにはリスクは無いので
 しょうか。\nCactiやIcinga2など、他のOSS監視ツール\n例え
 ば、icinga2。\n監視種別の豊富さや美しいWEBインタフェ
 ースが特徴です。\nZabbixとの比較では、Zabbixは非常に
 多機能ですが、設定時にWEBインタフェースの様々な画
 面を横断的に設定しなければいけないので、設定時に
 混乱を招きやすくなっています。\nまたコマンドライ
 ン上での設定は基本的にできません。\nまた、SNMPを使
 用しサーバやネットワーク機器から取得した情報をグ
 ラフ化するソフトウェアの、CactiというOSSもあります
 。\n適切な監視ツールを選択するために\n本セミナーで
 は、Zabbixも含めて、CactiやIcinga2など複数のOSS監視ツー
 ルの特長を紹介し、どのようなケースでどのようなツ
 ールを使うべきか、解説します。\nプログラム\n15:00～1
 5:30　受付\n15:30～16:30　OSSの監視ツール、本当にZabbixだ
 けでよいのか？\n16:30～17:00　質疑応答\n主催\n株式会社
 デージーネット\n当日会場アクセスに関するお問合せ\n
 03-5362-1425　「１F でインターフォン802を押してくださ
 い。」\nセミナー事務局\nマジセミ株式会社\n\n※当日
 は名刺を2枚お持ち下さい。\n※競合もしくは競合にな
 る可能性のある事業者様や、個人としての方は、当社
 判断によりご遠慮頂く場合がございます。予めご了承
 下さい。\n※ご記載頂いた内容、及び当日受付でご提
 示頂いた名刺情報は、マジセミ株式会社にて収集し、
 マジセミ株式会社／オープンソース活用研究所 および
 主催・共催・協賛・協力・講演の各企業に提供させて
 頂きます。ご記載を頂いた個人情報はマジセミ株式会
 社／株式会社オープンソース活用研究所および主催・
 共催・協賛・協力・講演企業にて厳重に管理し、サー
 ビス、製品、セミナー、イベントなどのご案内に使用
 させて頂き、また各社のメルマガに登録させていただ
 きます。ご記載いただいた個人情報は、法律に基づい
 た、警察等の行政機関や司法機関からの要請があった
 場合を除き、第三者には提供致しません。\n〔お問合
 せ先　及び　個人情報保護管理者〕　株式会社オープ
 ンソース活用研究所 個人情報保護管理者　連絡先：03-
 6809-1257
LOCATION:（株）デージーネット 東京営業所 〒105-0013  東京
 都港区浜松町二丁目6-5浜松町エクセレントビル8F
URL:https://techplay.jp/event/738388?utm_medium=referral&utm_source=ics&utm
 _campaign=ics
END:VEVENT
END:VCALENDAR
