BEGIN:VCALENDAR
VERSION:2.0
PRODID:-//https://techplay.jp//JP
CALSCALE:GREGORIAN
METHOD:PUBLISH
X-WR-CALDESC:s-dev talks 〜サービス開発勉強会〜「チームビ
 ルディング」
X-WR-CALNAME:s-dev talks 〜サービス開発勉強会〜「チームビ
 ルディング」
X-WR-TIMEZONE:Asia/Tokyo
BEGIN:VTIMEZONE
TZID:Asia/Tokyo
BEGIN:STANDARD
DTSTART:19700101T000000
TZOFFSETFROM:+0900
TZOFFSETTO:+0900
TZNAME:JST
END:STANDARD
END:VTIMEZONE
BEGIN:VEVENT
UID:738615@techplay.jp
SUMMARY:s-dev talks 〜サービス開発勉強会〜「チームビルデ
 ィング」
DTSTART;TZID=Asia/Tokyo:20190730T190000
DTEND;TZID=Asia/Tokyo:20190730T220000
DTSTAMP:20260422T042956Z
CREATED:20190625T142658Z
DESCRIPTION:イベント詳細はこちら\nhttps://techplay.jp/event/73861
 5?utm_medium=referral&utm_source=ics&utm_campaign=ics\n\ns-dev talks と
 は\ns-dev talks はサービス開発者の草の根コミュニティ
 です！\nここでの「サービス開発者」は良いサービス
 をつくりたいと思っているすべての人を意図していま
 す。\n典型的にはプロダクトオーナー、ディレクター
 、デザイナー、エンジニアなどが含まれますが、?そう
 いった人たちに限らず多様なバックグラウンドを持っ
 た方に来てほしいと思っています。\n私たちは「良い
 サービスをつくるためには様々なスキルを持った人た
 ちが協力し合う必要がある」と考えています。\ns-dev ta
 lks はあらゆる垣根を越えて、サービス開発のためのス
 キルや知見をカジュアルに共有できる場を目指してい
 ます。\n今回のテーマ\n今回のテーマは「チームビルデ
 ィング」。  \n\nどのような考えの元、チーム、組織を
 作っているのか\nどのような計画を立てて、その運用
 をしているか\nチームビルディングをする際、どのよ
 うなことに気をつけているか\n\nなど、どのような考え
 方や手法で、チームビルディングをしているのか。と
 いうトークが集まる予定です。\n※ 20 分枠の発表も公
 募制にしております！みなさんのトークをお待ちして
 います！ \n※ 詳しくはページ下部の発表者向け情報を
 ご覧ください。    \n5分枠（LT）はテーマに縛られない
 サービス開発フリートークなので、何か話してみたい
 と思った方はぜひお気軽にご応募下さい！  \nタイムテ
 ーブル\n\n\n\n時間\nやること\n\n\n\n\n18:30\n開場・受付開
 始\n\n\n19:00\n会場説明など\n\n\n19:05\n発表 (20min) x2\n\n\n19:
 45\n休憩\n\n\n19:55\n発表 (20min) x2\n\n\n20:35\nLT (5min) x4\n\n\n21
 :00\n懇親会\n\n\n22:00\n撤収\n\n\n\n発表概要\n20分枠（質疑
 込み）\n\n\n\nタイトル（仮）\n発表者\n\n\n\n\n（仮）エ
 ンジニアだけで企画・開発・分析全てを遂行するチー
 ムを立ち上げた話\n株式会社リクルートテクノロジー
 ズ 小野駿(blog)\n\n\nオーダーメイドチームビルディング
 〜選球眼と勝負球(仮)\n株式会社IMAGICA Lab. プロダクト
 オーナーはち(@PassionateHachi)\n\n\nボドゲではじめるチー
 ムビルディング\n有限会社リズムタイプ 代表、株式会
 社デジタルステージCXOエイマエダ カツタロウ(@katsutaro)
 \n\n\n疑似社内受託開発からの卒業\n株式会社Speee エン
 ジニアリングマネージャー天野 太智(@pataiji)\n\n\n\n発表
 者向け情報\n20分枠・5分枠共通\n\nプロジェクタ\nアス
 ペクト比：16:9\n端子：HDMI\, Mini DisplayPort\, USB Type-C\n\n\n
 ぶっちゃけトーク歓迎します！\n接続確認など行ない
 ますので 18:45頃 には会場にお集まりいただきますよう
 お願いいたします。\n\n20分枠（質疑込み）\nこちらの
 フォームより募集しております 応募は締め切りました
 \n希望者多数の場合登壇者の選定をおこなわせていた
 だきます。\n登壇可否の結果は フォーム内容を確認し
 て順次お知らせいたします。\n\nテーマに関連したトー
 クをお願いします\n質疑込の時間ですので、発表自体
 は 15~18 分程度でお願いします  \n\n5分LT枠（質疑なし）
 \n\nテーマフリーです\n喋りたいことを好きなように喋
 ってください！\n発表時間は5分になります。運営の都
 合上、5分過ぎてしまった場合は発表途中でも終了いた
 だきます！\n
LOCATION:クックパッド株式会社 東京都渋谷区恵比寿4-20-3 (
 恵比寿ガ ーデンプレイスタワー 12F)
URL:https://techplay.jp/event/738615?utm_medium=referral&utm_source=ics&utm
 _campaign=ics
END:VEVENT
END:VCALENDAR
