BEGIN:VCALENDAR
VERSION:2.0
PRODID:-//https://techplay.jp//JP
CALSCALE:GREGORIAN
METHOD:PUBLISH
X-WR-CALDESC:#00 Adobe XD もくもく触ってみよう会
X-WR-CALNAME:#00 Adobe XD もくもく触ってみよう会
X-WR-TIMEZONE:Asia/Tokyo
BEGIN:VTIMEZONE
TZID:Asia/Tokyo
BEGIN:STANDARD
DTSTART:19700101T000000
TZOFFSETFROM:+0900
TZOFFSETTO:+0900
TZNAME:JST
END:STANDARD
END:VTIMEZONE
BEGIN:VEVENT
UID:738925@techplay.jp
SUMMARY:#00 Adobe XD もくもく触ってみよう会
DTSTART;TZID=Asia/Tokyo:20190724T190000
DTEND;TZID=Asia/Tokyo:20190724T210000
DTSTAMP:20260422T101536Z
CREATED:20190627T142623Z
DESCRIPTION:イベント詳細はこちら\nhttps://techplay.jp/event/73892
 5?utm_medium=referral&utm_source=ics&utm_campaign=ics\n\n【日時】2019
 年7月24日（水）19:00〜21:00\n【場所】神戸元町駅すぐの
 シェアオフィス・コワーキングスペース D.E.Pさんのス
 ペースをお借りします\n【住所】兵庫県神戸市中央区
 三宮町3-1-16 三星ビル4階南室\n【受付開始】19:00〜  \nイ
 ベント内容\n神戸でも始動！プレ開催ということでゆ
 るく\nXDを使って触ってみよう！\n新機能をみんなでや
 ってみよう！\n今更聞けないXDの悩みを話そう！\nAdobe X
 Dは知っているけどまだ使ったことがない方や、操作方
 法が慣れない方や使い方がわからないけど誰に聞いて
 いいのかわからないそんなあなた、一緒にXDをもくも
 く触って覚えませんか？\nタイムライン\n19:00　開場\n19
 :10～19:20　オープニング\n19:20～19:50　自己紹介\n19:50～2
 1:00　XDを使って触ってみよう！＆もくもく会（詳細準
 備中）\n有志が居れば、軽く懇親会します。  \nあった
 らいいな持ち物\n筆記用具・ノートPCなど自由にご持参
 ください！\nXDをPCにインストールしてから来てほしい
 です！\n積読しているXDの本などもあるとはかどります
 ね！\nお菓子・飲み物の持ち込みOKですが、匂いの強い
 もののお持ち込みは控えてほしいな！\n備考欄\n他の参
 加者に迷惑かけないようにご対応していただければ子
 連れ参加可能です。\nこのグループは Facebook UG「Adobe XD
  Meeting」の神戸版です。\nAdobe XDユーザーグループ
LOCATION:DEP. 兵庫県神戸市中央区三宮町3-1-16 三星ビル4階
 南室
URL:https://techplay.jp/event/738925?utm_medium=referral&utm_source=ics&utm
 _campaign=ics
END:VEVENT
END:VCALENDAR
