BEGIN:VCALENDAR
VERSION:2.0
PRODID:-//https://techplay.jp//JP
CALSCALE:GREGORIAN
METHOD:PUBLISH
X-WR-CALDESC:Cassandra勉強会 in Tokyo\, July 25th
X-WR-CALNAME:Cassandra勉強会 in Tokyo\, July 25th
X-WR-TIMEZONE:Asia/Tokyo
BEGIN:VTIMEZONE
TZID:Asia/Tokyo
BEGIN:STANDARD
DTSTART:19700101T000000
TZOFFSETFROM:+0900
TZOFFSETTO:+0900
TZNAME:JST
END:STANDARD
END:VTIMEZONE
BEGIN:VEVENT
UID:738932@techplay.jp
SUMMARY:Cassandra勉強会 in Tokyo\, July 25th
DTSTART;TZID=Asia/Tokyo:20190725T190000
DTEND;TZID=Asia/Tokyo:20190725T203000
DTSTAMP:20260422T043015Z
CREATED:20190627T142702Z
DESCRIPTION:イベント詳細はこちら\nhttps://techplay.jp/event/73893
 2?utm_medium=referral&utm_source=ics&utm_campaign=ics\n\n概要\n分散DB
  Apache Cassandra勉強会です。\n今回は、ヤフー様に会場を
 お借りして開催いたします。\n講演内容は先日5月に行
 われたDataStax Accelerate 2019の参加ご報告、\nCassandra 4.0に
 おけるRepairアーキテクチャのお話をいたします。\n最
 新のCassandra情報のアップデート・情報交換の場として
 ぜひお越しください。\n日時・場所\n2019年7月25日（木
 ）　19：00-20：30（18：30～受付開始）\nヤフー株式会社 
 オープンコラボレーションスペース「LODGE」\n東京都千
 代田区紀尾井町1-3 東京ガーデンテラス紀尾井町　紀尾
 井タワー17F\nhttps://lodge.yahoo.co.jp\nタイムスケジュール
 ・講演内容\n◇18：30～　受付開始\n◇19：00～　イベン
 ト開始・開催挨拶\n◇第一部（19:05～19：45）　タイト
 ル：「DataStax Accelerate 2019 参加報告」\n5月にワシントン
 DCで開催されたDatastax Accelerate 2019に参加致しました。\n
 世界中の様々な企業から見る「Cassandra」の近況を報告
 をいたします。\nー登壇者プロフィール：山下 郁矢\n
 ヤフー株式会社　テクノロジーグループ システム統括
 本部　サービスプラットフォーム本部　データベース
 部　NoSQL\n2018年ヤフーに新卒入社。主にCassandraの構築
 ・運用業務・Configuration Management、監視システムの開発
 ・検証を担当\n◇第二部（19：45-20：30）　タイトル：
 「Apache Cassandra 4.0におけるRepairアーキテクチャ」\n今年
 中にリリース予定とされる新バージョン4.0ではrepairア
 ーキテクチャが大幅ブラッシュアップされています。A
 pache Cassandraの運用において大きな影響を与えるrepairア
 ーキテクチャが4.0ではどのように変更されブラッシュ
 アップされているかを4.0の内部実装より解き明かしま
 す。\nー登壇者プロフィール：冨田 和孝\n株式会社INTHE
 FOREST 代表取締役社長　\n日本Cassandraコミュニティーメ
 ンバー、データベースエンジニア・システムアーキテ
 クト\nぐるなび、外国為替、ISPなど、DB中心としたシス
 テム構築・運用・保守を担当。\n高負荷・大容量・大
 規模なデータ処理・データ解析基盤作りに強み。\n◇
 イベント撤収（～21：00）\n会場アクセス\nヤフー株式
 会社 オープンコラボレーションスペース「LODGE」\n東
 京都千代田区紀尾井町1-3 東京ガーデンテラス紀尾井町
 　紀尾井タワー17F\nhttps://lodge.yahoo.co.jp\nhttp://www.tgt-kioic
 ho.jp/access/\n◇電車をご利用の方\n東京メトロ永田町駅 9
 a出口直結\n東京メトロ赤坂見附駅 D出口より徒歩3分\n
 ◇お車をご利用の方\n首都高速 都心環状線「霞が関ラ
 ンプ」より 約10分\n◇リムジンバスをご利用の方\n成田
 空港 〜 東京ガーデンテラス紀尾井町\n羽田空港 〜 東
 京ガーデンテラス紀尾井町\n【2階エントランス〜受付
 まで】\n向かって一番右側のフラッパーゲートを通り
 、左側のエレベーターで18Fへ上がります。\n（警備員
 ・ゲートがおりますがそのまま通過できます）\n18階に
 着きましたらエレベーターを降りて左へ進み、来客フ
 ロアにお越しください。\n「Cassandra勉強会受付」があ
 ります。\n受付\n受付につきましたらお名刺を１枚頂き
 ます。\n（お持ちでない方はご署名をお願い致します
 ）
LOCATION:ヤフー株式会社 オープンコラボレーションスペ
 ース「LODGE」 東京都千代田区紀尾井町1-3 東京ガーデン
 テラス紀尾井町　紀尾井タワー17F
URL:https://techplay.jp/event/738932?utm_medium=referral&utm_source=ics&utm
 _campaign=ics
END:VEVENT
END:VCALENDAR
