BEGIN:VCALENDAR
VERSION:2.0
PRODID:-//https://techplay.jp//JP
CALSCALE:GREGORIAN
METHOD:PUBLISH
X-WR-CALDESC:LIFULL.aab #1
X-WR-CALNAME:LIFULL.aab #1
X-WR-TIMEZONE:Asia/Tokyo
BEGIN:VTIMEZONE
TZID:Asia/Tokyo
BEGIN:STANDARD
DTSTART:19700101T000000
TZOFFSETFROM:+0900
TZOFFSETTO:+0900
TZNAME:JST
END:STANDARD
END:VTIMEZONE
BEGIN:VEVENT
UID:738972@techplay.jp
SUMMARY:LIFULL.aab #1
DTSTART;TZID=Asia/Tokyo:20190806T190000
DTEND;TZID=Asia/Tokyo:20190806T220000
DTSTAMP:20260425T135609Z
CREATED:20190627T143118Z
DESCRIPTION:イベント詳細はこちら\nhttps://techplay.jp/event/73897
 2?utm_medium=referral&utm_source=ics&utm_campaign=ics\n\nイベント概
 要\n本イベントはLIFULLが主催する、Androidの技術につい
 て情報を共有する勉強会です。\n\n新しい知見、発見を
 得る\n技術交流の輪を広げる\nGoogle I/O 2019 にて発表さ
 れた内容をピックアップしたい\n\nAndroid好きな方々、An
 droidネタで盛り上がりましょう！\nまた、勉強会の後の
 懇親会はAndroidエンジニア同士のコミュニケーションの
 場としてもご活用ください。 \nタイムテーブル\n\n\n\n
 時間\nタイトル\n登壇者\n\n\n\n\n19:00 - 19:30\n会場・受付\n
 \n\n\n19:30 - 19:40\nご挨拶・ご案内\n\n\n\n19:40 - 19:55\nDarkMode
 プロダクト導入事例\n鈴木 白斗(@hakut000)\n\n\n19:55 - 20:10\
 nIn App Updates\nHasik Choi\n\n\n20:10 - 20:25\nML Kitプロダクト導
 入事例\n衛藤 剛史(@doramusukotake)\n\n\n20:25 - 20:45\n休憩・
 懇親会①\n\n\n\n20:45 - 20:50\nHow to WorkManager × Rx × Coroutine\
 nCaptainPag(noriyoshi_sato_12)\n\n\n20:50 - 20:55\nUsage使い分け\nう
 つぼ(nt7)\n\n\n20:55 - 21:00\nLT枠募集中\n\n\n\n21:00 - 21:30\n懇
 親会②\n\n\n\n21:30 -\n解散&撤収\n\n\n\n\n※ ML Kitに関して
 は当日に動作確認できるデモ機をご用意しております
 。ぜひ実際の動作を体験してみてください！！\nLT枠募
 集\n5分間のLTをしていただけるスピーカーを募集して
 います。Androidに関することであればテーマは自由です
 。\n発表希望者の方は申し込み時にタイトル宣言して
 いただくか、決まり次第このページ下部の「フィード
 」欄にてタイトルをお知らせ頂けると幸いです。\n過
 去にどのようなLTが行われたかは下記をご覧ください
 。\n\nLIFULL.apk #2\nLIFULL.apk #1\n\n登壇者\n衛藤 剛史 @ 株式
 会社LIFULL\n2014年中途入社。\nLIFULL HOME'SのAndroidアプリ開
 発及びバックエンドAPIの開発・運用を担当。\n現在は
 エンジニアチームのマネージャーとして従事している
 。\n趣味はドラム。  \n鈴木 白斗 @ 株式会社LIFULL\n2018年
 中途入社。\nLIFULL HOME'SのAndroidアプリ開発及びバックエ
 ンドAPIの開発・運用を担当。\n趣味はFilmarksのClip。  \nH
 asik Choi @ 株式会社LIFULL\n2017年中途入社。\nLIFULL HOME’S
 のAndroidアプリの開発を担当。\n趣味は写真撮影。\n懇
 親会\nドリンクや軽食をご用意いたしております。 技
 術交流の場として、ぜひご活用ください。\n会場につ
 いて\nLIFULL HUB株式会社LIFULL 東京都千代田区麹町1丁目4-
 4 2F\n\n半蔵門線 半蔵門駅 3a出口より徒歩2分\n有楽町線 
 麹町駅 3出口より徒歩6分\n\n※ 株式会社LIFULLの半蔵門
 オフィスの2Fです\n当日の受付\nLIFULLビルに入館後、2F
 までいらしてください。 2Fに受付がございますので、
 係りの者にご自身のお名前または、ConnpassIDをお伝えく
 ださい。\nその他\n下記のご用意をしております。\n\nWi
 -Fi\n\n注意事項\n\n技術交流が目的の勉強会ですので、
 知識の共有および、参加者同士の交流を目的としない
 参加はお断りしています。\n参加目的が不適切だと判
 断される場合には、運営側で参加をキャンセルさせて
 いただく場合がございます。\n会場は禁煙となってお
 ります。\n
LOCATION:LIFULL HUB 東京都千代田区麹町1-4-4 2F
URL:https://techplay.jp/event/738972?utm_medium=referral&utm_source=ics&utm
 _campaign=ics
END:VEVENT
END:VCALENDAR
